BEGIN:VCALENDAR
VERSION:2.0
PRODID:-//Clayton Bocce League
METHOD:PUBLISH
BEGIN:VTIMEZONE
TZID:America/Los_Angeles
X-LIC-LOCATION:America/Los_Angeles
BEGIN:DAYLIGHT
TZOFFSETFROM:-0800
TZOFFSETTO:-0700
TZNAME:PDT
DTSTART:20070311T020000
RRULE:FREQ=YEARLY;BYMONTH=3;BYDAY=2SU
END:DAYLIGHT
BEGIN:STANDARD
TZOFFSETFROM:-0700
TZOFFSETTO:-0800
TZNAME:PST
DTSTART:20071104T020000
RRULE:FREQ=YEARLY;BYMONTH=11;BYDAY=1SU
END:STANDARD
END:VTIMEZONE
BEGIN:VEVENT
DTSTAMP:20260428T000000Z
UID:89ccc7f2-b511-4522-a9eb-f582004dd12b@ClaytonBocce
DTSTART;TZID=America/Los_Angeles:20260428T093000
DTEND;TZID=America/Los_Angeles:20260428T120000
STATUS:CONFIRMED
SUMMARY:Straight Shooters vs T3 Perfettas
URL:/League/Schedule/3319
DESCRIPTION:Regular Season match: Straight Shooters vs T3 Pe
 rfettas
LOCATION:Newhall Court 7
END:VEVENT
BEGIN:VEVENT
DTSTAMP:20260428T000000Z
UID:321a96be-fa6a-4dad-9666-2efc6c41ce66@ClaytonBocce
DTSTART;TZID=America/Los_Angeles:20260505T093000
DTEND;TZID=America/Los_Angeles:20260505T120000
STATUS:CONFIRMED
SUMMARY:Straight Shooters vs Hardly Wallbangers
URL:/League/Schedule/3319
DESCRIPTION:Regular Season match: Straight Shooters vs Hardl
 y Wallbangers
LOCATION:Newhall Court 6
END:VEVENT
BEGIN:VEVENT
DTSTAMP:20260428T000000Z
UID:4ce40e46-da0f-4638-84be-77d0e7bade38@ClaytonBocce
DTSTART;TZID=America/Los_Angeles:20260512T093000
DTEND;TZID=America/Los_Angeles:20260512T120000
STATUS:CONFIRMED
SUMMARY:Straight Shooters vs Bocceholics
URL:/League/Schedule/3319
DESCRIPTION:Regular Season match: Straight Shooters vs Bocce
 holics
LOCATION:Newhall Court 4
END:VEVENT
BEGIN:VEVENT
DTSTAMP:20260428T000000Z
UID:3656315c-4f53-43e7-ad41-2b75e4a17f3e@ClaytonBocce
DTSTART;TZID=America/Los_Angeles:20260519T093000
DTEND;TZID=America/Los_Angeles:20260519T120000
STATUS:CONFIRMED
SUMMARY:Straight Shooters vs Clayton Cannolies
URL:/League/Schedule/3319
DESCRIPTION:Regular Season match: Straight Shooters vs Clayt
 on Cannolies
LOCATION:Newhall Court 5
END:VEVENT
BEGIN:VEVENT
DTSTAMP:20260428T000000Z
UID:0fc0f8e4-ce92-46ae-9c09-5a4c71603059@ClaytonBocce
DTSTART;TZID=America/Los_Angeles:20260602T093000
DTEND;TZID=America/Los_Angeles:20260602T120000
STATUS:CONFIRMED
SUMMARY:Straight Shooters vs Bobs Bocce Bunch
URL:/League/Schedule/3319
DESCRIPTION:Regular Season match: Straight Shooters vs Bobs 
 Bocce Bunch
LOCATION:Newhall Court 1
END:VEVENT
BEGIN:VEVENT
DTSTAMP:20260428T000000Z
UID:ab47b45f-9160-442c-848d-df75e030041f@ClaytonBocce
DTSTART;TZID=America/Los_Angeles:20260609T093000
DTEND;TZID=America/Los_Angeles:20260609T120000
STATUS:CONFIRMED
SUMMARY:Straight Shooters vs As Good As It Gets
URL:/League/Schedule/3319
DESCRIPTION:Regular Season match: Straight Shooters vs As Go
 od As It Gets
LOCATION:Newhall Court 8
END:VEVENT
BEGIN:VEVENT
DTSTAMP:20260428T000000Z
UID:0675c93b-228a-4a31-acff-d008b07b0a1e@ClaytonBocce
DTSTART;TZID=America/Los_Angeles:20260616T093000
DTEND;TZID=America/Los_Angeles:20260616T120000
STATUS:CONFIRMED
SUMMARY:Straight Shooters vs Early Bloomers
URL:/League/Schedule/3319
DESCRIPTION:Regular Season match: Straight Shooters vs Early
  Bloomers
LOCATION:Newhall Court 4
END:VEVENT
BEGIN:VEVENT
DTSTAMP:20260428T000000Z
UID:bd755a86-2a78-47e2-b4cd-ea658dfeeefb@ClaytonBocce
DTSTART;TZID=America/Los_Angeles:20260623T093000
DTEND;TZID=America/Los_Angeles:20260623T120000
STATUS:CONFIRMED
SUMMARY:Straight Shooters vs T3 Perfettas
URL:/League/Schedule/3319
DESCRIPTION:Regular Season match: Straight Shooters vs T3 Pe
 rfettas
LOCATION:Newhall Court 3
END:VEVENT
BEGIN:VEVENT
DTSTAMP:20260428T000000Z
UID:ad2b7f05-7e78-475f-b39e-e91b7980fd6b@ClaytonBocce
DTSTART;TZID=America/Los_Angeles:20260630T093000
DTEND;TZID=America/Los_Angeles:20260630T120000
STATUS:CONFIRMED
SUMMARY:Straight Shooters vs Hardly Wallbangers
URL:/League/Schedule/3319
DESCRIPTION:Regular Season match: Straight Shooters vs Hardl
 y Wallbangers
LOCATION:Newhall Court 2
END:VEVENT
BEGIN:VEVENT
DTSTAMP:20260428T000000Z
UID:5b801a1a-3142-4025-8386-df5686b5a264@ClaytonBocce
DTSTART;TZID=America/Los_Angeles:20260714T093000
DTEND;TZID=America/Los_Angeles:20260714T120000
STATUS:CONFIRMED
SUMMARY:Straight Shooters vs Bocceholics
URL:/League/Schedule/3319
DESCRIPTION:Regular Season match: Straight Shooters vs Bocce
 holics
LOCATION:Newhall Court 7
END:VEVENT
BEGIN:VEVENT
DTSTAMP:20260428T000000Z
UID:01291eba-4755-40aa-84ea-05a34754159f@ClaytonBocce
DTSTART;TZID=America/Los_Angeles:20260721T093000
DTEND;TZID=America/Los_Angeles:20260721T120000
STATUS:CONFIRMED
SUMMARY:Straight Shooters vs Clayton Cannolies
URL:/League/Schedule/3319
DESCRIPTION:Regular Season match: Straight Shooters vs Clayt
 on Cannolies
LOCATION:Newhall Court 3
END:VEVENT
BEGIN:VEVENT
DTSTAMP:20260428T000000Z
UID:e30d14ad-a4b5-4dee-9926-81285b86ceef@ClaytonBocce
DTSTART;TZID=America/Los_Angeles:20260728T093000
DTEND;TZID=America/Los_Angeles:20260728T120000
STATUS:CONFIRMED
SUMMARY:Straight Shooters vs Bobs Bocce Bunch
URL:/League/Schedule/3319
DESCRIPTION:Regular Season match: Straight Shooters vs Bobs 
 Bocce Bunch
LOCATION:Newhall Court 5
END:VEVENT
BEGIN:VEVENT
DTSTAMP:20260428T000000Z
UID:0591f3f6-2a29-4349-8904-44ba1e21cc3c@ClaytonBocce
DTSTART;TZID=America/Los_Angeles:20260804T093000
DTEND;TZID=America/Los_Angeles:20260804T120000
STATUS:CONFIRMED
SUMMARY:Straight Shooters vs As Good As It Gets
URL:/League/Schedule/3319
DESCRIPTION:Regular Season match: Straight Shooters vs As Go
 od As It Gets
LOCATION:Newhall Court 1
END:VEVENT
BEGIN:VEVENT
DTSTAMP:20260428T000000Z
UID:8f78fafc-4d68-49e4-b89b-01903b36ed7b@ClaytonBocce
DTSTART;TZID=America/Los_Angeles:20260811T093000
DTEND;TZID=America/Los_Angeles:20260811T120000
STATUS:CONFIRMED
SUMMARY:Straight Shooters vs Early Bloomers
URL:/League/Schedule/3319
DESCRIPTION:Regular Season match: Straight Shooters vs Early
  Bloomers
LOCATION:Newhall Court 6
END:VEVENT
END:VCALENDAR
