BEGIN:VCALENDAR
VERSION:2.0
PRODID:-//Clayton Bocce League
METHOD:PUBLISH
BEGIN:VTIMEZONE
TZID:America/Los_Angeles
X-LIC-LOCATION:America/Los_Angeles
BEGIN:DAYLIGHT
TZOFFSETFROM:-0800
TZOFFSETTO:-0700
TZNAME:PDT
DTSTART:20070311T020000
RRULE:FREQ=YEARLY;BYMONTH=3;BYDAY=2SU
END:DAYLIGHT
BEGIN:STANDARD
TZOFFSETFROM:-0700
TZOFFSETTO:-0800
TZNAME:PST
DTSTART:20071104T020000
RRULE:FREQ=YEARLY;BYMONTH=11;BYDAY=1SU
END:STANDARD
END:VTIMEZONE
BEGIN:VEVENT
DTSTAMP:20260428T000000Z
UID:89ccc7f2-b511-4522-a9eb-f582004dd12b@ClaytonBocce
DTSTART;TZID=America/Los_Angeles:20260428T093000
DTEND;TZID=America/Los_Angeles:20260428T120000
STATUS:CONFIRMED
SUMMARY:T3 Perfettas vs Straight Shooters
URL:/League/Schedule/3314
DESCRIPTION:Regular Season match: T3 Perfettas vs Straight S
 hooters
LOCATION:Newhall Court 7
END:VEVENT
BEGIN:VEVENT
DTSTAMP:20260428T000000Z
UID:caf070ff-3c56-42b4-8d3a-be621d0a6066@ClaytonBocce
DTSTART;TZID=America/Los_Angeles:20260505T093000
DTEND;TZID=America/Los_Angeles:20260505T120000
STATUS:CONFIRMED
SUMMARY:T3 Perfettas vs Bobs Bocce Bunch
URL:/League/Schedule/3314
DESCRIPTION:Regular Season match: T3 Perfettas vs Bobs Bocce
  Bunch
LOCATION:Newhall Court 4
END:VEVENT
BEGIN:VEVENT
DTSTAMP:20260428T000000Z
UID:62a1b0a7-e6c9-4225-982c-8b2f2e6d564f@ClaytonBocce
DTSTART;TZID=America/Los_Angeles:20260512T093000
DTEND;TZID=America/Los_Angeles:20260512T120000
STATUS:CONFIRMED
SUMMARY:T3 Perfettas vs As Good As It Gets
URL:/League/Schedule/3314
DESCRIPTION:Regular Season match: T3 Perfettas vs As Good As
  It Gets
LOCATION:Newhall Court 1
END:VEVENT
BEGIN:VEVENT
DTSTAMP:20260428T000000Z
UID:9602f510-40da-44d6-9de1-5ed72f416595@ClaytonBocce
DTSTART;TZID=America/Los_Angeles:20260519T093000
DTEND;TZID=America/Los_Angeles:20260519T120000
STATUS:CONFIRMED
SUMMARY:T3 Perfettas vs Early Bloomers
URL:/League/Schedule/3314
DESCRIPTION:Regular Season match: T3 Perfettas vs Early Bloo
 mers
LOCATION:Newhall Court 2
END:VEVENT
BEGIN:VEVENT
DTSTAMP:20260428T000000Z
UID:afe6472f-ce1b-45cb-9012-98e8f22930a6@ClaytonBocce
DTSTART;TZID=America/Los_Angeles:20260602T093000
DTEND;TZID=America/Los_Angeles:20260602T120000
STATUS:CONFIRMED
SUMMARY:T3 Perfettas vs Clayton Cannolies
URL:/League/Schedule/3314
DESCRIPTION:Regular Season match: T3 Perfettas vs Clayton Ca
 nnolies
LOCATION:Newhall Court 7
END:VEVENT
BEGIN:VEVENT
DTSTAMP:20260428T000000Z
UID:cb7f0b84-a69f-4230-82b4-22fa22925c10@ClaytonBocce
DTSTART;TZID=America/Los_Angeles:20260609T093000
DTEND;TZID=America/Los_Angeles:20260609T120000
STATUS:CONFIRMED
SUMMARY:T3 Perfettas vs Bocceholics
URL:/League/Schedule/3314
DESCRIPTION:Regular Season match: T3 Perfettas vs Bocceholic
 s
LOCATION:Newhall Court 6
END:VEVENT
BEGIN:VEVENT
DTSTAMP:20260428T000000Z
UID:2aee902c-98c0-48ec-a2fb-8e16335617dd@ClaytonBocce
DTSTART;TZID=America/Los_Angeles:20260616T093000
DTEND;TZID=America/Los_Angeles:20260616T120000
STATUS:CONFIRMED
SUMMARY:T3 Perfettas vs Hardly Wallbangers
URL:/League/Schedule/3314
DESCRIPTION:Regular Season match: T3 Perfettas vs Hardly Wal
 lbangers
LOCATION:Newhall Court 8
END:VEVENT
BEGIN:VEVENT
DTSTAMP:20260428T000000Z
UID:bd755a86-2a78-47e2-b4cd-ea658dfeeefb@ClaytonBocce
DTSTART;TZID=America/Los_Angeles:20260623T093000
DTEND;TZID=America/Los_Angeles:20260623T120000
STATUS:CONFIRMED
SUMMARY:T3 Perfettas vs Straight Shooters
URL:/League/Schedule/3314
DESCRIPTION:Regular Season match: T3 Perfettas vs Straight S
 hooters
LOCATION:Newhall Court 3
END:VEVENT
BEGIN:VEVENT
DTSTAMP:20260428T000000Z
UID:297ac514-397b-4cda-b19b-13c3a9e73b4b@ClaytonBocce
DTSTART;TZID=America/Los_Angeles:20260630T093000
DTEND;TZID=America/Los_Angeles:20260630T120000
STATUS:CONFIRMED
SUMMARY:T3 Perfettas vs Bobs Bocce Bunch
URL:/League/Schedule/3314
DESCRIPTION:Regular Season match: T3 Perfettas vs Bobs Bocce
  Bunch
LOCATION:Newhall Court 1
END:VEVENT
BEGIN:VEVENT
DTSTAMP:20260428T000000Z
UID:d17d797d-1aa5-4f0f-9b13-570d5e295a4b@ClaytonBocce
DTSTART;TZID=America/Los_Angeles:20260714T093000
DTEND;TZID=America/Los_Angeles:20260714T120000
STATUS:CONFIRMED
SUMMARY:T3 Perfettas vs As Good As It Gets
URL:/League/Schedule/3314
DESCRIPTION:Regular Season match: T3 Perfettas vs As Good As
  It Gets
LOCATION:Newhall Court 4
END:VEVENT
BEGIN:VEVENT
DTSTAMP:20260428T000000Z
UID:3b31f0b0-ac2c-421a-95d5-95ae11007deb@ClaytonBocce
DTSTART;TZID=America/Los_Angeles:20260721T093000
DTEND;TZID=America/Los_Angeles:20260721T120000
STATUS:CONFIRMED
SUMMARY:T3 Perfettas vs Early Bloomers
URL:/League/Schedule/3314
DESCRIPTION:Regular Season match: T3 Perfettas vs Early Bloo
 mers
LOCATION:Newhall Court 5
END:VEVENT
BEGIN:VEVENT
DTSTAMP:20260428T000000Z
UID:3329319c-2906-45f7-86d1-bca731aa32bb@ClaytonBocce
DTSTART;TZID=America/Los_Angeles:20260728T093000
DTEND;TZID=America/Los_Angeles:20260728T120000
STATUS:CONFIRMED
SUMMARY:T3 Perfettas vs Clayton Cannolies
URL:/League/Schedule/3314
DESCRIPTION:Regular Season match: T3 Perfettas vs Clayton Ca
 nnolies
LOCATION:Newhall Court 8
END:VEVENT
BEGIN:VEVENT
DTSTAMP:20260428T000000Z
UID:8827d176-fe1c-4e5c-9858-a980c3f9f575@ClaytonBocce
DTSTART;TZID=America/Los_Angeles:20260804T093000
DTEND;TZID=America/Los_Angeles:20260804T120000
STATUS:CONFIRMED
SUMMARY:T3 Perfettas vs Bocceholics
URL:/League/Schedule/3314
DESCRIPTION:Regular Season match: T3 Perfettas vs Bocceholic
 s
LOCATION:Newhall Court 5
END:VEVENT
BEGIN:VEVENT
DTSTAMP:20260428T000000Z
UID:47a1fe94-ffac-4946-aa1f-fd1de6a76743@ClaytonBocce
DTSTART;TZID=America/Los_Angeles:20260811T093000
DTEND;TZID=America/Los_Angeles:20260811T120000
STATUS:CONFIRMED
SUMMARY:T3 Perfettas vs Hardly Wallbangers
URL:/League/Schedule/3314
DESCRIPTION:Regular Season match: T3 Perfettas vs Hardly Wal
 lbangers
LOCATION:Newhall Court 1
END:VEVENT
END:VCALENDAR
