BEGIN:VCALENDAR
VERSION:2.0
PRODID:-//Clayton Bocce League
METHOD:PUBLISH
BEGIN:VTIMEZONE
TZID:America/Los_Angeles
X-LIC-LOCATION:America/Los_Angeles
BEGIN:DAYLIGHT
TZOFFSETFROM:-0800
TZOFFSETTO:-0700
TZNAME:PDT
DTSTART:20070311T020000
RRULE:FREQ=YEARLY;BYMONTH=3;BYDAY=2SU
END:DAYLIGHT
BEGIN:STANDARD
TZOFFSETFROM:-0700
TZOFFSETTO:-0800
TZNAME:PST
DTSTART:20071104T020000
RRULE:FREQ=YEARLY;BYMONTH=11;BYDAY=1SU
END:STANDARD
END:VTIMEZONE
BEGIN:VEVENT
DTSTAMP:20260428T000000Z
UID:9f09f9c4-10f5-44e6-b9eb-41e2c37da1aa@ClaytonBocce
DTSTART;TZID=America/Los_Angeles:20260428T093000
DTEND;TZID=America/Los_Angeles:20260428T120000
STATUS:CONFIRMED
SUMMARY:Bocce Dogs vs Stugots
URL:/League/Schedule/3313
DESCRIPTION:Regular Season match: Bocce Dogs vs Stugots
LOCATION:Newhall Court 4
END:VEVENT
BEGIN:VEVENT
DTSTAMP:20260428T000000Z
UID:5d2c9d87-5150-48c6-a134-cf4cb91afb85@ClaytonBocce
DTSTART;TZID=America/Los_Angeles:20260505T093000
DTEND;TZID=America/Los_Angeles:20260505T120000
STATUS:CONFIRMED
SUMMARY:Bocce Dogs vs The In Crowd
URL:/League/Schedule/3313
DESCRIPTION:Regular Season match: Bocce Dogs vs The In Crowd
LOCATION:Newhall Court 7
END:VEVENT
BEGIN:VEVENT
DTSTAMP:20260428T000000Z
UID:01864a50-76e7-41d9-91df-262db3f36068@ClaytonBocce
DTSTART;TZID=America/Los_Angeles:20260512T093000
DTEND;TZID=America/Los_Angeles:20260512T120000
STATUS:CONFIRMED
SUMMARY:Bocce Dogs vs Pacheco D'Boccieri
URL:/League/Schedule/3313
DESCRIPTION:Regular Season match: Bocce Dogs vs Pacheco D'Bo
 ccieri
LOCATION:Newhall Court 6
END:VEVENT
BEGIN:VEVENT
DTSTAMP:20260428T000000Z
UID:91a044b4-600d-429e-8353-fa1285f059ac@ClaytonBocce
DTSTART;TZID=America/Los_Angeles:20260519T093000
DTEND;TZID=America/Los_Angeles:20260519T120000
STATUS:CONFIRMED
SUMMARY:Bocce Dogs vs Rolling Oldies
URL:/League/Schedule/3313
DESCRIPTION:Regular Season match: Bocce Dogs vs Rolling Oldi
 es
LOCATION:Newhall Court 1
END:VEVENT
BEGIN:VEVENT
DTSTAMP:20260428T000000Z
UID:257ee223-6659-4408-826d-4529e79c9cde@ClaytonBocce
DTSTART;TZID=America/Los_Angeles:20260602T093000
DTEND;TZID=America/Los_Angeles:20260602T120000
STATUS:CONFIRMED
SUMMARY:Bocce Dogs vs Bocce High Rollers
URL:/League/Schedule/3313
DESCRIPTION:Regular Season match: Bocce Dogs vs Bocce High R
 ollers
LOCATION:Newhall Court 2
END:VEVENT
BEGIN:VEVENT
DTSTAMP:20260428T000000Z
UID:59277f9a-af69-4202-8f14-8bbe49a157bc@ClaytonBocce
DTSTART;TZID=America/Los_Angeles:20260609T093000
DTEND;TZID=America/Los_Angeles:20260609T120000
STATUS:CONFIRMED
SUMMARY:Bocce Dogs vs Fossil Farm
URL:/League/Schedule/3313
DESCRIPTION:Regular Season match: Bocce Dogs vs Fossil Farm
LOCATION:Newhall Court 5
END:VEVENT
BEGIN:VEVENT
DTSTAMP:20260428T000000Z
UID:32de2130-3173-441e-a7f5-6a730610225b@ClaytonBocce
DTSTART;TZID=America/Los_Angeles:20260616T093000
DTEND;TZID=America/Los_Angeles:20260616T120000
STATUS:CONFIRMED
SUMMARY:Bocce Dogs vs Martinez
URL:/League/Schedule/3313
DESCRIPTION:Regular Season match: Bocce Dogs vs Martinez
LOCATION:Newhall Court 3
END:VEVENT
BEGIN:VEVENT
DTSTAMP:20260428T000000Z
UID:0ea90547-d715-4b2f-be08-9e2173bcd590@ClaytonBocce
DTSTART;TZID=America/Los_Angeles:20260623T093000
DTEND;TZID=America/Los_Angeles:20260623T120000
STATUS:CONFIRMED
SUMMARY:Bocce Dogs vs Stugots
URL:/League/Schedule/3313
DESCRIPTION:Regular Season match: Bocce Dogs vs Stugots
LOCATION:Newhall Court 7
END:VEVENT
BEGIN:VEVENT
DTSTAMP:20260428T000000Z
UID:92ca68d1-69dd-4630-bc7e-615f6d45a112@ClaytonBocce
DTSTART;TZID=America/Los_Angeles:20260630T093000
DTEND;TZID=America/Los_Angeles:20260630T120000
STATUS:CONFIRMED
SUMMARY:Bocce Dogs vs The In Crowd
URL:/League/Schedule/3313
DESCRIPTION:Regular Season match: Bocce Dogs vs The In Crowd
LOCATION:Newhall Court 6
END:VEVENT
BEGIN:VEVENT
DTSTAMP:20260428T000000Z
UID:05ed7314-0d71-4293-92ff-a62cfeabc979@ClaytonBocce
DTSTART;TZID=America/Los_Angeles:20260714T093000
DTEND;TZID=America/Los_Angeles:20260714T120000
STATUS:CONFIRMED
SUMMARY:Bocce Dogs vs Pacheco D'Boccieri
URL:/League/Schedule/3313
DESCRIPTION:Regular Season match: Bocce Dogs vs Pacheco D'Bo
 ccieri
LOCATION:Newhall Court 5
END:VEVENT
BEGIN:VEVENT
DTSTAMP:20260428T000000Z
UID:9013cff6-c98d-42b1-8f08-d8f8740f3a81@ClaytonBocce
DTSTART;TZID=America/Los_Angeles:20260721T093000
DTEND;TZID=America/Los_Angeles:20260721T120000
STATUS:CONFIRMED
SUMMARY:Bocce Dogs vs Rolling Oldies
URL:/League/Schedule/3313
DESCRIPTION:Regular Season match: Bocce Dogs vs Rolling Oldi
 es
LOCATION:Newhall Court 8
END:VEVENT
BEGIN:VEVENT
DTSTAMP:20260428T000000Z
UID:0b429f01-763a-4e13-9a50-ccca94a4c0db@ClaytonBocce
DTSTART;TZID=America/Los_Angeles:20260728T093000
DTEND;TZID=America/Los_Angeles:20260728T120000
STATUS:CONFIRMED
SUMMARY:Bocce Dogs vs Bocce High Rollers
URL:/League/Schedule/3313
DESCRIPTION:Regular Season match: Bocce Dogs vs Bocce High R
 ollers
LOCATION:Newhall Court 1
END:VEVENT
BEGIN:VEVENT
DTSTAMP:20260428T000000Z
UID:571a0ab1-f35b-4319-90e8-32b83547bd8e@ClaytonBocce
DTSTART;TZID=America/Los_Angeles:20260804T093000
DTEND;TZID=America/Los_Angeles:20260804T120000
STATUS:CONFIRMED
SUMMARY:Bocce Dogs vs Fossil Farm
URL:/League/Schedule/3313
DESCRIPTION:Regular Season match: Bocce Dogs vs Fossil Farm
LOCATION:Newhall Court 3
END:VEVENT
BEGIN:VEVENT
DTSTAMP:20260428T000000Z
UID:ab31512d-388d-4a03-af2f-c7870f49379a@ClaytonBocce
DTSTART;TZID=America/Los_Angeles:20260811T093000
DTEND;TZID=America/Los_Angeles:20260811T120000
STATUS:CONFIRMED
SUMMARY:Bocce Dogs vs Martinez
URL:/League/Schedule/3313
DESCRIPTION:Regular Season match: Bocce Dogs vs Martinez
LOCATION:Newhall Court 4
END:VEVENT
END:VCALENDAR
