BEGIN:VCALENDAR
VERSION:2.0
PRODID:-//Clayton Bocce League
METHOD:PUBLISH
BEGIN:VTIMEZONE
TZID:America/Los_Angeles
X-LIC-LOCATION:America/Los_Angeles
BEGIN:DAYLIGHT
TZOFFSETFROM:-0800
TZOFFSETTO:-0700
TZNAME:PDT
DTSTART:20070311T020000
RRULE:FREQ=YEARLY;BYMONTH=3;BYDAY=2SU
END:DAYLIGHT
BEGIN:STANDARD
TZOFFSETFROM:-0700
TZOFFSETTO:-0800
TZNAME:PST
DTSTART:20071104T020000
RRULE:FREQ=YEARLY;BYMONTH=11;BYDAY=1SU
END:STANDARD
END:VTIMEZONE
BEGIN:VEVENT
DTSTAMP:20260428T000000Z
UID:9f09f9c4-10f5-44e6-b9eb-41e2c37da1aa@ClaytonBocce
DTSTART;TZID=America/Los_Angeles:20260428T093000
DTEND;TZID=America/Los_Angeles:20260428T120000
STATUS:CONFIRMED
SUMMARY:Stugots vs Bocce Dogs
URL:/League/Schedule/3321
DESCRIPTION:Regular Season match: Stugots vs Bocce Dogs
LOCATION:Newhall Court 4
END:VEVENT
BEGIN:VEVENT
DTSTAMP:20260428T000000Z
UID:a5dc6212-5813-4305-a0d1-cb2fce357bd9@ClaytonBocce
DTSTART;TZID=America/Los_Angeles:20260505T093000
DTEND;TZID=America/Los_Angeles:20260505T120000
STATUS:CONFIRMED
SUMMARY:Stugots vs Martinez
URL:/League/Schedule/3321
DESCRIPTION:Regular Season match: Stugots vs Martinez
LOCATION:Newhall Court 1
END:VEVENT
BEGIN:VEVENT
DTSTAMP:20260428T000000Z
UID:80d8195b-ad8d-448d-8981-4422f5c29679@ClaytonBocce
DTSTART;TZID=America/Los_Angeles:20260512T093000
DTEND;TZID=America/Los_Angeles:20260512T120000
STATUS:CONFIRMED
SUMMARY:Stugots vs Fossil Farm
URL:/League/Schedule/3321
DESCRIPTION:Regular Season match: Stugots vs Fossil Farm
LOCATION:Newhall Court 3
END:VEVENT
BEGIN:VEVENT
DTSTAMP:20260428T000000Z
UID:a35dd679-aba6-452c-a6a7-b52ace8f58c3@ClaytonBocce
DTSTART;TZID=America/Los_Angeles:20260519T093000
DTEND;TZID=America/Los_Angeles:20260519T120000
STATUS:CONFIRMED
SUMMARY:Stugots vs Bocce High Rollers
URL:/League/Schedule/3321
DESCRIPTION:Regular Season match: Stugots vs Bocce High Roll
 ers
LOCATION:Newhall Court 6
END:VEVENT
BEGIN:VEVENT
DTSTAMP:20260428T000000Z
UID:af95bafc-fe5f-4067-aa97-abbf893e2dd1@ClaytonBocce
DTSTART;TZID=America/Los_Angeles:20260602T093000
DTEND;TZID=America/Los_Angeles:20260602T120000
STATUS:CONFIRMED
SUMMARY:Stugots vs The In Crowd
URL:/League/Schedule/3321
DESCRIPTION:Regular Season match: Stugots vs The In Crowd
LOCATION:Newhall Court 8
END:VEVENT
BEGIN:VEVENT
DTSTAMP:20260428T000000Z
UID:ae973317-b46f-42f9-be0a-12332d055f5a@ClaytonBocce
DTSTART;TZID=America/Los_Angeles:20260609T093000
DTEND;TZID=America/Los_Angeles:20260609T120000
STATUS:CONFIRMED
SUMMARY:Stugots vs Pacheco D'Boccieri
URL:/League/Schedule/3321
DESCRIPTION:Regular Season match: Stugots vs Pacheco D'Bocci
 eri
LOCATION:Newhall Court 2
END:VEVENT
BEGIN:VEVENT
DTSTAMP:20260428T000000Z
UID:bfe5f35f-3069-465d-889f-ca3aa1ddca06@ClaytonBocce
DTSTART;TZID=America/Los_Angeles:20260616T093000
DTEND;TZID=America/Los_Angeles:20260616T120000
STATUS:CONFIRMED
SUMMARY:Stugots vs Rolling Oldies
URL:/League/Schedule/3321
DESCRIPTION:Regular Season match: Stugots vs Rolling Oldies
LOCATION:Newhall Court 6
END:VEVENT
BEGIN:VEVENT
DTSTAMP:20260428T000000Z
UID:0ea90547-d715-4b2f-be08-9e2173bcd590@ClaytonBocce
DTSTART;TZID=America/Los_Angeles:20260623T093000
DTEND;TZID=America/Los_Angeles:20260623T120000
STATUS:CONFIRMED
SUMMARY:Stugots vs Bocce Dogs
URL:/League/Schedule/3321
DESCRIPTION:Regular Season match: Stugots vs Bocce Dogs
LOCATION:Newhall Court 7
END:VEVENT
BEGIN:VEVENT
DTSTAMP:20260428T000000Z
UID:3f134658-01d2-4e62-82cc-1216fb2edfe4@ClaytonBocce
DTSTART;TZID=America/Los_Angeles:20260630T093000
DTEND;TZID=America/Los_Angeles:20260630T120000
STATUS:CONFIRMED
SUMMARY:Stugots vs Martinez
URL:/League/Schedule/3321
DESCRIPTION:Regular Season match: Stugots vs Martinez
LOCATION:Newhall Court 5
END:VEVENT
BEGIN:VEVENT
DTSTAMP:20260428T000000Z
UID:11abf146-c5da-4f28-9547-a38d18adb064@ClaytonBocce
DTSTART;TZID=America/Los_Angeles:20260714T093000
DTEND;TZID=America/Los_Angeles:20260714T120000
STATUS:CONFIRMED
SUMMARY:Stugots vs Fossil Farm
URL:/League/Schedule/3321
DESCRIPTION:Regular Season match: Stugots vs Fossil Farm
LOCATION:Newhall Court 2
END:VEVENT
BEGIN:VEVENT
DTSTAMP:20260428T000000Z
UID:a97dafdd-9e25-4e29-a548-7ef84f0c1370@ClaytonBocce
DTSTART;TZID=America/Los_Angeles:20260721T093000
DTEND;TZID=America/Los_Angeles:20260721T120000
STATUS:CONFIRMED
SUMMARY:Stugots vs Bocce High Rollers
URL:/League/Schedule/3321
DESCRIPTION:Regular Season match: Stugots vs Bocce High Roll
 ers
LOCATION:Newhall Court 4
END:VEVENT
BEGIN:VEVENT
DTSTAMP:20260428T000000Z
UID:5a9c71fa-03c4-4ba9-98bd-2b8631eca299@ClaytonBocce
DTSTART;TZID=America/Los_Angeles:20260728T093000
DTEND;TZID=America/Los_Angeles:20260728T120000
STATUS:CONFIRMED
SUMMARY:Stugots vs The In Crowd
URL:/League/Schedule/3321
DESCRIPTION:Regular Season match: Stugots vs The In Crowd
LOCATION:Newhall Court 7
END:VEVENT
BEGIN:VEVENT
DTSTAMP:20260428T000000Z
UID:a7307bba-b0d2-4940-b7b9-ee8e6124c71e@ClaytonBocce
DTSTART;TZID=America/Los_Angeles:20260804T093000
DTEND;TZID=America/Los_Angeles:20260804T120000
STATUS:CONFIRMED
SUMMARY:Stugots vs Pacheco D'Boccieri
URL:/League/Schedule/3321
DESCRIPTION:Regular Season match: Stugots vs Pacheco D'Bocci
 eri
LOCATION:Newhall Court 6
END:VEVENT
BEGIN:VEVENT
DTSTAMP:20260428T000000Z
UID:8376e00a-42dd-49fb-892d-036027ae6107@ClaytonBocce
DTSTART;TZID=America/Los_Angeles:20260811T093000
DTEND;TZID=America/Los_Angeles:20260811T120000
STATUS:CONFIRMED
SUMMARY:Stugots vs Rolling Oldies
URL:/League/Schedule/3321
DESCRIPTION:Regular Season match: Stugots vs Rolling Oldies
LOCATION:Newhall Court 5
END:VEVENT
END:VCALENDAR
