BEGIN:VCALENDAR
VERSION:2.0
PRODID:-//Clayton Bocce League
METHOD:PUBLISH
BEGIN:VTIMEZONE
TZID:America/Los_Angeles
X-LIC-LOCATION:America/Los_Angeles
BEGIN:DAYLIGHT
TZOFFSETFROM:-0800
TZOFFSETTO:-0700
TZNAME:PDT
DTSTART:20070311T020000
RRULE:FREQ=YEARLY;BYMONTH=3;BYDAY=2SU
END:DAYLIGHT
BEGIN:STANDARD
TZOFFSETFROM:-0700
TZOFFSETTO:-0800
TZNAME:PST
DTSTART:20071104T020000
RRULE:FREQ=YEARLY;BYMONTH=11;BYDAY=1SU
END:STANDARD
END:VTIMEZONE
BEGIN:VEVENT
DTSTAMP:20260428T000000Z
UID:42871066-7018-4fad-9c4f-5ffe1170433e@ClaytonBocce
DTSTART;TZID=America/Los_Angeles:20260428T093000
DTEND;TZID=America/Los_Angeles:20260428T120000
STATUS:CONFIRMED
SUMMARY:Bobs Bocce Bunch vs Clayton Cannolies
URL:/League/Schedule/3312
DESCRIPTION:Regular Season match: Bobs Bocce Bunch vs Clayto
 n Cannolies
LOCATION:Newhall Court 6
END:VEVENT
BEGIN:VEVENT
DTSTAMP:20260428T000000Z
UID:caf070ff-3c56-42b4-8d3a-be621d0a6066@ClaytonBocce
DTSTART;TZID=America/Los_Angeles:20260505T093000
DTEND;TZID=America/Los_Angeles:20260505T120000
STATUS:CONFIRMED
SUMMARY:Bobs Bocce Bunch vs T3 Perfettas
URL:/League/Schedule/3312
DESCRIPTION:Regular Season match: Bobs Bocce Bunch vs T3 Per
 fettas
LOCATION:Newhall Court 4
END:VEVENT
BEGIN:VEVENT
DTSTAMP:20260428T000000Z
UID:71e1f1d0-134e-4aaf-9a8a-d8994f3797dc@ClaytonBocce
DTSTART;TZID=America/Los_Angeles:20260512T093000
DTEND;TZID=America/Los_Angeles:20260512T120000
STATUS:CONFIRMED
SUMMARY:Bobs Bocce Bunch vs Hardly Wallbangers
URL:/League/Schedule/3312
DESCRIPTION:Regular Season match: Bobs Bocce Bunch vs Hardly
  Wallbangers
LOCATION:Newhall Court 2
END:VEVENT
BEGIN:VEVENT
DTSTAMP:20260428T000000Z
UID:95bd59bf-7f1d-42e2-bbaa-59b5af581cea@ClaytonBocce
DTSTART;TZID=America/Los_Angeles:20260519T093000
DTEND;TZID=America/Los_Angeles:20260519T120000
STATUS:CONFIRMED
SUMMARY:Bobs Bocce Bunch vs Bocceholics
URL:/League/Schedule/3312
DESCRIPTION:Regular Season match: Bobs Bocce Bunch vs Bocceh
 olics
LOCATION:Newhall Court 3
END:VEVENT
BEGIN:VEVENT
DTSTAMP:20260428T000000Z
UID:0fc0f8e4-ce92-46ae-9c09-5a4c71603059@ClaytonBocce
DTSTART;TZID=America/Los_Angeles:20260602T093000
DTEND;TZID=America/Los_Angeles:20260602T120000
STATUS:CONFIRMED
SUMMARY:Bobs Bocce Bunch vs Straight Shooters
URL:/League/Schedule/3312
DESCRIPTION:Regular Season match: Bobs Bocce Bunch vs Straig
 ht Shooters
LOCATION:Newhall Court 1
END:VEVENT
BEGIN:VEVENT
DTSTAMP:20260428T000000Z
UID:e671cf3b-b2e7-4972-b479-87e2e0d4db7a@ClaytonBocce
DTSTART;TZID=America/Los_Angeles:20260609T093000
DTEND;TZID=America/Los_Angeles:20260609T120000
STATUS:CONFIRMED
SUMMARY:Bobs Bocce Bunch vs Early Bloomers
URL:/League/Schedule/3312
DESCRIPTION:Regular Season match: Bobs Bocce Bunch vs Early 
 Bloomers
LOCATION:Newhall Court 7
END:VEVENT
BEGIN:VEVENT
DTSTAMP:20260428T000000Z
UID:65133a16-8342-4874-9e54-ee5d819054d9@ClaytonBocce
DTSTART;TZID=America/Los_Angeles:20260616T093000
DTEND;TZID=America/Los_Angeles:20260616T120000
STATUS:CONFIRMED
SUMMARY:Bobs Bocce Bunch vs As Good As It Gets
URL:/League/Schedule/3312
DESCRIPTION:Regular Season match: Bobs Bocce Bunch vs As Goo
 d As It Gets
LOCATION:Newhall Court 5
END:VEVENT
BEGIN:VEVENT
DTSTAMP:20260428T000000Z
UID:a51a5607-6364-4447-84f1-a622956e2609@ClaytonBocce
DTSTART;TZID=America/Los_Angeles:20260623T093000
DTEND;TZID=America/Los_Angeles:20260623T120000
STATUS:CONFIRMED
SUMMARY:Bobs Bocce Bunch vs Clayton Cannolies
URL:/League/Schedule/3312
DESCRIPTION:Regular Season match: Bobs Bocce Bunch vs Clayto
 n Cannolies
LOCATION:Newhall Court 4
END:VEVENT
BEGIN:VEVENT
DTSTAMP:20260428T000000Z
UID:297ac514-397b-4cda-b19b-13c3a9e73b4b@ClaytonBocce
DTSTART;TZID=America/Los_Angeles:20260630T093000
DTEND;TZID=America/Los_Angeles:20260630T120000
STATUS:CONFIRMED
SUMMARY:Bobs Bocce Bunch vs T3 Perfettas
URL:/League/Schedule/3312
DESCRIPTION:Regular Season match: Bobs Bocce Bunch vs T3 Per
 fettas
LOCATION:Newhall Court 1
END:VEVENT
BEGIN:VEVENT
DTSTAMP:20260428T000000Z
UID:197d3fb0-c518-4304-b5dc-57653cba84ac@ClaytonBocce
DTSTART;TZID=America/Los_Angeles:20260714T093000
DTEND;TZID=America/Los_Angeles:20260714T120000
STATUS:CONFIRMED
SUMMARY:Bobs Bocce Bunch vs Hardly Wallbangers
URL:/League/Schedule/3312
DESCRIPTION:Regular Season match: Bobs Bocce Bunch vs Hardly
  Wallbangers
LOCATION:Newhall Court 3
END:VEVENT
BEGIN:VEVENT
DTSTAMP:20260428T000000Z
UID:c4515940-c0a8-497c-ad71-7e33d1a118f1@ClaytonBocce
DTSTART;TZID=America/Los_Angeles:20260721T093000
DTEND;TZID=America/Los_Angeles:20260721T120000
STATUS:CONFIRMED
SUMMARY:Bobs Bocce Bunch vs Bocceholics
URL:/League/Schedule/3312
DESCRIPTION:Regular Season match: Bobs Bocce Bunch vs Bocceh
 olics
LOCATION:Newhall Court 2
END:VEVENT
BEGIN:VEVENT
DTSTAMP:20260428T000000Z
UID:e30d14ad-a4b5-4dee-9926-81285b86ceef@ClaytonBocce
DTSTART;TZID=America/Los_Angeles:20260728T093000
DTEND;TZID=America/Los_Angeles:20260728T120000
STATUS:CONFIRMED
SUMMARY:Bobs Bocce Bunch vs Straight Shooters
URL:/League/Schedule/3312
DESCRIPTION:Regular Season match: Bobs Bocce Bunch vs Straig
 ht Shooters
LOCATION:Newhall Court 5
END:VEVENT
BEGIN:VEVENT
DTSTAMP:20260428T000000Z
UID:be5d385c-ae0a-4181-a8f7-e34b53cd68cb@ClaytonBocce
DTSTART;TZID=America/Los_Angeles:20260804T093000
DTEND;TZID=America/Los_Angeles:20260804T120000
STATUS:CONFIRMED
SUMMARY:Bobs Bocce Bunch vs Early Bloomers
URL:/League/Schedule/3312
DESCRIPTION:Regular Season match: Bobs Bocce Bunch vs Early 
 Bloomers
LOCATION:Newhall Court 8
END:VEVENT
BEGIN:VEVENT
DTSTAMP:20260428T000000Z
UID:a38c4abc-205f-4404-87ef-b7c7d249aa64@ClaytonBocce
DTSTART;TZID=America/Los_Angeles:20260811T093000
DTEND;TZID=America/Los_Angeles:20260811T120000
STATUS:CONFIRMED
SUMMARY:Bobs Bocce Bunch vs As Good As It Gets
URL:/League/Schedule/3312
DESCRIPTION:Regular Season match: Bobs Bocce Bunch vs As Goo
 d As It Gets
LOCATION:Newhall Court 7
END:VEVENT
END:VCALENDAR
