BEGIN:VCALENDAR
VERSION:2.0
PRODID:-//Clayton Bocce League
METHOD:PUBLISH
BEGIN:VTIMEZONE
TZID:America/Los_Angeles
X-LIC-LOCATION:America/Los_Angeles
BEGIN:DAYLIGHT
TZOFFSETFROM:-0800
TZOFFSETTO:-0700
TZNAME:PDT
DTSTART:20070311T020000
RRULE:FREQ=YEARLY;BYMONTH=3;BYDAY=2SU
END:DAYLIGHT
BEGIN:STANDARD
TZOFFSETFROM:-0700
TZOFFSETTO:-0800
TZNAME:PST
DTSTART:20071104T020000
RRULE:FREQ=YEARLY;BYMONTH=11;BYDAY=1SU
END:STANDARD
END:VTIMEZONE
BEGIN:VEVENT
DTSTAMP:20260428T000000Z
UID:42871066-7018-4fad-9c4f-5ffe1170433e@ClaytonBocce
DTSTART;TZID=America/Los_Angeles:20260428T093000
DTEND;TZID=America/Los_Angeles:20260428T120000
STATUS:CONFIRMED
SUMMARY:Clayton Cannolies vs Bobs Bocce Bunch
URL:/League/Schedule/3320
DESCRIPTION:Regular Season match: Clayton Cannolies vs Bobs 
 Bocce Bunch
LOCATION:Newhall Court 6
END:VEVENT
BEGIN:VEVENT
DTSTAMP:20260428T000000Z
UID:4572c381-9d76-4644-ab15-88f10184c834@ClaytonBocce
DTSTART;TZID=America/Los_Angeles:20260505T093000
DTEND;TZID=America/Los_Angeles:20260505T120000
STATUS:CONFIRMED
SUMMARY:Clayton Cannolies vs As Good As It Gets
URL:/League/Schedule/3320
DESCRIPTION:Regular Season match: Clayton Cannolies vs As Go
 od As It Gets
LOCATION:Newhall Court 2
END:VEVENT
BEGIN:VEVENT
DTSTAMP:20260428T000000Z
UID:30a91a76-b104-446c-8051-8afdeac57262@ClaytonBocce
DTSTART;TZID=America/Los_Angeles:20260512T093000
DTEND;TZID=America/Los_Angeles:20260512T120000
STATUS:CONFIRMED
SUMMARY:Clayton Cannolies vs Early Bloomers
URL:/League/Schedule/3320
DESCRIPTION:Regular Season match: Clayton Cannolies vs Early
  Bloomers
LOCATION:Newhall Court 8
END:VEVENT
BEGIN:VEVENT
DTSTAMP:20260428T000000Z
UID:3656315c-4f53-43e7-ad41-2b75e4a17f3e@ClaytonBocce
DTSTART;TZID=America/Los_Angeles:20260519T093000
DTEND;TZID=America/Los_Angeles:20260519T120000
STATUS:CONFIRMED
SUMMARY:Clayton Cannolies vs Straight Shooters
URL:/League/Schedule/3320
DESCRIPTION:Regular Season match: Clayton Cannolies vs Strai
 ght Shooters
LOCATION:Newhall Court 5
END:VEVENT
BEGIN:VEVENT
DTSTAMP:20260428T000000Z
UID:afe6472f-ce1b-45cb-9012-98e8f22930a6@ClaytonBocce
DTSTART;TZID=America/Los_Angeles:20260602T093000
DTEND;TZID=America/Los_Angeles:20260602T120000
STATUS:CONFIRMED
SUMMARY:Clayton Cannolies vs T3 Perfettas
URL:/League/Schedule/3320
DESCRIPTION:Regular Season match: Clayton Cannolies vs T3 Pe
 rfettas
LOCATION:Newhall Court 7
END:VEVENT
BEGIN:VEVENT
DTSTAMP:20260428T000000Z
UID:3d9c5e53-fdbb-4e15-86a5-caade2a1deda@ClaytonBocce
DTSTART;TZID=America/Los_Angeles:20260609T093000
DTEND;TZID=America/Los_Angeles:20260609T120000
STATUS:CONFIRMED
SUMMARY:Clayton Cannolies vs Hardly Wallbangers
URL:/League/Schedule/3320
DESCRIPTION:Regular Season match: Clayton Cannolies vs Hardl
 y Wallbangers
LOCATION:Newhall Court 1
END:VEVENT
BEGIN:VEVENT
DTSTAMP:20260428T000000Z
UID:c50e867d-2486-482b-9448-2296ac658c33@ClaytonBocce
DTSTART;TZID=America/Los_Angeles:20260616T093000
DTEND;TZID=America/Los_Angeles:20260616T120000
STATUS:CONFIRMED
SUMMARY:Clayton Cannolies vs Bocceholics
URL:/League/Schedule/3320
DESCRIPTION:Regular Season match: Clayton Cannolies vs Bocce
 holics
LOCATION:Newhall Court 2
END:VEVENT
BEGIN:VEVENT
DTSTAMP:20260428T000000Z
UID:a51a5607-6364-4447-84f1-a622956e2609@ClaytonBocce
DTSTART;TZID=America/Los_Angeles:20260623T093000
DTEND;TZID=America/Los_Angeles:20260623T120000
STATUS:CONFIRMED
SUMMARY:Clayton Cannolies vs Bobs Bocce Bunch
URL:/League/Schedule/3320
DESCRIPTION:Regular Season match: Clayton Cannolies vs Bobs 
 Bocce Bunch
LOCATION:Newhall Court 4
END:VEVENT
BEGIN:VEVENT
DTSTAMP:20260428T000000Z
UID:68024da2-7d82-4ae0-a95c-ba269b22cb2d@ClaytonBocce
DTSTART;TZID=America/Los_Angeles:20260630T093000
DTEND;TZID=America/Los_Angeles:20260630T120000
STATUS:CONFIRMED
SUMMARY:Clayton Cannolies vs As Good As It Gets
URL:/League/Schedule/3320
DESCRIPTION:Regular Season match: Clayton Cannolies vs As Go
 od As It Gets
LOCATION:Newhall Court 7
END:VEVENT
BEGIN:VEVENT
DTSTAMP:20260428T000000Z
UID:f023562f-7339-4f6c-8f9d-010f8948ddf4@ClaytonBocce
DTSTART;TZID=America/Los_Angeles:20260714T093000
DTEND;TZID=America/Los_Angeles:20260714T120000
STATUS:CONFIRMED
SUMMARY:Clayton Cannolies vs Early Bloomers
URL:/League/Schedule/3320
DESCRIPTION:Regular Season match: Clayton Cannolies vs Early
  Bloomers
LOCATION:Newhall Court 1
END:VEVENT
BEGIN:VEVENT
DTSTAMP:20260428T000000Z
UID:01291eba-4755-40aa-84ea-05a34754159f@ClaytonBocce
DTSTART;TZID=America/Los_Angeles:20260721T093000
DTEND;TZID=America/Los_Angeles:20260721T120000
STATUS:CONFIRMED
SUMMARY:Clayton Cannolies vs Straight Shooters
URL:/League/Schedule/3320
DESCRIPTION:Regular Season match: Clayton Cannolies vs Strai
 ght Shooters
LOCATION:Newhall Court 3
END:VEVENT
BEGIN:VEVENT
DTSTAMP:20260428T000000Z
UID:3329319c-2906-45f7-86d1-bca731aa32bb@ClaytonBocce
DTSTART;TZID=America/Los_Angeles:20260728T093000
DTEND;TZID=America/Los_Angeles:20260728T120000
STATUS:CONFIRMED
SUMMARY:Clayton Cannolies vs T3 Perfettas
URL:/League/Schedule/3320
DESCRIPTION:Regular Season match: Clayton Cannolies vs T3 Pe
 rfettas
LOCATION:Newhall Court 8
END:VEVENT
BEGIN:VEVENT
DTSTAMP:20260428T000000Z
UID:23b14882-70b5-4ec4-a84b-768a37f37e74@ClaytonBocce
DTSTART;TZID=America/Los_Angeles:20260804T093000
DTEND;TZID=America/Los_Angeles:20260804T120000
STATUS:CONFIRMED
SUMMARY:Clayton Cannolies vs Hardly Wallbangers
URL:/League/Schedule/3320
DESCRIPTION:Regular Season match: Clayton Cannolies vs Hardl
 y Wallbangers
LOCATION:Newhall Court 7
END:VEVENT
BEGIN:VEVENT
DTSTAMP:20260428T000000Z
UID:140628f4-816c-4730-8ecb-8afed679b75f@ClaytonBocce
DTSTART;TZID=America/Los_Angeles:20260811T093000
DTEND;TZID=America/Los_Angeles:20260811T120000
STATUS:CONFIRMED
SUMMARY:Clayton Cannolies vs Bocceholics
URL:/League/Schedule/3320
DESCRIPTION:Regular Season match: Clayton Cannolies vs Bocce
 holics
LOCATION:Newhall Court 3
END:VEVENT
END:VCALENDAR
