BEGIN:VCALENDAR
VERSION:2.0
PRODID:-//Clayton Bocce League
METHOD:PUBLISH
BEGIN:VTIMEZONE
TZID:America/Los_Angeles
X-LIC-LOCATION:America/Los_Angeles
BEGIN:DAYLIGHT
TZOFFSETFROM:-0800
TZOFFSETTO:-0700
TZNAME:PDT
DTSTART:20070311T020000
RRULE:FREQ=YEARLY;BYMONTH=3;BYDAY=2SU
END:DAYLIGHT
BEGIN:STANDARD
TZOFFSETFROM:-0700
TZOFFSETTO:-0800
TZNAME:PST
DTSTART:20071104T020000
RRULE:FREQ=YEARLY;BYMONTH=11;BYDAY=1SU
END:STANDARD
END:VTIMEZONE
BEGIN:VEVENT
DTSTAMP:20260428T000000Z
UID:7c8165c1-46f9-4df7-9092-4c999caf72a9@ClaytonBocce
DTSTART;TZID=America/Los_Angeles:20260428T093000
DTEND;TZID=America/Los_Angeles:20260428T120000
STATUS:CONFIRMED
SUMMARY:Hardly Wallbangers vs Early Bloomers
URL:/League/Schedule/3310
DESCRIPTION:Regular Season match: Hardly Wallbangers vs Earl
 y Bloomers
LOCATION:Newhall Court 5
END:VEVENT
BEGIN:VEVENT
DTSTAMP:20260428T000000Z
UID:321a96be-fa6a-4dad-9666-2efc6c41ce66@ClaytonBocce
DTSTART;TZID=America/Los_Angeles:20260505T093000
DTEND;TZID=America/Los_Angeles:20260505T120000
STATUS:CONFIRMED
SUMMARY:Hardly Wallbangers vs Straight Shooters
URL:/League/Schedule/3310
DESCRIPTION:Regular Season match: Hardly Wallbangers vs Stra
 ight Shooters
LOCATION:Newhall Court 6
END:VEVENT
BEGIN:VEVENT
DTSTAMP:20260428T000000Z
UID:71e1f1d0-134e-4aaf-9a8a-d8994f3797dc@ClaytonBocce
DTSTART;TZID=America/Los_Angeles:20260512T093000
DTEND;TZID=America/Los_Angeles:20260512T120000
STATUS:CONFIRMED
SUMMARY:Hardly Wallbangers vs Bobs Bocce Bunch
URL:/League/Schedule/3310
DESCRIPTION:Regular Season match: Hardly Wallbangers vs Bobs
  Bocce Bunch
LOCATION:Newhall Court 2
END:VEVENT
BEGIN:VEVENT
DTSTAMP:20260428T000000Z
UID:8e10c705-8f27-46fe-970a-c9b5cbc19245@ClaytonBocce
DTSTART;TZID=America/Los_Angeles:20260519T093000
DTEND;TZID=America/Los_Angeles:20260519T120000
STATUS:CONFIRMED
SUMMARY:Hardly Wallbangers vs As Good As It Gets
URL:/League/Schedule/3310
DESCRIPTION:Regular Season match: Hardly Wallbangers vs As G
 ood As It Gets
LOCATION:Newhall Court 4
END:VEVENT
BEGIN:VEVENT
DTSTAMP:20260428T000000Z
UID:2c6acb9e-b336-4d1f-abe7-a4df9b28e0dd@ClaytonBocce
DTSTART;TZID=America/Los_Angeles:20260602T093000
DTEND;TZID=America/Los_Angeles:20260602T120000
STATUS:CONFIRMED
SUMMARY:Hardly Wallbangers vs Bocceholics
URL:/League/Schedule/3310
DESCRIPTION:Regular Season match: Hardly Wallbangers vs Bocc
 eholics
LOCATION:Newhall Court 5
END:VEVENT
BEGIN:VEVENT
DTSTAMP:20260428T000000Z
UID:3d9c5e53-fdbb-4e15-86a5-caade2a1deda@ClaytonBocce
DTSTART;TZID=America/Los_Angeles:20260609T093000
DTEND;TZID=America/Los_Angeles:20260609T120000
STATUS:CONFIRMED
SUMMARY:Hardly Wallbangers vs Clayton Cannolies
URL:/League/Schedule/3310
DESCRIPTION:Regular Season match: Hardly Wallbangers vs Clay
 ton Cannolies
LOCATION:Newhall Court 1
END:VEVENT
BEGIN:VEVENT
DTSTAMP:20260428T000000Z
UID:2aee902c-98c0-48ec-a2fb-8e16335617dd@ClaytonBocce
DTSTART;TZID=America/Los_Angeles:20260616T093000
DTEND;TZID=America/Los_Angeles:20260616T120000
STATUS:CONFIRMED
SUMMARY:Hardly Wallbangers vs T3 Perfettas
URL:/League/Schedule/3310
DESCRIPTION:Regular Season match: Hardly Wallbangers vs T3 P
 erfettas
LOCATION:Newhall Court 8
END:VEVENT
BEGIN:VEVENT
DTSTAMP:20260428T000000Z
UID:9571ac21-47df-4750-ba88-4193dcb2e7e8@ClaytonBocce
DTSTART;TZID=America/Los_Angeles:20260623T093000
DTEND;TZID=America/Los_Angeles:20260623T120000
STATUS:CONFIRMED
SUMMARY:Hardly Wallbangers vs Early Bloomers
URL:/League/Schedule/3310
DESCRIPTION:Regular Season match: Hardly Wallbangers vs Earl
 y Bloomers
LOCATION:Newhall Court 6
END:VEVENT
BEGIN:VEVENT
DTSTAMP:20260428T000000Z
UID:ad2b7f05-7e78-475f-b39e-e91b7980fd6b@ClaytonBocce
DTSTART;TZID=America/Los_Angeles:20260630T093000
DTEND;TZID=America/Los_Angeles:20260630T120000
STATUS:CONFIRMED
SUMMARY:Hardly Wallbangers vs Straight Shooters
URL:/League/Schedule/3310
DESCRIPTION:Regular Season match: Hardly Wallbangers vs Stra
 ight Shooters
LOCATION:Newhall Court 2
END:VEVENT
BEGIN:VEVENT
DTSTAMP:20260428T000000Z
UID:197d3fb0-c518-4304-b5dc-57653cba84ac@ClaytonBocce
DTSTART;TZID=America/Los_Angeles:20260714T093000
DTEND;TZID=America/Los_Angeles:20260714T120000
STATUS:CONFIRMED
SUMMARY:Hardly Wallbangers vs Bobs Bocce Bunch
URL:/League/Schedule/3310
DESCRIPTION:Regular Season match: Hardly Wallbangers vs Bobs
  Bocce Bunch
LOCATION:Newhall Court 3
END:VEVENT
BEGIN:VEVENT
DTSTAMP:20260428T000000Z
UID:c92edcd7-08fb-4326-a186-c07536887bc2@ClaytonBocce
DTSTART;TZID=America/Los_Angeles:20260721T093000
DTEND;TZID=America/Los_Angeles:20260721T120000
STATUS:CONFIRMED
SUMMARY:Hardly Wallbangers vs As Good As It Gets
URL:/League/Schedule/3310
DESCRIPTION:Regular Season match: Hardly Wallbangers vs As G
 ood As It Gets
LOCATION:Newhall Court 6
END:VEVENT
BEGIN:VEVENT
DTSTAMP:20260428T000000Z
UID:11c04032-4206-4e21-9d30-82196ebdf764@ClaytonBocce
DTSTART;TZID=America/Los_Angeles:20260728T093000
DTEND;TZID=America/Los_Angeles:20260728T120000
STATUS:CONFIRMED
SUMMARY:Hardly Wallbangers vs Bocceholics
URL:/League/Schedule/3310
DESCRIPTION:Regular Season match: Hardly Wallbangers vs Bocc
 eholics
LOCATION:Newhall Court 4
END:VEVENT
BEGIN:VEVENT
DTSTAMP:20260428T000000Z
UID:23b14882-70b5-4ec4-a84b-768a37f37e74@ClaytonBocce
DTSTART;TZID=America/Los_Angeles:20260804T093000
DTEND;TZID=America/Los_Angeles:20260804T120000
STATUS:CONFIRMED
SUMMARY:Hardly Wallbangers vs Clayton Cannolies
URL:/League/Schedule/3310
DESCRIPTION:Regular Season match: Hardly Wallbangers vs Clay
 ton Cannolies
LOCATION:Newhall Court 7
END:VEVENT
BEGIN:VEVENT
DTSTAMP:20260428T000000Z
UID:47a1fe94-ffac-4946-aa1f-fd1de6a76743@ClaytonBocce
DTSTART;TZID=America/Los_Angeles:20260811T093000
DTEND;TZID=America/Los_Angeles:20260811T120000
STATUS:CONFIRMED
SUMMARY:Hardly Wallbangers vs T3 Perfettas
URL:/League/Schedule/3310
DESCRIPTION:Regular Season match: Hardly Wallbangers vs T3 P
 erfettas
LOCATION:Newhall Court 1
END:VEVENT
END:VCALENDAR
