BEGIN:VCALENDAR
VERSION:2.0
PRODID:-//Clayton Bocce League
METHOD:PUBLISH
BEGIN:VTIMEZONE
TZID:America/Los_Angeles
X-LIC-LOCATION:America/Los_Angeles
BEGIN:DAYLIGHT
TZOFFSETFROM:-0800
TZOFFSETTO:-0700
TZNAME:PDT
DTSTART:20070311T020000
RRULE:FREQ=YEARLY;BYMONTH=3;BYDAY=2SU
END:DAYLIGHT
BEGIN:STANDARD
TZOFFSETFROM:-0700
TZOFFSETTO:-0800
TZNAME:PST
DTSTART:20071104T020000
RRULE:FREQ=YEARLY;BYMONTH=11;BYDAY=1SU
END:STANDARD
END:VTIMEZONE
BEGIN:VEVENT
DTSTAMP:20260428T000000Z
UID:7c8165c1-46f9-4df7-9092-4c999caf72a9@ClaytonBocce
DTSTART;TZID=America/Los_Angeles:20260428T093000
DTEND;TZID=America/Los_Angeles:20260428T120000
STATUS:CONFIRMED
SUMMARY:Early Bloomers vs Hardly Wallbangers
URL:/League/Schedule/3315
DESCRIPTION:Regular Season match: Early Bloomers vs Hardly W
 allbangers
LOCATION:Newhall Court 5
END:VEVENT
BEGIN:VEVENT
DTSTAMP:20260428T000000Z
UID:e6b0202d-a0bd-4d47-b7d3-45e43330fcbf@ClaytonBocce
DTSTART;TZID=America/Los_Angeles:20260505T093000
DTEND;TZID=America/Los_Angeles:20260505T120000
STATUS:CONFIRMED
SUMMARY:Early Bloomers vs Bocceholics
URL:/League/Schedule/3315
DESCRIPTION:Regular Season match: Early Bloomers vs Boccehol
 ics
LOCATION:Newhall Court 3
END:VEVENT
BEGIN:VEVENT
DTSTAMP:20260428T000000Z
UID:30a91a76-b104-446c-8051-8afdeac57262@ClaytonBocce
DTSTART;TZID=America/Los_Angeles:20260512T093000
DTEND;TZID=America/Los_Angeles:20260512T120000
STATUS:CONFIRMED
SUMMARY:Early Bloomers vs Clayton Cannolies
URL:/League/Schedule/3315
DESCRIPTION:Regular Season match: Early Bloomers vs Clayton 
 Cannolies
LOCATION:Newhall Court 8
END:VEVENT
BEGIN:VEVENT
DTSTAMP:20260428T000000Z
UID:9602f510-40da-44d6-9de1-5ed72f416595@ClaytonBocce
DTSTART;TZID=America/Los_Angeles:20260519T093000
DTEND;TZID=America/Los_Angeles:20260519T120000
STATUS:CONFIRMED
SUMMARY:Early Bloomers vs T3 Perfettas
URL:/League/Schedule/3315
DESCRIPTION:Regular Season match: Early Bloomers vs T3 Perfe
 ttas
LOCATION:Newhall Court 2
END:VEVENT
BEGIN:VEVENT
DTSTAMP:20260428T000000Z
UID:0221a227-a2aa-4ca6-a3af-98e506bfc11e@ClaytonBocce
DTSTART;TZID=America/Los_Angeles:20260602T093000
DTEND;TZID=America/Los_Angeles:20260602T120000
STATUS:CONFIRMED
SUMMARY:Early Bloomers vs As Good As It Gets
URL:/League/Schedule/3315
DESCRIPTION:Regular Season match: Early Bloomers vs As Good 
 As It Gets
LOCATION:Newhall Court 3
END:VEVENT
BEGIN:VEVENT
DTSTAMP:20260428T000000Z
UID:e671cf3b-b2e7-4972-b479-87e2e0d4db7a@ClaytonBocce
DTSTART;TZID=America/Los_Angeles:20260609T093000
DTEND;TZID=America/Los_Angeles:20260609T120000
STATUS:CONFIRMED
SUMMARY:Early Bloomers vs Bobs Bocce Bunch
URL:/League/Schedule/3315
DESCRIPTION:Regular Season match: Early Bloomers vs Bobs Boc
 ce Bunch
LOCATION:Newhall Court 7
END:VEVENT
BEGIN:VEVENT
DTSTAMP:20260428T000000Z
UID:0675c93b-228a-4a31-acff-d008b07b0a1e@ClaytonBocce
DTSTART;TZID=America/Los_Angeles:20260616T093000
DTEND;TZID=America/Los_Angeles:20260616T120000
STATUS:CONFIRMED
SUMMARY:Early Bloomers vs Straight Shooters
URL:/League/Schedule/3315
DESCRIPTION:Regular Season match: Early Bloomers vs Straight
  Shooters
LOCATION:Newhall Court 4
END:VEVENT
BEGIN:VEVENT
DTSTAMP:20260428T000000Z
UID:9571ac21-47df-4750-ba88-4193dcb2e7e8@ClaytonBocce
DTSTART;TZID=America/Los_Angeles:20260623T093000
DTEND;TZID=America/Los_Angeles:20260623T120000
STATUS:CONFIRMED
SUMMARY:Early Bloomers vs Hardly Wallbangers
URL:/League/Schedule/3315
DESCRIPTION:Regular Season match: Early Bloomers vs Hardly W
 allbangers
LOCATION:Newhall Court 6
END:VEVENT
BEGIN:VEVENT
DTSTAMP:20260428T000000Z
UID:98eb532d-5463-401e-b01e-84880965ecf8@ClaytonBocce
DTSTART;TZID=America/Los_Angeles:20260630T093000
DTEND;TZID=America/Los_Angeles:20260630T120000
STATUS:CONFIRMED
SUMMARY:Early Bloomers vs Bocceholics
URL:/League/Schedule/3315
DESCRIPTION:Regular Season match: Early Bloomers vs Boccehol
 ics
LOCATION:Newhall Court 8
END:VEVENT
BEGIN:VEVENT
DTSTAMP:20260428T000000Z
UID:f023562f-7339-4f6c-8f9d-010f8948ddf4@ClaytonBocce
DTSTART;TZID=America/Los_Angeles:20260714T093000
DTEND;TZID=America/Los_Angeles:20260714T120000
STATUS:CONFIRMED
SUMMARY:Early Bloomers vs Clayton Cannolies
URL:/League/Schedule/3315
DESCRIPTION:Regular Season match: Early Bloomers vs Clayton 
 Cannolies
LOCATION:Newhall Court 1
END:VEVENT
BEGIN:VEVENT
DTSTAMP:20260428T000000Z
UID:3b31f0b0-ac2c-421a-95d5-95ae11007deb@ClaytonBocce
DTSTART;TZID=America/Los_Angeles:20260721T093000
DTEND;TZID=America/Los_Angeles:20260721T120000
STATUS:CONFIRMED
SUMMARY:Early Bloomers vs T3 Perfettas
URL:/League/Schedule/3315
DESCRIPTION:Regular Season match: Early Bloomers vs T3 Perfe
 ttas
LOCATION:Newhall Court 5
END:VEVENT
BEGIN:VEVENT
DTSTAMP:20260428T000000Z
UID:cfdbd450-2acf-41a0-af52-3ae732d3bf79@ClaytonBocce
DTSTART;TZID=America/Los_Angeles:20260728T093000
DTEND;TZID=America/Los_Angeles:20260728T120000
STATUS:CONFIRMED
SUMMARY:Early Bloomers vs As Good As It Gets
URL:/League/Schedule/3315
DESCRIPTION:Regular Season match: Early Bloomers vs As Good 
 As It Gets
LOCATION:Newhall Court 2
END:VEVENT
BEGIN:VEVENT
DTSTAMP:20260428T000000Z
UID:be5d385c-ae0a-4181-a8f7-e34b53cd68cb@ClaytonBocce
DTSTART;TZID=America/Los_Angeles:20260804T093000
DTEND;TZID=America/Los_Angeles:20260804T120000
STATUS:CONFIRMED
SUMMARY:Early Bloomers vs Bobs Bocce Bunch
URL:/League/Schedule/3315
DESCRIPTION:Regular Season match: Early Bloomers vs Bobs Boc
 ce Bunch
LOCATION:Newhall Court 8
END:VEVENT
BEGIN:VEVENT
DTSTAMP:20260428T000000Z
UID:8f78fafc-4d68-49e4-b89b-01903b36ed7b@ClaytonBocce
DTSTART;TZID=America/Los_Angeles:20260811T093000
DTEND;TZID=America/Los_Angeles:20260811T120000
STATUS:CONFIRMED
SUMMARY:Early Bloomers vs Straight Shooters
URL:/League/Schedule/3315
DESCRIPTION:Regular Season match: Early Bloomers vs Straight
  Shooters
LOCATION:Newhall Court 6
END:VEVENT
END:VCALENDAR
