BEGIN:VCALENDAR
VERSION:2.0
PRODID:-//Clayton Bocce League
METHOD:PUBLISH
BEGIN:VTIMEZONE
TZID:America/Los_Angeles
X-LIC-LOCATION:America/Los_Angeles
BEGIN:DAYLIGHT
TZOFFSETFROM:-0800
TZOFFSETTO:-0700
TZNAME:PDT
DTSTART:20070311T020000
RRULE:FREQ=YEARLY;BYMONTH=3;BYDAY=2SU
END:DAYLIGHT
BEGIN:STANDARD
TZOFFSETFROM:-0700
TZOFFSETTO:-0800
TZNAME:PST
DTSTART:20071104T020000
RRULE:FREQ=YEARLY;BYMONTH=11;BYDAY=1SU
END:STANDARD
END:VTIMEZONE
BEGIN:VEVENT
DTSTAMP:20260428T000000Z
UID:c79212b5-3b1f-4cb8-a176-a1839f6677f0@ClaytonBocce
DTSTART;TZID=America/Los_Angeles:20260428T093000
DTEND;TZID=America/Los_Angeles:20260428T120000
STATUS:CONFIRMED
SUMMARY:Rolling Oldies vs Martinez
URL:/League/Schedule/3323
DESCRIPTION:Regular Season match: Rolling Oldies vs Martinez
LOCATION:Newhall Court 2
END:VEVENT
BEGIN:VEVENT
DTSTAMP:20260428T000000Z
UID:7e5b2200-48dc-4017-b154-efe631e5ab61@ClaytonBocce
DTSTART;TZID=America/Los_Angeles:20260505T093000
DTEND;TZID=America/Los_Angeles:20260505T120000
STATUS:CONFIRMED
SUMMARY:Rolling Oldies vs Fossil Farm
URL:/League/Schedule/3323
DESCRIPTION:Regular Season match: Rolling Oldies vs Fossil F
 arm
LOCATION:Newhall Court 8
END:VEVENT
BEGIN:VEVENT
DTSTAMP:20260428T000000Z
UID:71938649-c120-48b6-8f49-ffa91b4fc94f@ClaytonBocce
DTSTART;TZID=America/Los_Angeles:20260512T093000
DTEND;TZID=America/Los_Angeles:20260512T120000
STATUS:CONFIRMED
SUMMARY:Rolling Oldies vs Bocce High Rollers
URL:/League/Schedule/3323
DESCRIPTION:Regular Season match: Rolling Oldies vs Bocce Hi
 gh Rollers
LOCATION:Newhall Court 7
END:VEVENT
BEGIN:VEVENT
DTSTAMP:20260428T000000Z
UID:91a044b4-600d-429e-8353-fa1285f059ac@ClaytonBocce
DTSTART;TZID=America/Los_Angeles:20260519T093000
DTEND;TZID=America/Los_Angeles:20260519T120000
STATUS:CONFIRMED
SUMMARY:Rolling Oldies vs Bocce Dogs
URL:/League/Schedule/3323
DESCRIPTION:Regular Season match: Rolling Oldies vs Bocce Do
 gs
LOCATION:Newhall Court 1
END:VEVENT
BEGIN:VEVENT
DTSTAMP:20260428T000000Z
UID:421b215a-fcc8-482a-b192-f6dcc3f28cbc@ClaytonBocce
DTSTART;TZID=America/Los_Angeles:20260602T093000
DTEND;TZID=America/Los_Angeles:20260602T120000
STATUS:CONFIRMED
SUMMARY:Rolling Oldies vs Pacheco D'Boccieri
URL:/League/Schedule/3323
DESCRIPTION:Regular Season match: Rolling Oldies vs Pacheco 
 D'Boccieri
LOCATION:Newhall Court 4
END:VEVENT
BEGIN:VEVENT
DTSTAMP:20260428T000000Z
UID:26f292a5-0dc5-4cff-b9a9-1b35927796e3@ClaytonBocce
DTSTART;TZID=America/Los_Angeles:20260609T093000
DTEND;TZID=America/Los_Angeles:20260609T120000
STATUS:CONFIRMED
SUMMARY:Rolling Oldies vs The In Crowd
URL:/League/Schedule/3323
DESCRIPTION:Regular Season match: Rolling Oldies vs The In C
 rowd
LOCATION:Newhall Court 3
END:VEVENT
BEGIN:VEVENT
DTSTAMP:20260428T000000Z
UID:bfe5f35f-3069-465d-889f-ca3aa1ddca06@ClaytonBocce
DTSTART;TZID=America/Los_Angeles:20260616T093000
DTEND;TZID=America/Los_Angeles:20260616T120000
STATUS:CONFIRMED
SUMMARY:Rolling Oldies vs Stugots
URL:/League/Schedule/3323
DESCRIPTION:Regular Season match: Rolling Oldies vs Stugots
LOCATION:Newhall Court 6
END:VEVENT
BEGIN:VEVENT
DTSTAMP:20260428T000000Z
UID:495354ca-a7b3-4a92-9409-7dae466fef33@ClaytonBocce
DTSTART;TZID=America/Los_Angeles:20260623T093000
DTEND;TZID=America/Los_Angeles:20260623T120000
STATUS:CONFIRMED
SUMMARY:Rolling Oldies vs Martinez
URL:/League/Schedule/3323
DESCRIPTION:Regular Season match: Rolling Oldies vs Martinez
LOCATION:Newhall Court 2
END:VEVENT
BEGIN:VEVENT
DTSTAMP:20260428T000000Z
UID:fab2dbb2-297e-40d7-847a-5a01ac9b6220@ClaytonBocce
DTSTART;TZID=America/Los_Angeles:20260630T093000
DTEND;TZID=America/Los_Angeles:20260630T120000
STATUS:CONFIRMED
SUMMARY:Rolling Oldies vs Fossil Farm
URL:/League/Schedule/3323
DESCRIPTION:Regular Season match: Rolling Oldies vs Fossil F
 arm
LOCATION:Newhall Court 4
END:VEVENT
BEGIN:VEVENT
DTSTAMP:20260428T000000Z
UID:b8ef96e6-c2cd-459f-a307-8015332a4a1d@ClaytonBocce
DTSTART;TZID=America/Los_Angeles:20260714T093000
DTEND;TZID=America/Los_Angeles:20260714T120000
STATUS:CONFIRMED
SUMMARY:Rolling Oldies vs Bocce High Rollers
URL:/League/Schedule/3323
DESCRIPTION:Regular Season match: Rolling Oldies vs Bocce Hi
 gh Rollers
LOCATION:Newhall Court 6
END:VEVENT
BEGIN:VEVENT
DTSTAMP:20260428T000000Z
UID:9013cff6-c98d-42b1-8f08-d8f8740f3a81@ClaytonBocce
DTSTART;TZID=America/Los_Angeles:20260721T093000
DTEND;TZID=America/Los_Angeles:20260721T120000
STATUS:CONFIRMED
SUMMARY:Rolling Oldies vs Bocce Dogs
URL:/League/Schedule/3323
DESCRIPTION:Regular Season match: Rolling Oldies vs Bocce Do
 gs
LOCATION:Newhall Court 8
END:VEVENT
BEGIN:VEVENT
DTSTAMP:20260428T000000Z
UID:043cc443-644e-4ec2-af0f-45380a36ba3d@ClaytonBocce
DTSTART;TZID=America/Los_Angeles:20260728T093000
DTEND;TZID=America/Los_Angeles:20260728T120000
STATUS:CONFIRMED
SUMMARY:Rolling Oldies vs Pacheco D'Boccieri
URL:/League/Schedule/3323
DESCRIPTION:Regular Season match: Rolling Oldies vs Pacheco 
 D'Boccieri
LOCATION:Newhall Court 3
END:VEVENT
BEGIN:VEVENT
DTSTAMP:20260428T000000Z
UID:4ffc252f-f8e8-40bf-9a3c-5d2fcaf124c9@ClaytonBocce
DTSTART;TZID=America/Los_Angeles:20260804T093000
DTEND;TZID=America/Los_Angeles:20260804T120000
STATUS:CONFIRMED
SUMMARY:Rolling Oldies vs The In Crowd
URL:/League/Schedule/3323
DESCRIPTION:Regular Season match: Rolling Oldies vs The In C
 rowd
LOCATION:Newhall Court 4
END:VEVENT
BEGIN:VEVENT
DTSTAMP:20260428T000000Z
UID:8376e00a-42dd-49fb-892d-036027ae6107@ClaytonBocce
DTSTART;TZID=America/Los_Angeles:20260811T093000
DTEND;TZID=America/Los_Angeles:20260811T120000
STATUS:CONFIRMED
SUMMARY:Rolling Oldies vs Stugots
URL:/League/Schedule/3323
DESCRIPTION:Regular Season match: Rolling Oldies vs Stugots
LOCATION:Newhall Court 5
END:VEVENT
END:VCALENDAR
