BEGIN:VCALENDAR
VERSION:2.0
PRODID:-//Clayton Bocce League
METHOD:PUBLISH
BEGIN:VTIMEZONE
TZID:America/Los_Angeles
X-LIC-LOCATION:America/Los_Angeles
BEGIN:DAYLIGHT
TZOFFSETFROM:-0800
TZOFFSETTO:-0700
TZNAME:PDT
DTSTART:20070311T020000
RRULE:FREQ=YEARLY;BYMONTH=3;BYDAY=2SU
END:DAYLIGHT
BEGIN:STANDARD
TZOFFSETFROM:-0700
TZOFFSETTO:-0800
TZNAME:PST
DTSTART:20071104T020000
RRULE:FREQ=YEARLY;BYMONTH=11;BYDAY=1SU
END:STANDARD
END:VTIMEZONE
BEGIN:VEVENT
DTSTAMP:20260428T000000Z
UID:c79212b5-3b1f-4cb8-a176-a1839f6677f0@ClaytonBocce
DTSTART;TZID=America/Los_Angeles:20260428T093000
DTEND;TZID=America/Los_Angeles:20260428T120000
STATUS:CONFIRMED
SUMMARY:Martinez vs Rolling Oldies
URL:/League/Schedule/3308
DESCRIPTION:Regular Season match: Martinez vs Rolling Oldies
LOCATION:Newhall Court 2
END:VEVENT
BEGIN:VEVENT
DTSTAMP:20260428T000000Z
UID:a5dc6212-5813-4305-a0d1-cb2fce357bd9@ClaytonBocce
DTSTART;TZID=America/Los_Angeles:20260505T093000
DTEND;TZID=America/Los_Angeles:20260505T120000
STATUS:CONFIRMED
SUMMARY:Martinez vs Stugots
URL:/League/Schedule/3308
DESCRIPTION:Regular Season match: Martinez vs Stugots
LOCATION:Newhall Court 1
END:VEVENT
BEGIN:VEVENT
DTSTAMP:20260428T000000Z
UID:917691e3-eb6f-4c7d-ba66-9c5593456fbf@ClaytonBocce
DTSTART;TZID=America/Los_Angeles:20260512T093000
DTEND;TZID=America/Los_Angeles:20260512T120000
STATUS:CONFIRMED
SUMMARY:Martinez vs The In Crowd
URL:/League/Schedule/3308
DESCRIPTION:Regular Season match: Martinez vs The In Crowd
LOCATION:Newhall Court 5
END:VEVENT
BEGIN:VEVENT
DTSTAMP:20260428T000000Z
UID:154ece11-00e8-49b0-ac2a-3dd777ecb210@ClaytonBocce
DTSTART;TZID=America/Los_Angeles:20260519T093000
DTEND;TZID=America/Los_Angeles:20260519T120000
STATUS:CONFIRMED
SUMMARY:Martinez vs Pacheco D'Boccieri
URL:/League/Schedule/3308
DESCRIPTION:Regular Season match: Martinez vs Pacheco D'Bocc
 ieri
LOCATION:Newhall Court 8
END:VEVENT
BEGIN:VEVENT
DTSTAMP:20260428T000000Z
UID:66474888-4b2c-4419-9b17-8ede31da69a5@ClaytonBocce
DTSTART;TZID=America/Los_Angeles:20260602T093000
DTEND;TZID=America/Los_Angeles:20260602T120000
STATUS:CONFIRMED
SUMMARY:Martinez vs Fossil Farm
URL:/League/Schedule/3308
DESCRIPTION:Regular Season match: Martinez vs Fossil Farm
LOCATION:Newhall Court 6
END:VEVENT
BEGIN:VEVENT
DTSTAMP:20260428T000000Z
UID:ef1ce3eb-fb6c-422b-ad9d-ed8b873869dd@ClaytonBocce
DTSTART;TZID=America/Los_Angeles:20260609T093000
DTEND;TZID=America/Los_Angeles:20260609T120000
STATUS:CONFIRMED
SUMMARY:Martinez vs Bocce High Rollers
URL:/League/Schedule/3308
DESCRIPTION:Regular Season match: Martinez vs Bocce High Rol
 lers
LOCATION:Newhall Court 4
END:VEVENT
BEGIN:VEVENT
DTSTAMP:20260428T000000Z
UID:32de2130-3173-441e-a7f5-6a730610225b@ClaytonBocce
DTSTART;TZID=America/Los_Angeles:20260616T093000
DTEND;TZID=America/Los_Angeles:20260616T120000
STATUS:CONFIRMED
SUMMARY:Martinez vs Bocce Dogs
URL:/League/Schedule/3308
DESCRIPTION:Regular Season match: Martinez vs Bocce Dogs
LOCATION:Newhall Court 3
END:VEVENT
BEGIN:VEVENT
DTSTAMP:20260428T000000Z
UID:495354ca-a7b3-4a92-9409-7dae466fef33@ClaytonBocce
DTSTART;TZID=America/Los_Angeles:20260623T093000
DTEND;TZID=America/Los_Angeles:20260623T120000
STATUS:CONFIRMED
SUMMARY:Martinez vs Rolling Oldies
URL:/League/Schedule/3308
DESCRIPTION:Regular Season match: Martinez vs Rolling Oldies
LOCATION:Newhall Court 2
END:VEVENT
BEGIN:VEVENT
DTSTAMP:20260428T000000Z
UID:3f134658-01d2-4e62-82cc-1216fb2edfe4@ClaytonBocce
DTSTART;TZID=America/Los_Angeles:20260630T093000
DTEND;TZID=America/Los_Angeles:20260630T120000
STATUS:CONFIRMED
SUMMARY:Martinez vs Stugots
URL:/League/Schedule/3308
DESCRIPTION:Regular Season match: Martinez vs Stugots
LOCATION:Newhall Court 5
END:VEVENT
BEGIN:VEVENT
DTSTAMP:20260428T000000Z
UID:c82c9e72-3e2d-42ad-9575-dcbe9cfe9e38@ClaytonBocce
DTSTART;TZID=America/Los_Angeles:20260714T093000
DTEND;TZID=America/Los_Angeles:20260714T120000
STATUS:CONFIRMED
SUMMARY:Martinez vs The In Crowd
URL:/League/Schedule/3308
DESCRIPTION:Regular Season match: Martinez vs The In Crowd
LOCATION:Newhall Court 8
END:VEVENT
BEGIN:VEVENT
DTSTAMP:20260428T000000Z
UID:3a770489-e9a8-4d7f-811f-f4531126d14b@ClaytonBocce
DTSTART;TZID=America/Los_Angeles:20260721T093000
DTEND;TZID=America/Los_Angeles:20260721T120000
STATUS:CONFIRMED
SUMMARY:Martinez vs Pacheco D'Boccieri
URL:/League/Schedule/3308
DESCRIPTION:Regular Season match: Martinez vs Pacheco D'Bocc
 ieri
LOCATION:Newhall Court 7
END:VEVENT
BEGIN:VEVENT
DTSTAMP:20260428T000000Z
UID:270d62e0-a994-44c0-aa3c-ea39c6d5a839@ClaytonBocce
DTSTART;TZID=America/Los_Angeles:20260728T093000
DTEND;TZID=America/Los_Angeles:20260728T120000
STATUS:CONFIRMED
SUMMARY:Martinez vs Fossil Farm
URL:/League/Schedule/3308
DESCRIPTION:Regular Season match: Martinez vs Fossil Farm
LOCATION:Newhall Court 6
END:VEVENT
BEGIN:VEVENT
DTSTAMP:20260428T000000Z
UID:5750c5c0-3655-414e-93df-b1db2c870bee@ClaytonBocce
DTSTART;TZID=America/Los_Angeles:20260804T093000
DTEND;TZID=America/Los_Angeles:20260804T120000
STATUS:CONFIRMED
SUMMARY:Martinez vs Bocce High Rollers
URL:/League/Schedule/3308
DESCRIPTION:Regular Season match: Martinez vs Bocce High Rol
 lers
LOCATION:Newhall Court 2
END:VEVENT
BEGIN:VEVENT
DTSTAMP:20260428T000000Z
UID:ab31512d-388d-4a03-af2f-c7870f49379a@ClaytonBocce
DTSTART;TZID=America/Los_Angeles:20260811T093000
DTEND;TZID=America/Los_Angeles:20260811T120000
STATUS:CONFIRMED
SUMMARY:Martinez vs Bocce Dogs
URL:/League/Schedule/3308
DESCRIPTION:Regular Season match: Martinez vs Bocce Dogs
LOCATION:Newhall Court 4
END:VEVENT
END:VCALENDAR
