BEGIN:VCALENDAR
VERSION:2.0
PRODID:-//Clayton Bocce League
METHOD:PUBLISH
BEGIN:VTIMEZONE
TZID:America/Los_Angeles
X-LIC-LOCATION:America/Los_Angeles
BEGIN:DAYLIGHT
TZOFFSETFROM:-0800
TZOFFSETTO:-0700
TZNAME:PDT
DTSTART:20070311T020000
RRULE:FREQ=YEARLY;BYMONTH=3;BYDAY=2SU
END:DAYLIGHT
BEGIN:STANDARD
TZOFFSETFROM:-0700
TZOFFSETTO:-0800
TZNAME:PST
DTSTART:20071104T020000
RRULE:FREQ=YEARLY;BYMONTH=11;BYDAY=1SU
END:STANDARD
END:VTIMEZONE
BEGIN:VEVENT
DTSTAMP:20260428T000000Z
UID:338d2bfd-52a2-482d-a737-0d3455530eda@ClaytonBocce
DTSTART;TZID=America/Los_Angeles:20260428T093000
DTEND;TZID=America/Los_Angeles:20260428T120000
STATUS:CONFIRMED
SUMMARY:Fossil Farm vs Pacheco D'Boccieri
URL:/League/Schedule/3317
DESCRIPTION:Regular Season match: Fossil Farm vs Pacheco D'B
 occieri
LOCATION:Newhall Court 1
END:VEVENT
BEGIN:VEVENT
DTSTAMP:20260428T000000Z
UID:7e5b2200-48dc-4017-b154-efe631e5ab61@ClaytonBocce
DTSTART;TZID=America/Los_Angeles:20260505T093000
DTEND;TZID=America/Los_Angeles:20260505T120000
STATUS:CONFIRMED
SUMMARY:Fossil Farm vs Rolling Oldies
URL:/League/Schedule/3317
DESCRIPTION:Regular Season match: Fossil Farm vs Rolling Old
 ies
LOCATION:Newhall Court 8
END:VEVENT
BEGIN:VEVENT
DTSTAMP:20260428T000000Z
UID:80d8195b-ad8d-448d-8981-4422f5c29679@ClaytonBocce
DTSTART;TZID=America/Los_Angeles:20260512T093000
DTEND;TZID=America/Los_Angeles:20260512T120000
STATUS:CONFIRMED
SUMMARY:Fossil Farm vs Stugots
URL:/League/Schedule/3317
DESCRIPTION:Regular Season match: Fossil Farm vs Stugots
LOCATION:Newhall Court 3
END:VEVENT
BEGIN:VEVENT
DTSTAMP:20260428T000000Z
UID:a964cdec-832e-4c04-bd66-c04e483dfc23@ClaytonBocce
DTSTART;TZID=America/Los_Angeles:20260519T093000
DTEND;TZID=America/Los_Angeles:20260519T120000
STATUS:CONFIRMED
SUMMARY:Fossil Farm vs The In Crowd
URL:/League/Schedule/3317
DESCRIPTION:Regular Season match: Fossil Farm vs The In Crow
 d
LOCATION:Newhall Court 7
END:VEVENT
BEGIN:VEVENT
DTSTAMP:20260428T000000Z
UID:66474888-4b2c-4419-9b17-8ede31da69a5@ClaytonBocce
DTSTART;TZID=America/Los_Angeles:20260602T093000
DTEND;TZID=America/Los_Angeles:20260602T120000
STATUS:CONFIRMED
SUMMARY:Fossil Farm vs Martinez
URL:/League/Schedule/3317
DESCRIPTION:Regular Season match: Fossil Farm vs Martinez
LOCATION:Newhall Court 6
END:VEVENT
BEGIN:VEVENT
DTSTAMP:20260428T000000Z
UID:59277f9a-af69-4202-8f14-8bbe49a157bc@ClaytonBocce
DTSTART;TZID=America/Los_Angeles:20260609T093000
DTEND;TZID=America/Los_Angeles:20260609T120000
STATUS:CONFIRMED
SUMMARY:Fossil Farm vs Bocce Dogs
URL:/League/Schedule/3317
DESCRIPTION:Regular Season match: Fossil Farm vs Bocce Dogs
LOCATION:Newhall Court 5
END:VEVENT
BEGIN:VEVENT
DTSTAMP:20260428T000000Z
UID:3027fec3-c094-4ef1-8ac5-0e4badb04a3c@ClaytonBocce
DTSTART;TZID=America/Los_Angeles:20260616T093000
DTEND;TZID=America/Los_Angeles:20260616T120000
STATUS:CONFIRMED
SUMMARY:Fossil Farm vs Bocce High Rollers
URL:/League/Schedule/3317
DESCRIPTION:Regular Season match: Fossil Farm vs Bocce High 
 Rollers
LOCATION:Newhall Court 7
END:VEVENT
BEGIN:VEVENT
DTSTAMP:20260428T000000Z
UID:54fdb443-9836-4683-9791-cdf524d932ec@ClaytonBocce
DTSTART;TZID=America/Los_Angeles:20260623T093000
DTEND;TZID=America/Los_Angeles:20260623T120000
STATUS:CONFIRMED
SUMMARY:Fossil Farm vs Pacheco D'Boccieri
URL:/League/Schedule/3317
DESCRIPTION:Regular Season match: Fossil Farm vs Pacheco D'B
 occieri
LOCATION:Newhall Court 8
END:VEVENT
BEGIN:VEVENT
DTSTAMP:20260428T000000Z
UID:fab2dbb2-297e-40d7-847a-5a01ac9b6220@ClaytonBocce
DTSTART;TZID=America/Los_Angeles:20260630T093000
DTEND;TZID=America/Los_Angeles:20260630T120000
STATUS:CONFIRMED
SUMMARY:Fossil Farm vs Rolling Oldies
URL:/League/Schedule/3317
DESCRIPTION:Regular Season match: Fossil Farm vs Rolling Old
 ies
LOCATION:Newhall Court 4
END:VEVENT
BEGIN:VEVENT
DTSTAMP:20260428T000000Z
UID:11abf146-c5da-4f28-9547-a38d18adb064@ClaytonBocce
DTSTART;TZID=America/Los_Angeles:20260714T093000
DTEND;TZID=America/Los_Angeles:20260714T120000
STATUS:CONFIRMED
SUMMARY:Fossil Farm vs Stugots
URL:/League/Schedule/3317
DESCRIPTION:Regular Season match: Fossil Farm vs Stugots
LOCATION:Newhall Court 2
END:VEVENT
BEGIN:VEVENT
DTSTAMP:20260428T000000Z
UID:d5588bc4-7f07-48a3-81d9-3daa4faf0905@ClaytonBocce
DTSTART;TZID=America/Los_Angeles:20260721T093000
DTEND;TZID=America/Los_Angeles:20260721T120000
STATUS:CONFIRMED
SUMMARY:Fossil Farm vs The In Crowd
URL:/League/Schedule/3317
DESCRIPTION:Regular Season match: Fossil Farm vs The In Crow
 d
LOCATION:Newhall Court 1
END:VEVENT
BEGIN:VEVENT
DTSTAMP:20260428T000000Z
UID:270d62e0-a994-44c0-aa3c-ea39c6d5a839@ClaytonBocce
DTSTART;TZID=America/Los_Angeles:20260728T093000
DTEND;TZID=America/Los_Angeles:20260728T120000
STATUS:CONFIRMED
SUMMARY:Fossil Farm vs Martinez
URL:/League/Schedule/3317
DESCRIPTION:Regular Season match: Fossil Farm vs Martinez
LOCATION:Newhall Court 6
END:VEVENT
BEGIN:VEVENT
DTSTAMP:20260428T000000Z
UID:571a0ab1-f35b-4319-90e8-32b83547bd8e@ClaytonBocce
DTSTART;TZID=America/Los_Angeles:20260804T093000
DTEND;TZID=America/Los_Angeles:20260804T120000
STATUS:CONFIRMED
SUMMARY:Fossil Farm vs Bocce Dogs
URL:/League/Schedule/3317
DESCRIPTION:Regular Season match: Fossil Farm vs Bocce Dogs
LOCATION:Newhall Court 3
END:VEVENT
BEGIN:VEVENT
DTSTAMP:20260428T000000Z
UID:939f2460-940b-4a0e-aef9-27c14cf18e41@ClaytonBocce
DTSTART;TZID=America/Los_Angeles:20260811T093000
DTEND;TZID=America/Los_Angeles:20260811T120000
STATUS:CONFIRMED
SUMMARY:Fossil Farm vs Bocce High Rollers
URL:/League/Schedule/3317
DESCRIPTION:Regular Season match: Fossil Farm vs Bocce High 
 Rollers
LOCATION:Newhall Court 8
END:VEVENT
END:VCALENDAR
