BEGIN:VCALENDAR
VERSION:2.0
PRODID:-//Clayton Bocce League
METHOD:PUBLISH
BEGIN:VTIMEZONE
TZID:America/Los_Angeles
X-LIC-LOCATION:America/Los_Angeles
BEGIN:DAYLIGHT
TZOFFSETFROM:-0800
TZOFFSETTO:-0700
TZNAME:PDT
DTSTART:20070311T020000
RRULE:FREQ=YEARLY;BYMONTH=3;BYDAY=2SU
END:DAYLIGHT
BEGIN:STANDARD
TZOFFSETFROM:-0700
TZOFFSETTO:-0800
TZNAME:PST
DTSTART:20071104T020000
RRULE:FREQ=YEARLY;BYMONTH=11;BYDAY=1SU
END:STANDARD
END:VTIMEZONE
BEGIN:VEVENT
DTSTAMP:20260428T000000Z
UID:338d2bfd-52a2-482d-a737-0d3455530eda@ClaytonBocce
DTSTART;TZID=America/Los_Angeles:20260428T093000
DTEND;TZID=America/Los_Angeles:20260428T120000
STATUS:CONFIRMED
SUMMARY:Pacheco D'Boccieri vs Fossil Farm
URL:/League/Schedule/3311
DESCRIPTION:Regular Season match: Pacheco D'Boccieri vs Foss
 il Farm
LOCATION:Newhall Court 1
END:VEVENT
BEGIN:VEVENT
DTSTAMP:20260428T000000Z
UID:0b255a92-8ebc-48b7-a9fd-22a091be2c9e@ClaytonBocce
DTSTART;TZID=America/Los_Angeles:20260505T093000
DTEND;TZID=America/Los_Angeles:20260505T120000
STATUS:CONFIRMED
SUMMARY:Pacheco D'Boccieri vs Bocce High Rollers
URL:/League/Schedule/3311
DESCRIPTION:Regular Season match: Pacheco D'Boccieri vs Bocc
 e High Rollers
LOCATION:Newhall Court 5
END:VEVENT
BEGIN:VEVENT
DTSTAMP:20260428T000000Z
UID:01864a50-76e7-41d9-91df-262db3f36068@ClaytonBocce
DTSTART;TZID=America/Los_Angeles:20260512T093000
DTEND;TZID=America/Los_Angeles:20260512T120000
STATUS:CONFIRMED
SUMMARY:Pacheco D'Boccieri vs Bocce Dogs
URL:/League/Schedule/3311
DESCRIPTION:Regular Season match: Pacheco D'Boccieri vs Bocc
 e Dogs
LOCATION:Newhall Court 6
END:VEVENT
BEGIN:VEVENT
DTSTAMP:20260428T000000Z
UID:154ece11-00e8-49b0-ac2a-3dd777ecb210@ClaytonBocce
DTSTART;TZID=America/Los_Angeles:20260519T093000
DTEND;TZID=America/Los_Angeles:20260519T120000
STATUS:CONFIRMED
SUMMARY:Pacheco D'Boccieri vs Martinez
URL:/League/Schedule/3311
DESCRIPTION:Regular Season match: Pacheco D'Boccieri vs Mart
 inez
LOCATION:Newhall Court 8
END:VEVENT
BEGIN:VEVENT
DTSTAMP:20260428T000000Z
UID:421b215a-fcc8-482a-b192-f6dcc3f28cbc@ClaytonBocce
DTSTART;TZID=America/Los_Angeles:20260602T093000
DTEND;TZID=America/Los_Angeles:20260602T120000
STATUS:CONFIRMED
SUMMARY:Pacheco D'Boccieri vs Rolling Oldies
URL:/League/Schedule/3311
DESCRIPTION:Regular Season match: Pacheco D'Boccieri vs Roll
 ing Oldies
LOCATION:Newhall Court 4
END:VEVENT
BEGIN:VEVENT
DTSTAMP:20260428T000000Z
UID:ae973317-b46f-42f9-be0a-12332d055f5a@ClaytonBocce
DTSTART;TZID=America/Los_Angeles:20260609T093000
DTEND;TZID=America/Los_Angeles:20260609T120000
STATUS:CONFIRMED
SUMMARY:Pacheco D'Boccieri vs Stugots
URL:/League/Schedule/3311
DESCRIPTION:Regular Season match: Pacheco D'Boccieri vs Stug
 ots
LOCATION:Newhall Court 2
END:VEVENT
BEGIN:VEVENT
DTSTAMP:20260428T000000Z
UID:3bb12e51-2b89-41e4-bdc3-b47f645bd3ec@ClaytonBocce
DTSTART;TZID=America/Los_Angeles:20260616T093000
DTEND;TZID=America/Los_Angeles:20260616T120000
STATUS:CONFIRMED
SUMMARY:Pacheco D'Boccieri vs The In Crowd
URL:/League/Schedule/3311
DESCRIPTION:Regular Season match: Pacheco D'Boccieri vs The 
 In Crowd
LOCATION:Newhall Court 1
END:VEVENT
BEGIN:VEVENT
DTSTAMP:20260428T000000Z
UID:54fdb443-9836-4683-9791-cdf524d932ec@ClaytonBocce
DTSTART;TZID=America/Los_Angeles:20260623T093000
DTEND;TZID=America/Los_Angeles:20260623T120000
STATUS:CONFIRMED
SUMMARY:Pacheco D'Boccieri vs Fossil Farm
URL:/League/Schedule/3311
DESCRIPTION:Regular Season match: Pacheco D'Boccieri vs Foss
 il Farm
LOCATION:Newhall Court 8
END:VEVENT
BEGIN:VEVENT
DTSTAMP:20260428T000000Z
UID:6b5028aa-9a05-4794-80fd-a3b179689227@ClaytonBocce
DTSTART;TZID=America/Los_Angeles:20260630T093000
DTEND;TZID=America/Los_Angeles:20260630T120000
STATUS:CONFIRMED
SUMMARY:Pacheco D'Boccieri vs Bocce High Rollers
URL:/League/Schedule/3311
DESCRIPTION:Regular Season match: Pacheco D'Boccieri vs Bocc
 e High Rollers
LOCATION:Newhall Court 3
END:VEVENT
BEGIN:VEVENT
DTSTAMP:20260428T000000Z
UID:05ed7314-0d71-4293-92ff-a62cfeabc979@ClaytonBocce
DTSTART;TZID=America/Los_Angeles:20260714T093000
DTEND;TZID=America/Los_Angeles:20260714T120000
STATUS:CONFIRMED
SUMMARY:Pacheco D'Boccieri vs Bocce Dogs
URL:/League/Schedule/3311
DESCRIPTION:Regular Season match: Pacheco D'Boccieri vs Bocc
 e Dogs
LOCATION:Newhall Court 5
END:VEVENT
BEGIN:VEVENT
DTSTAMP:20260428T000000Z
UID:3a770489-e9a8-4d7f-811f-f4531126d14b@ClaytonBocce
DTSTART;TZID=America/Los_Angeles:20260721T093000
DTEND;TZID=America/Los_Angeles:20260721T120000
STATUS:CONFIRMED
SUMMARY:Pacheco D'Boccieri vs Martinez
URL:/League/Schedule/3311
DESCRIPTION:Regular Season match: Pacheco D'Boccieri vs Mart
 inez
LOCATION:Newhall Court 7
END:VEVENT
BEGIN:VEVENT
DTSTAMP:20260428T000000Z
UID:043cc443-644e-4ec2-af0f-45380a36ba3d@ClaytonBocce
DTSTART;TZID=America/Los_Angeles:20260728T093000
DTEND;TZID=America/Los_Angeles:20260728T120000
STATUS:CONFIRMED
SUMMARY:Pacheco D'Boccieri vs Rolling Oldies
URL:/League/Schedule/3311
DESCRIPTION:Regular Season match: Pacheco D'Boccieri vs Roll
 ing Oldies
LOCATION:Newhall Court 3
END:VEVENT
BEGIN:VEVENT
DTSTAMP:20260428T000000Z
UID:a7307bba-b0d2-4940-b7b9-ee8e6124c71e@ClaytonBocce
DTSTART;TZID=America/Los_Angeles:20260804T093000
DTEND;TZID=America/Los_Angeles:20260804T120000
STATUS:CONFIRMED
SUMMARY:Pacheco D'Boccieri vs Stugots
URL:/League/Schedule/3311
DESCRIPTION:Regular Season match: Pacheco D'Boccieri vs Stug
 ots
LOCATION:Newhall Court 6
END:VEVENT
BEGIN:VEVENT
DTSTAMP:20260428T000000Z
UID:fe86dab4-d8ff-48af-831c-667497230885@ClaytonBocce
DTSTART;TZID=America/Los_Angeles:20260811T093000
DTEND;TZID=America/Los_Angeles:20260811T120000
STATUS:CONFIRMED
SUMMARY:Pacheco D'Boccieri vs The In Crowd
URL:/League/Schedule/3311
DESCRIPTION:Regular Season match: Pacheco D'Boccieri vs The 
 In Crowd
LOCATION:Newhall Court 2
END:VEVENT
END:VCALENDAR
