BEGIN:VCALENDAR
VERSION:2.0
PRODID:-//Clayton Bocce League
METHOD:PUBLISH
BEGIN:VTIMEZONE
TZID:America/Los_Angeles
X-LIC-LOCATION:America/Los_Angeles
BEGIN:DAYLIGHT
TZOFFSETFROM:-0800
TZOFFSETTO:-0700
TZNAME:PDT
DTSTART:20070311T020000
RRULE:FREQ=YEARLY;BYMONTH=3;BYDAY=2SU
END:DAYLIGHT
BEGIN:STANDARD
TZOFFSETFROM:-0700
TZOFFSETTO:-0800
TZNAME:PST
DTSTART:20071104T020000
RRULE:FREQ=YEARLY;BYMONTH=11;BYDAY=1SU
END:STANDARD
END:VTIMEZONE
BEGIN:VEVENT
DTSTAMP:20260427T000000Z
UID:2951b465-9242-450f-83be-e1a215c0456c@ClaytonBocce
DTSTART;TZID=America/Los_Angeles:20260430T183000
DTEND;TZID=America/Los_Angeles:20260430T210000
STATUS:CONFIRMED
SUMMARY:Our Gang vs Masses Refugees
URL:/League/Schedule/3295
DESCRIPTION:Regular Season match: Our Gang vs Masses Refugee
 s
LOCATION:Baldwin Court 4
END:VEVENT
BEGIN:VEVENT
DTSTAMP:20260427T000000Z
UID:497ad45f-72a8-4ae1-8195-def8369f9bd1@ClaytonBocce
DTSTART;TZID=America/Los_Angeles:20260507T183000
DTEND;TZID=America/Los_Angeles:20260507T210000
STATUS:CONFIRMED
SUMMARY:Our Gang vs Dirt Ball Crew
URL:/League/Schedule/3295
DESCRIPTION:Regular Season match: Our Gang vs Dirt Ball Crew
LOCATION:Baldwin Court 2
END:VEVENT
BEGIN:VEVENT
DTSTAMP:20260427T000000Z
UID:5881bf1a-55ec-42fe-9b77-0b487a0c8a58@ClaytonBocce
DTSTART;TZID=America/Los_Angeles:20260514T183000
DTEND;TZID=America/Los_Angeles:20260514T210000
STATUS:CONFIRMED
SUMMARY:Our Gang vs 3 Amigos
URL:/League/Schedule/3295
DESCRIPTION:Regular Season match: Our Gang vs 3 Amigos
LOCATION:Baldwin Court 3
END:VEVENT
BEGIN:VEVENT
DTSTAMP:20260427T000000Z
UID:2621cb00-d806-4f30-bbb6-d2a487a1da4c@ClaytonBocce
DTSTART;TZID=America/Los_Angeles:20260521T183000
DTEND;TZID=America/Los_Angeles:20260521T210000
STATUS:CONFIRMED
SUMMARY:Our Gang vs Bocce or BUST
URL:/League/Schedule/3295
DESCRIPTION:Regular Season match: Our Gang vs Bocce or BUST
LOCATION:Baldwin Court 4
END:VEVENT
BEGIN:VEVENT
DTSTAMP:20260427T000000Z
UID:8ca48d46-15ea-4bc1-8395-dbabb229e3a4@ClaytonBocce
DTSTART;TZID=America/Los_Angeles:20260528T183000
DTEND;TZID=America/Los_Angeles:20260528T210000
STATUS:CONFIRMED
SUMMARY:Our Gang vs Roll Models
URL:/League/Schedule/3295
DESCRIPTION:Regular Season match: Our Gang vs Roll Models
LOCATION:Baldwin Court 1
END:VEVENT
BEGIN:VEVENT
DTSTAMP:20260427T000000Z
UID:612f0187-5094-494b-8655-ee5769303f10@ClaytonBocce
DTSTART;TZID=America/Los_Angeles:20260611T183000
DTEND;TZID=America/Los_Angeles:20260611T210000
STATUS:CONFIRMED
SUMMARY:Our Gang vs Undaunted
URL:/League/Schedule/3295
DESCRIPTION:Regular Season match: Our Gang vs Undaunted
LOCATION:Baldwin Court 1
END:VEVENT
BEGIN:VEVENT
DTSTAMP:20260427T000000Z
UID:188a2e56-2c2f-46b8-923c-f042bb55f921@ClaytonBocce
DTSTART;TZID=America/Los_Angeles:20260618T183000
DTEND;TZID=America/Los_Angeles:20260618T210000
STATUS:CONFIRMED
SUMMARY:Our Gang vs Anything Will Do!
URL:/League/Schedule/3295
DESCRIPTION:Regular Season match: Our Gang vs Anything Will 
 Do!
LOCATION:Baldwin Court 4
END:VEVENT
BEGIN:VEVENT
DTSTAMP:20260427T000000Z
UID:087121e6-70d3-4b8b-ae4e-85fb244219c5@ClaytonBocce
DTSTART;TZID=America/Los_Angeles:20260625T183000
DTEND;TZID=America/Los_Angeles:20260625T210000
STATUS:CONFIRMED
SUMMARY:Our Gang vs Shock & Rollers
URL:/League/Schedule/3295
DESCRIPTION:Regular Season match: Our Gang vs Shock & Roller
 s
LOCATION:Baldwin Court 3
END:VEVENT
BEGIN:VEVENT
DTSTAMP:20260427T000000Z
UID:e35ed588-a027-46b7-8e0f-15c02fbb68bc@ClaytonBocce
DTSTART;TZID=America/Los_Angeles:20260709T183000
DTEND;TZID=America/Los_Angeles:20260709T210000
STATUS:CONFIRMED
SUMMARY:Our Gang vs Masses Refugees
URL:/League/Schedule/3295
DESCRIPTION:Regular Season match: Our Gang vs Masses Refugee
 s
LOCATION:Baldwin Court 2
END:VEVENT
BEGIN:VEVENT
DTSTAMP:20260427T000000Z
UID:92504386-6403-4928-b206-d786bd03747a@ClaytonBocce
DTSTART;TZID=America/Los_Angeles:20260716T183000
DTEND;TZID=America/Los_Angeles:20260716T210000
STATUS:CONFIRMED
SUMMARY:Our Gang vs Dirt Ball Crew
URL:/League/Schedule/3295
DESCRIPTION:Regular Season match: Our Gang vs Dirt Ball Crew
LOCATION:Baldwin Court 4
END:VEVENT
BEGIN:VEVENT
DTSTAMP:20260427T000000Z
UID:f61dfcaf-b4c8-4405-8e7a-e6875f3320d4@ClaytonBocce
DTSTART;TZID=America/Los_Angeles:20260723T183000
DTEND;TZID=America/Los_Angeles:20260723T210000
STATUS:CONFIRMED
SUMMARY:Our Gang vs 3 Amigos
URL:/League/Schedule/3295
DESCRIPTION:Regular Season match: Our Gang vs 3 Amigos
LOCATION:Baldwin Court 1
END:VEVENT
BEGIN:VEVENT
DTSTAMP:20260427T000000Z
UID:5f62f54c-f18a-431f-8fd5-09dd8aa84e18@ClaytonBocce
DTSTART;TZID=America/Los_Angeles:20260730T183000
DTEND;TZID=America/Los_Angeles:20260730T210000
STATUS:CONFIRMED
SUMMARY:Our Gang vs Bocce or BUST
URL:/League/Schedule/3295
DESCRIPTION:Regular Season match: Our Gang vs Bocce or BUST
LOCATION:Baldwin Court 2
END:VEVENT
BEGIN:VEVENT
DTSTAMP:20260427T000000Z
UID:83d897c3-7d69-4051-b86f-e3cc1dd2dad4@ClaytonBocce
DTSTART;TZID=America/Los_Angeles:20260806T183000
DTEND;TZID=America/Los_Angeles:20260806T210000
STATUS:CONFIRMED
SUMMARY:Our Gang vs Roll Models
URL:/League/Schedule/3295
DESCRIPTION:Regular Season match: Our Gang vs Roll Models
LOCATION:Baldwin Court 3
END:VEVENT
BEGIN:VEVENT
DTSTAMP:20260427T000000Z
UID:36326c70-c523-49a6-a6df-71519bb826f0@ClaytonBocce
DTSTART;TZID=America/Los_Angeles:20260820T183000
DTEND;TZID=America/Los_Angeles:20260820T210000
STATUS:CONFIRMED
SUMMARY:Our Gang vs Undaunted
URL:/League/Schedule/3295
DESCRIPTION:Regular Season match: Our Gang vs Undaunted
LOCATION:Baldwin Court 3
END:VEVENT
BEGIN:VEVENT
DTSTAMP:20260427T000000Z
UID:8613a14f-08b9-478a-a516-20641c1137a3@ClaytonBocce
DTSTART;TZID=America/Los_Angeles:20260827T183000
DTEND;TZID=America/Los_Angeles:20260827T210000
STATUS:CONFIRMED
SUMMARY:Our Gang vs Anything Will Do!
URL:/League/Schedule/3295
DESCRIPTION:Regular Season match: Our Gang vs Anything Will 
 Do!
LOCATION:Baldwin Court 2
END:VEVENT
BEGIN:VEVENT
DTSTAMP:20260427T000000Z
UID:01d5ebb0-683a-4e1c-a427-2181b99a5c5a@ClaytonBocce
DTSTART;TZID=America/Los_Angeles:20260903T183000
DTEND;TZID=America/Los_Angeles:20260903T210000
STATUS:CONFIRMED
SUMMARY:Our Gang vs Shock & Rollers
URL:/League/Schedule/3295
DESCRIPTION:Regular Season match: Our Gang vs Shock & Roller
 s
LOCATION:Baldwin Court 1
END:VEVENT
END:VCALENDAR
