BEGIN:VCALENDAR
VERSION:2.0
PRODID:-//Clayton Bocce League
METHOD:PUBLISH
BEGIN:VTIMEZONE
TZID:America/Los_Angeles
X-LIC-LOCATION:America/Los_Angeles
BEGIN:DAYLIGHT
TZOFFSETFROM:-0800
TZOFFSETTO:-0700
TZNAME:PDT
DTSTART:20070311T020000
RRULE:FREQ=YEARLY;BYMONTH=3;BYDAY=2SU
END:DAYLIGHT
BEGIN:STANDARD
TZOFFSETFROM:-0700
TZOFFSETTO:-0800
TZNAME:PST
DTSTART:20071104T020000
RRULE:FREQ=YEARLY;BYMONTH=11;BYDAY=1SU
END:STANDARD
END:VTIMEZONE
BEGIN:VEVENT
DTSTAMP:20260427T000000Z
UID:2951b465-9242-450f-83be-e1a215c0456c@ClaytonBocce
DTSTART;TZID=America/Los_Angeles:20260430T183000
DTEND;TZID=America/Los_Angeles:20260430T210000
STATUS:CONFIRMED
SUMMARY:Masses Refugees vs Our Gang
URL:/League/Schedule/3293
DESCRIPTION:Regular Season match: Masses Refugees vs Our Gan
 g
LOCATION:Baldwin Court 4
END:VEVENT
BEGIN:VEVENT
DTSTAMP:20260427T000000Z
UID:072ff44d-d079-43e3-9331-5063ce8cc8b1@ClaytonBocce
DTSTART;TZID=America/Los_Angeles:20260507T183000
DTEND;TZID=America/Los_Angeles:20260507T210000
STATUS:CONFIRMED
SUMMARY:Masses Refugees vs Undaunted
URL:/League/Schedule/3293
DESCRIPTION:Regular Season match: Masses Refugees vs Undaunt
 ed
LOCATION:Baldwin Court 1
END:VEVENT
BEGIN:VEVENT
DTSTAMP:20260427T000000Z
UID:bfbacc4e-0813-408a-823b-bc391e3fa329@ClaytonBocce
DTSTART;TZID=America/Los_Angeles:20260514T183000
DTEND;TZID=America/Los_Angeles:20260514T210000
STATUS:CONFIRMED
SUMMARY:Masses Refugees vs Anything Will Do!
URL:/League/Schedule/3293
DESCRIPTION:Regular Season match: Masses Refugees vs Anythin
 g Will Do!
LOCATION:Baldwin Court 2
END:VEVENT
BEGIN:VEVENT
DTSTAMP:20260427T000000Z
UID:113e7a79-9269-4955-817e-99fe8ec70259@ClaytonBocce
DTSTART;TZID=America/Los_Angeles:20260521T183000
DTEND;TZID=America/Los_Angeles:20260521T210000
STATUS:CONFIRMED
SUMMARY:Masses Refugees vs Shock & Rollers
URL:/League/Schedule/3293
DESCRIPTION:Regular Season match: Masses Refugees vs Shock &
  Rollers
LOCATION:Baldwin Court 3
END:VEVENT
BEGIN:VEVENT
DTSTAMP:20260427T000000Z
UID:7501848d-356d-4e72-a420-a5ef7e22a8f7@ClaytonBocce
DTSTART;TZID=America/Los_Angeles:20260604T183000
DTEND;TZID=America/Los_Angeles:20260604T210000
STATUS:CONFIRMED
SUMMARY:Masses Refugees vs Dirt Ball Crew
URL:/League/Schedule/3293
DESCRIPTION:Regular Season match: Masses Refugees vs Dirt Ba
 ll Crew
LOCATION:Baldwin Court 3
END:VEVENT
BEGIN:VEVENT
DTSTAMP:20260427T000000Z
UID:cd6531f8-2904-40e1-9640-107d4f2b92bd@ClaytonBocce
DTSTART;TZID=America/Los_Angeles:20260611T183000
DTEND;TZID=America/Los_Angeles:20260611T210000
STATUS:CONFIRMED
SUMMARY:Masses Refugees vs 3 Amigos
URL:/League/Schedule/3293
DESCRIPTION:Regular Season match: Masses Refugees vs 3 Amigo
 s
LOCATION:Baldwin Court 2
END:VEVENT
BEGIN:VEVENT
DTSTAMP:20260427T000000Z
UID:b5ad498c-460c-4398-b25e-41f98fae4043@ClaytonBocce
DTSTART;TZID=America/Los_Angeles:20260618T183000
DTEND;TZID=America/Los_Angeles:20260618T210000
STATUS:CONFIRMED
SUMMARY:Masses Refugees vs Bocce or BUST
URL:/League/Schedule/3293
DESCRIPTION:Regular Season match: Masses Refugees vs Bocce o
 r BUST
LOCATION:Baldwin Court 1
END:VEVENT
BEGIN:VEVENT
DTSTAMP:20260427T000000Z
UID:7b95b93d-18c0-469e-847a-141ccfed101a@ClaytonBocce
DTSTART;TZID=America/Los_Angeles:20260625T183000
DTEND;TZID=America/Los_Angeles:20260625T210000
STATUS:CONFIRMED
SUMMARY:Masses Refugees vs Roll Models
URL:/League/Schedule/3293
DESCRIPTION:Regular Season match: Masses Refugees vs Roll Mo
 dels
LOCATION:Baldwin Court 4
END:VEVENT
BEGIN:VEVENT
DTSTAMP:20260427T000000Z
UID:e35ed588-a027-46b7-8e0f-15c02fbb68bc@ClaytonBocce
DTSTART;TZID=America/Los_Angeles:20260709T183000
DTEND;TZID=America/Los_Angeles:20260709T210000
STATUS:CONFIRMED
SUMMARY:Masses Refugees vs Our Gang
URL:/League/Schedule/3293
DESCRIPTION:Regular Season match: Masses Refugees vs Our Gan
 g
LOCATION:Baldwin Court 2
END:VEVENT
BEGIN:VEVENT
DTSTAMP:20260427T000000Z
UID:4bef7d2a-594d-4056-b0f7-1195c11db960@ClaytonBocce
DTSTART;TZID=America/Los_Angeles:20260716T183000
DTEND;TZID=America/Los_Angeles:20260716T210000
STATUS:CONFIRMED
SUMMARY:Masses Refugees vs Undaunted
URL:/League/Schedule/3293
DESCRIPTION:Regular Season match: Masses Refugees vs Undaunt
 ed
LOCATION:Baldwin Court 3
END:VEVENT
BEGIN:VEVENT
DTSTAMP:20260427T000000Z
UID:271e7db8-de77-4ef6-b372-d674f460c49d@ClaytonBocce
DTSTART;TZID=America/Los_Angeles:20260723T183000
DTEND;TZID=America/Los_Angeles:20260723T210000
STATUS:CONFIRMED
SUMMARY:Masses Refugees vs Anything Will Do!
URL:/League/Schedule/3293
DESCRIPTION:Regular Season match: Masses Refugees vs Anythin
 g Will Do!
LOCATION:Baldwin Court 4
END:VEVENT
BEGIN:VEVENT
DTSTAMP:20260427T000000Z
UID:1df53112-fd3f-4340-8275-0304f421f608@ClaytonBocce
DTSTART;TZID=America/Los_Angeles:20260730T183000
DTEND;TZID=America/Los_Angeles:20260730T210000
STATUS:CONFIRMED
SUMMARY:Masses Refugees vs Shock & Rollers
URL:/League/Schedule/3293
DESCRIPTION:Regular Season match: Masses Refugees vs Shock &
  Rollers
LOCATION:Baldwin Court 1
END:VEVENT
BEGIN:VEVENT
DTSTAMP:20260427T000000Z
UID:0212b579-88f9-42f4-99ba-a5bed9f64e00@ClaytonBocce
DTSTART;TZID=America/Los_Angeles:20260813T183000
DTEND;TZID=America/Los_Angeles:20260813T210000
STATUS:CONFIRMED
SUMMARY:Masses Refugees vs Dirt Ball Crew
URL:/League/Schedule/3293
DESCRIPTION:Regular Season match: Masses Refugees vs Dirt Ba
 ll Crew
LOCATION:Baldwin Court 1
END:VEVENT
BEGIN:VEVENT
DTSTAMP:20260427T000000Z
UID:8315bbdf-7783-4f12-a395-91793e617a39@ClaytonBocce
DTSTART;TZID=America/Los_Angeles:20260820T183000
DTEND;TZID=America/Los_Angeles:20260820T210000
STATUS:CONFIRMED
SUMMARY:Masses Refugees vs 3 Amigos
URL:/League/Schedule/3293
DESCRIPTION:Regular Season match: Masses Refugees vs 3 Amigo
 s
LOCATION:Baldwin Court 4
END:VEVENT
BEGIN:VEVENT
DTSTAMP:20260427T000000Z
UID:8a1f9837-a129-4e44-a643-1eabe44f28e8@ClaytonBocce
DTSTART;TZID=America/Los_Angeles:20260827T183000
DTEND;TZID=America/Los_Angeles:20260827T210000
STATUS:CONFIRMED
SUMMARY:Masses Refugees vs Bocce or BUST
URL:/League/Schedule/3293
DESCRIPTION:Regular Season match: Masses Refugees vs Bocce o
 r BUST
LOCATION:Baldwin Court 3
END:VEVENT
BEGIN:VEVENT
DTSTAMP:20260427T000000Z
UID:27f79543-5086-4d0a-a9c5-7b8d98b0cd90@ClaytonBocce
DTSTART;TZID=America/Los_Angeles:20260903T183000
DTEND;TZID=America/Los_Angeles:20260903T210000
STATUS:CONFIRMED
SUMMARY:Masses Refugees vs Roll Models
URL:/League/Schedule/3293
DESCRIPTION:Regular Season match: Masses Refugees vs Roll Mo
 dels
LOCATION:Baldwin Court 2
END:VEVENT
END:VCALENDAR
