BEGIN:VCALENDAR
VERSION:2.0
PRODID:-//Clayton Bocce League
METHOD:PUBLISH
BEGIN:VTIMEZONE
TZID:America/Los_Angeles
X-LIC-LOCATION:America/Los_Angeles
BEGIN:DAYLIGHT
TZOFFSETFROM:-0800
TZOFFSETTO:-0700
TZNAME:PDT
DTSTART:20070311T020000
RRULE:FREQ=YEARLY;BYMONTH=3;BYDAY=2SU
END:DAYLIGHT
BEGIN:STANDARD
TZOFFSETFROM:-0700
TZOFFSETTO:-0800
TZNAME:PST
DTSTART:20071104T020000
RRULE:FREQ=YEARLY;BYMONTH=11;BYDAY=1SU
END:STANDARD
END:VTIMEZONE
BEGIN:VEVENT
DTSTAMP:20260427T000000Z
UID:49f4ce57-0b4f-478e-858a-f4bebb3ca375@ClaytonBocce
DTSTART;TZID=America/Los_Angeles:20260507T183000
DTEND;TZID=America/Los_Angeles:20260507T210000
STATUS:CONFIRMED
SUMMARY:Anything Will Do! vs Shock & Rollers
URL:/League/Schedule/3298
DESCRIPTION:Regular Season match: Anything Will Do! vs Shock
  & Rollers
LOCATION:Baldwin Court 3
END:VEVENT
BEGIN:VEVENT
DTSTAMP:20260427T000000Z
UID:bfbacc4e-0813-408a-823b-bc391e3fa329@ClaytonBocce
DTSTART;TZID=America/Los_Angeles:20260514T183000
DTEND;TZID=America/Los_Angeles:20260514T210000
STATUS:CONFIRMED
SUMMARY:Anything Will Do! vs Masses Refugees
URL:/League/Schedule/3298
DESCRIPTION:Regular Season match: Anything Will Do! vs Masse
 s Refugees
LOCATION:Baldwin Court 2
END:VEVENT
BEGIN:VEVENT
DTSTAMP:20260427T000000Z
UID:dd362768-2567-487e-90d8-b953b031dd05@ClaytonBocce
DTSTART;TZID=America/Los_Angeles:20260521T183000
DTEND;TZID=America/Los_Angeles:20260521T210000
STATUS:CONFIRMED
SUMMARY:Anything Will Do! vs Dirt Ball Crew
URL:/League/Schedule/3298
DESCRIPTION:Regular Season match: Anything Will Do! vs Dirt 
 Ball Crew
LOCATION:Baldwin Court 1
END:VEVENT
BEGIN:VEVENT
DTSTAMP:20260427T000000Z
UID:2f8b9677-14f2-434b-8644-590133622477@ClaytonBocce
DTSTART;TZID=America/Los_Angeles:20260528T183000
DTEND;TZID=America/Los_Angeles:20260528T210000
STATUS:CONFIRMED
SUMMARY:Anything Will Do! vs 3 Amigos
URL:/League/Schedule/3298
DESCRIPTION:Regular Season match: Anything Will Do! vs 3 Ami
 gos
LOCATION:Baldwin Court 4
END:VEVENT
BEGIN:VEVENT
DTSTAMP:20260427T000000Z
UID:36799c4a-d8dd-4514-8cec-41967215fa86@ClaytonBocce
DTSTART;TZID=America/Los_Angeles:20260604T183000
DTEND;TZID=America/Los_Angeles:20260604T210000
STATUS:CONFIRMED
SUMMARY:Anything Will Do! vs Bocce or BUST
URL:/League/Schedule/3298
DESCRIPTION:Regular Season match: Anything Will Do! vs Bocce
  or BUST
LOCATION:Baldwin Court 2
END:VEVENT
BEGIN:VEVENT
DTSTAMP:20260427T000000Z
UID:ce2bbbf0-1382-4d52-a518-a63f5a4bb9cb@ClaytonBocce
DTSTART;TZID=America/Los_Angeles:20260611T183000
DTEND;TZID=America/Los_Angeles:20260611T210000
STATUS:CONFIRMED
SUMMARY:Anything Will Do! vs Roll Models
URL:/League/Schedule/3298
DESCRIPTION:Regular Season match: Anything Will Do! vs Roll 
 Models
LOCATION:Baldwin Court 3
END:VEVENT
BEGIN:VEVENT
DTSTAMP:20260427T000000Z
UID:188a2e56-2c2f-46b8-923c-f042bb55f921@ClaytonBocce
DTSTART;TZID=America/Los_Angeles:20260618T183000
DTEND;TZID=America/Los_Angeles:20260618T210000
STATUS:CONFIRMED
SUMMARY:Anything Will Do! vs Our Gang
URL:/League/Schedule/3298
DESCRIPTION:Regular Season match: Anything Will Do! vs Our G
 ang
LOCATION:Baldwin Court 4
END:VEVENT
BEGIN:VEVENT
DTSTAMP:20260427T000000Z
UID:e6fae7ad-2d80-458c-ba0e-faa32f4d55d2@ClaytonBocce
DTSTART;TZID=America/Los_Angeles:20260625T183000
DTEND;TZID=America/Los_Angeles:20260625T210000
STATUS:CONFIRMED
SUMMARY:Anything Will Do! vs Undaunted
URL:/League/Schedule/3298
DESCRIPTION:Regular Season match: Anything Will Do! vs Undau
 nted
LOCATION:Baldwin Court 1
END:VEVENT
BEGIN:VEVENT
DTSTAMP:20260427T000000Z
UID:3a066d43-1620-41b8-9af4-4fb28f27c0b8@ClaytonBocce
DTSTART;TZID=America/Los_Angeles:20260716T183000
DTEND;TZID=America/Los_Angeles:20260716T210000
STATUS:CONFIRMED
SUMMARY:Anything Will Do! vs Shock & Rollers
URL:/League/Schedule/3298
DESCRIPTION:Regular Season match: Anything Will Do! vs Shock
  & Rollers
LOCATION:Baldwin Court 1
END:VEVENT
BEGIN:VEVENT
DTSTAMP:20260427T000000Z
UID:271e7db8-de77-4ef6-b372-d674f460c49d@ClaytonBocce
DTSTART;TZID=America/Los_Angeles:20260723T183000
DTEND;TZID=America/Los_Angeles:20260723T210000
STATUS:CONFIRMED
SUMMARY:Anything Will Do! vs Masses Refugees
URL:/League/Schedule/3298
DESCRIPTION:Regular Season match: Anything Will Do! vs Masse
 s Refugees
LOCATION:Baldwin Court 4
END:VEVENT
BEGIN:VEVENT
DTSTAMP:20260427T000000Z
UID:4193091e-5b09-4a35-b6f7-2d995e0f5871@ClaytonBocce
DTSTART;TZID=America/Los_Angeles:20260730T183000
DTEND;TZID=America/Los_Angeles:20260730T210000
STATUS:CONFIRMED
SUMMARY:Anything Will Do! vs Dirt Ball Crew
URL:/League/Schedule/3298
DESCRIPTION:Regular Season match: Anything Will Do! vs Dirt 
 Ball Crew
LOCATION:Baldwin Court 3
END:VEVENT
BEGIN:VEVENT
DTSTAMP:20260427T000000Z
UID:6a01af5c-a44e-41be-8814-3b8b506b030a@ClaytonBocce
DTSTART;TZID=America/Los_Angeles:20260806T183000
DTEND;TZID=America/Los_Angeles:20260806T210000
STATUS:CONFIRMED
SUMMARY:Anything Will Do! vs 3 Amigos
URL:/League/Schedule/3298
DESCRIPTION:Regular Season match: Anything Will Do! vs 3 Ami
 gos
LOCATION:Baldwin Court 2
END:VEVENT
BEGIN:VEVENT
DTSTAMP:20260427T000000Z
UID:e01c19ac-9bd4-4afe-83af-9db7edfe8d16@ClaytonBocce
DTSTART;TZID=America/Los_Angeles:20260813T183000
DTEND;TZID=America/Los_Angeles:20260813T210000
STATUS:CONFIRMED
SUMMARY:Anything Will Do! vs Bocce or BUST
URL:/League/Schedule/3298
DESCRIPTION:Regular Season match: Anything Will Do! vs Bocce
  or BUST
LOCATION:Baldwin Court 4
END:VEVENT
BEGIN:VEVENT
DTSTAMP:20260427T000000Z
UID:c3f80363-61ec-49f3-864d-9fe92224f8c2@ClaytonBocce
DTSTART;TZID=America/Los_Angeles:20260820T183000
DTEND;TZID=America/Los_Angeles:20260820T210000
STATUS:CONFIRMED
SUMMARY:Anything Will Do! vs Roll Models
URL:/League/Schedule/3298
DESCRIPTION:Regular Season match: Anything Will Do! vs Roll 
 Models
LOCATION:Baldwin Court 1
END:VEVENT
BEGIN:VEVENT
DTSTAMP:20260427T000000Z
UID:8613a14f-08b9-478a-a516-20641c1137a3@ClaytonBocce
DTSTART;TZID=America/Los_Angeles:20260827T183000
DTEND;TZID=America/Los_Angeles:20260827T210000
STATUS:CONFIRMED
SUMMARY:Anything Will Do! vs Our Gang
URL:/League/Schedule/3298
DESCRIPTION:Regular Season match: Anything Will Do! vs Our G
 ang
LOCATION:Baldwin Court 2
END:VEVENT
BEGIN:VEVENT
DTSTAMP:20260427T000000Z
UID:73d622b5-2a5e-4012-b3d5-77cf2e220497@ClaytonBocce
DTSTART;TZID=America/Los_Angeles:20260903T183000
DTEND;TZID=America/Los_Angeles:20260903T210000
STATUS:CONFIRMED
SUMMARY:Anything Will Do! vs Undaunted
URL:/League/Schedule/3298
DESCRIPTION:Regular Season match: Anything Will Do! vs Undau
 nted
LOCATION:Baldwin Court 3
END:VEVENT
END:VCALENDAR
