BEGIN:VCALENDAR
VERSION:2.0
PRODID:-//Clayton Bocce League
METHOD:PUBLISH
BEGIN:VTIMEZONE
TZID:America/Los_Angeles
X-LIC-LOCATION:America/Los_Angeles
BEGIN:DAYLIGHT
TZOFFSETFROM:-0800
TZOFFSETTO:-0700
TZNAME:PDT
DTSTART:20070311T020000
RRULE:FREQ=YEARLY;BYMONTH=3;BYDAY=2SU
END:DAYLIGHT
BEGIN:STANDARD
TZOFFSETFROM:-0700
TZOFFSETTO:-0800
TZNAME:PST
DTSTART:20071104T020000
RRULE:FREQ=YEARLY;BYMONTH=11;BYDAY=1SU
END:STANDARD
END:VTIMEZONE
BEGIN:VEVENT
DTSTAMP:20260427T000000Z
UID:36be0358-fdf0-4813-b9be-6c3de4e04461@ClaytonBocce
DTSTART;TZID=America/Los_Angeles:20260430T183000
DTEND;TZID=America/Los_Angeles:20260430T210000
STATUS:CONFIRMED
SUMMARY:Roll Models vs Dirt Ball Crew
URL:/League/Schedule/3297
DESCRIPTION:Regular Season match: Roll Models vs Dirt Ball C
 rew
LOCATION:Baldwin Court 3
END:VEVENT
BEGIN:VEVENT
DTSTAMP:20260427T000000Z
UID:4b7b9d8c-46cc-4432-8806-019ebd2461aa@ClaytonBocce
DTSTART;TZID=America/Los_Angeles:20260507T183000
DTEND;TZID=America/Los_Angeles:20260507T210000
STATUS:CONFIRMED
SUMMARY:Roll Models vs 3 Amigos
URL:/League/Schedule/3297
DESCRIPTION:Regular Season match: Roll Models vs 3 Amigos
LOCATION:Baldwin Court 4
END:VEVENT
BEGIN:VEVENT
DTSTAMP:20260427T000000Z
UID:937c4d19-1e4b-4afa-8b67-5b1d440a8324@ClaytonBocce
DTSTART;TZID=America/Los_Angeles:20260514T183000
DTEND;TZID=America/Los_Angeles:20260514T210000
STATUS:CONFIRMED
SUMMARY:Roll Models vs Bocce or BUST
URL:/League/Schedule/3297
DESCRIPTION:Regular Season match: Roll Models vs Bocce or BU
 ST
LOCATION:Baldwin Court 1
END:VEVENT
BEGIN:VEVENT
DTSTAMP:20260427T000000Z
UID:8ca48d46-15ea-4bc1-8395-dbabb229e3a4@ClaytonBocce
DTSTART;TZID=America/Los_Angeles:20260528T183000
DTEND;TZID=America/Los_Angeles:20260528T210000
STATUS:CONFIRMED
SUMMARY:Roll Models vs Our Gang
URL:/League/Schedule/3297
DESCRIPTION:Regular Season match: Roll Models vs Our Gang
LOCATION:Baldwin Court 1
END:VEVENT
BEGIN:VEVENT
DTSTAMP:20260427T000000Z
UID:8dc7ab4d-202e-41c4-a75e-61a533565894@ClaytonBocce
DTSTART;TZID=America/Los_Angeles:20260604T183000
DTEND;TZID=America/Los_Angeles:20260604T210000
STATUS:CONFIRMED
SUMMARY:Roll Models vs Undaunted
URL:/League/Schedule/3297
DESCRIPTION:Regular Season match: Roll Models vs Undaunted
LOCATION:Baldwin Court 4
END:VEVENT
BEGIN:VEVENT
DTSTAMP:20260427T000000Z
UID:ce2bbbf0-1382-4d52-a518-a63f5a4bb9cb@ClaytonBocce
DTSTART;TZID=America/Los_Angeles:20260611T183000
DTEND;TZID=America/Los_Angeles:20260611T210000
STATUS:CONFIRMED
SUMMARY:Roll Models vs Anything Will Do!
URL:/League/Schedule/3297
DESCRIPTION:Regular Season match: Roll Models vs Anything Wi
 ll Do!
LOCATION:Baldwin Court 3
END:VEVENT
BEGIN:VEVENT
DTSTAMP:20260427T000000Z
UID:446b9f26-55f8-4204-af59-967aa538b29b@ClaytonBocce
DTSTART;TZID=America/Los_Angeles:20260618T183000
DTEND;TZID=America/Los_Angeles:20260618T210000
STATUS:CONFIRMED
SUMMARY:Roll Models vs Shock & Rollers
URL:/League/Schedule/3297
DESCRIPTION:Regular Season match: Roll Models vs Shock & Rol
 lers
LOCATION:Baldwin Court 2
END:VEVENT
BEGIN:VEVENT
DTSTAMP:20260427T000000Z
UID:7b95b93d-18c0-469e-847a-141ccfed101a@ClaytonBocce
DTSTART;TZID=America/Los_Angeles:20260625T183000
DTEND;TZID=America/Los_Angeles:20260625T210000
STATUS:CONFIRMED
SUMMARY:Roll Models vs Masses Refugees
URL:/League/Schedule/3297
DESCRIPTION:Regular Season match: Roll Models vs Masses Refu
 gees
LOCATION:Baldwin Court 4
END:VEVENT
BEGIN:VEVENT
DTSTAMP:20260427T000000Z
UID:53e0b91b-6ae1-4b98-906f-8f89057afaea@ClaytonBocce
DTSTART;TZID=America/Los_Angeles:20260709T183000
DTEND;TZID=America/Los_Angeles:20260709T210000
STATUS:CONFIRMED
SUMMARY:Roll Models vs Dirt Ball Crew
URL:/League/Schedule/3297
DESCRIPTION:Regular Season match: Roll Models vs Dirt Ball C
 rew
LOCATION:Baldwin Court 1
END:VEVENT
BEGIN:VEVENT
DTSTAMP:20260427T000000Z
UID:c7e10bf2-97fe-4032-ba3a-3f3c81e54118@ClaytonBocce
DTSTART;TZID=America/Los_Angeles:20260716T183000
DTEND;TZID=America/Los_Angeles:20260716T210000
STATUS:CONFIRMED
SUMMARY:Roll Models vs 3 Amigos
URL:/League/Schedule/3297
DESCRIPTION:Regular Season match: Roll Models vs 3 Amigos
LOCATION:Baldwin Court 2
END:VEVENT
BEGIN:VEVENT
DTSTAMP:20260427T000000Z
UID:7f3be9d6-7149-4320-a4a0-c6748ddffa1c@ClaytonBocce
DTSTART;TZID=America/Los_Angeles:20260723T183000
DTEND;TZID=America/Los_Angeles:20260723T210000
STATUS:CONFIRMED
SUMMARY:Roll Models vs Bocce or BUST
URL:/League/Schedule/3297
DESCRIPTION:Regular Season match: Roll Models vs Bocce or BU
 ST
LOCATION:Baldwin Court 3
END:VEVENT
BEGIN:VEVENT
DTSTAMP:20260427T000000Z
UID:83d897c3-7d69-4051-b86f-e3cc1dd2dad4@ClaytonBocce
DTSTART;TZID=America/Los_Angeles:20260806T183000
DTEND;TZID=America/Los_Angeles:20260806T210000
STATUS:CONFIRMED
SUMMARY:Roll Models vs Our Gang
URL:/League/Schedule/3297
DESCRIPTION:Regular Season match: Roll Models vs Our Gang
LOCATION:Baldwin Court 3
END:VEVENT
BEGIN:VEVENT
DTSTAMP:20260427T000000Z
UID:a2a01c35-9578-406b-a24d-afc177527cc6@ClaytonBocce
DTSTART;TZID=America/Los_Angeles:20260813T183000
DTEND;TZID=America/Los_Angeles:20260813T210000
STATUS:CONFIRMED
SUMMARY:Roll Models vs Undaunted
URL:/League/Schedule/3297
DESCRIPTION:Regular Season match: Roll Models vs Undaunted
LOCATION:Baldwin Court 2
END:VEVENT
BEGIN:VEVENT
DTSTAMP:20260427T000000Z
UID:c3f80363-61ec-49f3-864d-9fe92224f8c2@ClaytonBocce
DTSTART;TZID=America/Los_Angeles:20260820T183000
DTEND;TZID=America/Los_Angeles:20260820T210000
STATUS:CONFIRMED
SUMMARY:Roll Models vs Anything Will Do!
URL:/League/Schedule/3297
DESCRIPTION:Regular Season match: Roll Models vs Anything Wi
 ll Do!
LOCATION:Baldwin Court 1
END:VEVENT
BEGIN:VEVENT
DTSTAMP:20260427T000000Z
UID:38bd35d2-2ee7-48ae-ae06-2fcb96a90511@ClaytonBocce
DTSTART;TZID=America/Los_Angeles:20260827T183000
DTEND;TZID=America/Los_Angeles:20260827T210000
STATUS:CONFIRMED
SUMMARY:Roll Models vs Shock & Rollers
URL:/League/Schedule/3297
DESCRIPTION:Regular Season match: Roll Models vs Shock & Rol
 lers
LOCATION:Baldwin Court 4
END:VEVENT
BEGIN:VEVENT
DTSTAMP:20260427T000000Z
UID:27f79543-5086-4d0a-a9c5-7b8d98b0cd90@ClaytonBocce
DTSTART;TZID=America/Los_Angeles:20260903T183000
DTEND;TZID=America/Los_Angeles:20260903T210000
STATUS:CONFIRMED
SUMMARY:Roll Models vs Masses Refugees
URL:/League/Schedule/3297
DESCRIPTION:Regular Season match: Roll Models vs Masses Refu
 gees
LOCATION:Baldwin Court 2
END:VEVENT
END:VCALENDAR
