BEGIN:VCALENDAR
VERSION:2.0
PRODID:-//Clayton Bocce League
METHOD:PUBLISH
BEGIN:VTIMEZONE
TZID:America/Los_Angeles
X-LIC-LOCATION:America/Los_Angeles
BEGIN:DAYLIGHT
TZOFFSETFROM:-0800
TZOFFSETTO:-0700
TZNAME:PDT
DTSTART:20070311T020000
RRULE:FREQ=YEARLY;BYMONTH=3;BYDAY=2SU
END:DAYLIGHT
BEGIN:STANDARD
TZOFFSETFROM:-0700
TZOFFSETTO:-0800
TZNAME:PST
DTSTART:20071104T020000
RRULE:FREQ=YEARLY;BYMONTH=11;BYDAY=1SU
END:STANDARD
END:VTIMEZONE
BEGIN:VEVENT
DTSTAMP:20260427T000000Z
UID:36be0358-fdf0-4813-b9be-6c3de4e04461@ClaytonBocce
DTSTART;TZID=America/Los_Angeles:20260430T183000
DTEND;TZID=America/Los_Angeles:20260430T210000
STATUS:CONFIRMED
SUMMARY:Dirt Ball Crew vs Roll Models
URL:/League/Schedule/3291
DESCRIPTION:Regular Season match: Dirt Ball Crew vs Roll Mod
 els
LOCATION:Baldwin Court 3
END:VEVENT
BEGIN:VEVENT
DTSTAMP:20260427T000000Z
UID:497ad45f-72a8-4ae1-8195-def8369f9bd1@ClaytonBocce
DTSTART;TZID=America/Los_Angeles:20260507T183000
DTEND;TZID=America/Los_Angeles:20260507T210000
STATUS:CONFIRMED
SUMMARY:Dirt Ball Crew vs Our Gang
URL:/League/Schedule/3291
DESCRIPTION:Regular Season match: Dirt Ball Crew vs Our Gang
LOCATION:Baldwin Court 2
END:VEVENT
BEGIN:VEVENT
DTSTAMP:20260427T000000Z
UID:ce8303e0-c169-4925-91c2-d3bcba279233@ClaytonBocce
DTSTART;TZID=America/Los_Angeles:20260514T183000
DTEND;TZID=America/Los_Angeles:20260514T210000
STATUS:CONFIRMED
SUMMARY:Dirt Ball Crew vs Undaunted
URL:/League/Schedule/3291
DESCRIPTION:Regular Season match: Dirt Ball Crew vs Undaunte
 d
LOCATION:Baldwin Court 4
END:VEVENT
BEGIN:VEVENT
DTSTAMP:20260427T000000Z
UID:dd362768-2567-487e-90d8-b953b031dd05@ClaytonBocce
DTSTART;TZID=America/Los_Angeles:20260521T183000
DTEND;TZID=America/Los_Angeles:20260521T210000
STATUS:CONFIRMED
SUMMARY:Dirt Ball Crew vs Anything Will Do!
URL:/League/Schedule/3291
DESCRIPTION:Regular Season match: Dirt Ball Crew vs Anything
  Will Do!
LOCATION:Baldwin Court 1
END:VEVENT
BEGIN:VEVENT
DTSTAMP:20260427T000000Z
UID:c0f488c5-0ac7-432c-af05-79e25645d907@ClaytonBocce
DTSTART;TZID=America/Los_Angeles:20260528T183000
DTEND;TZID=America/Los_Angeles:20260528T210000
STATUS:CONFIRMED
SUMMARY:Dirt Ball Crew vs Shock & Rollers
URL:/League/Schedule/3291
DESCRIPTION:Regular Season match: Dirt Ball Crew vs Shock & 
 Rollers
LOCATION:Baldwin Court 2
END:VEVENT
BEGIN:VEVENT
DTSTAMP:20260427T000000Z
UID:7501848d-356d-4e72-a420-a5ef7e22a8f7@ClaytonBocce
DTSTART;TZID=America/Los_Angeles:20260604T183000
DTEND;TZID=America/Los_Angeles:20260604T210000
STATUS:CONFIRMED
SUMMARY:Dirt Ball Crew vs Masses Refugees
URL:/League/Schedule/3291
DESCRIPTION:Regular Season match: Dirt Ball Crew vs Masses R
 efugees
LOCATION:Baldwin Court 3
END:VEVENT
BEGIN:VEVENT
DTSTAMP:20260427T000000Z
UID:86c0aa00-853e-4205-b9e2-80e52317dcf7@ClaytonBocce
DTSTART;TZID=America/Los_Angeles:20260618T183000
DTEND;TZID=America/Los_Angeles:20260618T210000
STATUS:CONFIRMED
SUMMARY:Dirt Ball Crew vs 3 Amigos
URL:/League/Schedule/3291
DESCRIPTION:Regular Season match: Dirt Ball Crew vs 3 Amigos
LOCATION:Baldwin Court 3
END:VEVENT
BEGIN:VEVENT
DTSTAMP:20260427T000000Z
UID:4ffe7583-2bad-4633-a4a8-c8eecea2b40a@ClaytonBocce
DTSTART;TZID=America/Los_Angeles:20260625T183000
DTEND;TZID=America/Los_Angeles:20260625T210000
STATUS:CONFIRMED
SUMMARY:Dirt Ball Crew vs Bocce or BUST
URL:/League/Schedule/3291
DESCRIPTION:Regular Season match: Dirt Ball Crew vs Bocce or
  BUST
LOCATION:Baldwin Court 2
END:VEVENT
BEGIN:VEVENT
DTSTAMP:20260427T000000Z
UID:53e0b91b-6ae1-4b98-906f-8f89057afaea@ClaytonBocce
DTSTART;TZID=America/Los_Angeles:20260709T183000
DTEND;TZID=America/Los_Angeles:20260709T210000
STATUS:CONFIRMED
SUMMARY:Dirt Ball Crew vs Roll Models
URL:/League/Schedule/3291
DESCRIPTION:Regular Season match: Dirt Ball Crew vs Roll Mod
 els
LOCATION:Baldwin Court 1
END:VEVENT
BEGIN:VEVENT
DTSTAMP:20260427T000000Z
UID:92504386-6403-4928-b206-d786bd03747a@ClaytonBocce
DTSTART;TZID=America/Los_Angeles:20260716T183000
DTEND;TZID=America/Los_Angeles:20260716T210000
STATUS:CONFIRMED
SUMMARY:Dirt Ball Crew vs Our Gang
URL:/League/Schedule/3291
DESCRIPTION:Regular Season match: Dirt Ball Crew vs Our Gang
LOCATION:Baldwin Court 4
END:VEVENT
BEGIN:VEVENT
DTSTAMP:20260427T000000Z
UID:a7db0b5c-31f5-4e30-be60-2da7ffb3f1c9@ClaytonBocce
DTSTART;TZID=America/Los_Angeles:20260723T183000
DTEND;TZID=America/Los_Angeles:20260723T210000
STATUS:CONFIRMED
SUMMARY:Dirt Ball Crew vs Undaunted
URL:/League/Schedule/3291
DESCRIPTION:Regular Season match: Dirt Ball Crew vs Undaunte
 d
LOCATION:Baldwin Court 2
END:VEVENT
BEGIN:VEVENT
DTSTAMP:20260427T000000Z
UID:4193091e-5b09-4a35-b6f7-2d995e0f5871@ClaytonBocce
DTSTART;TZID=America/Los_Angeles:20260730T183000
DTEND;TZID=America/Los_Angeles:20260730T210000
STATUS:CONFIRMED
SUMMARY:Dirt Ball Crew vs Anything Will Do!
URL:/League/Schedule/3291
DESCRIPTION:Regular Season match: Dirt Ball Crew vs Anything
  Will Do!
LOCATION:Baldwin Court 3
END:VEVENT
BEGIN:VEVENT
DTSTAMP:20260427T000000Z
UID:f7b6e5e4-f485-4b92-9843-d4f00ccc9ec9@ClaytonBocce
DTSTART;TZID=America/Los_Angeles:20260806T183000
DTEND;TZID=America/Los_Angeles:20260806T210000
STATUS:CONFIRMED
SUMMARY:Dirt Ball Crew vs Shock & Rollers
URL:/League/Schedule/3291
DESCRIPTION:Regular Season match: Dirt Ball Crew vs Shock & 
 Rollers
LOCATION:Baldwin Court 4
END:VEVENT
BEGIN:VEVENT
DTSTAMP:20260427T000000Z
UID:0212b579-88f9-42f4-99ba-a5bed9f64e00@ClaytonBocce
DTSTART;TZID=America/Los_Angeles:20260813T183000
DTEND;TZID=America/Los_Angeles:20260813T210000
STATUS:CONFIRMED
SUMMARY:Dirt Ball Crew vs Masses Refugees
URL:/League/Schedule/3291
DESCRIPTION:Regular Season match: Dirt Ball Crew vs Masses R
 efugees
LOCATION:Baldwin Court 1
END:VEVENT
BEGIN:VEVENT
DTSTAMP:20260427T000000Z
UID:edd2a9c1-300c-4e4e-af3a-566cc72fd351@ClaytonBocce
DTSTART;TZID=America/Los_Angeles:20260827T183000
DTEND;TZID=America/Los_Angeles:20260827T210000
STATUS:CONFIRMED
SUMMARY:Dirt Ball Crew vs 3 Amigos
URL:/League/Schedule/3291
DESCRIPTION:Regular Season match: Dirt Ball Crew vs 3 Amigos
LOCATION:Baldwin Court 1
END:VEVENT
BEGIN:VEVENT
DTSTAMP:20260427T000000Z
UID:7312fe75-6ca9-42f8-93ed-c1e8bd0e0710@ClaytonBocce
DTSTART;TZID=America/Los_Angeles:20260903T183000
DTEND;TZID=America/Los_Angeles:20260903T210000
STATUS:CONFIRMED
SUMMARY:Dirt Ball Crew vs Bocce or BUST
URL:/League/Schedule/3291
DESCRIPTION:Regular Season match: Dirt Ball Crew vs Bocce or
  BUST
LOCATION:Baldwin Court 4
END:VEVENT
END:VCALENDAR
