BEGIN:VCALENDAR
VERSION:2.0
PRODID:-//Clayton Bocce League
METHOD:PUBLISH
BEGIN:VTIMEZONE
TZID:America/Los_Angeles
X-LIC-LOCATION:America/Los_Angeles
BEGIN:DAYLIGHT
TZOFFSETFROM:-0800
TZOFFSETTO:-0700
TZNAME:PDT
DTSTART:20070311T020000
RRULE:FREQ=YEARLY;BYMONTH=3;BYDAY=2SU
END:DAYLIGHT
BEGIN:STANDARD
TZOFFSETFROM:-0700
TZOFFSETTO:-0800
TZNAME:PST
DTSTART:20071104T020000
RRULE:FREQ=YEARLY;BYMONTH=11;BYDAY=1SU
END:STANDARD
END:VTIMEZONE
BEGIN:VEVENT
DTSTAMP:20260427T000000Z
UID:5fd6045f-7abd-47b6-9d68-0c576b6ccda4@ClaytonBocce
DTSTART;TZID=America/Los_Angeles:20260430T183000
DTEND;TZID=America/Los_Angeles:20260430T210000
STATUS:CONFIRMED
SUMMARY:Shock & Rollers vs Undaunted
URL:/League/Schedule/3292
DESCRIPTION:Regular Season match: Shock & Rollers vs Undaunt
 ed
LOCATION:Baldwin Court 2
END:VEVENT
BEGIN:VEVENT
DTSTAMP:20260427T000000Z
UID:49f4ce57-0b4f-478e-858a-f4bebb3ca375@ClaytonBocce
DTSTART;TZID=America/Los_Angeles:20260507T183000
DTEND;TZID=America/Los_Angeles:20260507T210000
STATUS:CONFIRMED
SUMMARY:Shock & Rollers vs Anything Will Do!
URL:/League/Schedule/3292
DESCRIPTION:Regular Season match: Shock & Rollers vs Anythin
 g Will Do!
LOCATION:Baldwin Court 3
END:VEVENT
BEGIN:VEVENT
DTSTAMP:20260427T000000Z
UID:113e7a79-9269-4955-817e-99fe8ec70259@ClaytonBocce
DTSTART;TZID=America/Los_Angeles:20260521T183000
DTEND;TZID=America/Los_Angeles:20260521T210000
STATUS:CONFIRMED
SUMMARY:Shock & Rollers vs Masses Refugees
URL:/League/Schedule/3292
DESCRIPTION:Regular Season match: Shock & Rollers vs Masses 
 Refugees
LOCATION:Baldwin Court 3
END:VEVENT
BEGIN:VEVENT
DTSTAMP:20260427T000000Z
UID:c0f488c5-0ac7-432c-af05-79e25645d907@ClaytonBocce
DTSTART;TZID=America/Los_Angeles:20260528T183000
DTEND;TZID=America/Los_Angeles:20260528T210000
STATUS:CONFIRMED
SUMMARY:Shock & Rollers vs Dirt Ball Crew
URL:/League/Schedule/3292
DESCRIPTION:Regular Season match: Shock & Rollers vs Dirt Ba
 ll Crew
LOCATION:Baldwin Court 2
END:VEVENT
BEGIN:VEVENT
DTSTAMP:20260427T000000Z
UID:78f5deaa-2253-43f9-87fb-a9c307e757dd@ClaytonBocce
DTSTART;TZID=America/Los_Angeles:20260604T183000
DTEND;TZID=America/Los_Angeles:20260604T210000
STATUS:CONFIRMED
SUMMARY:Shock & Rollers vs 3 Amigos
URL:/League/Schedule/3292
DESCRIPTION:Regular Season match: Shock & Rollers vs 3 Amigo
 s
LOCATION:Baldwin Court 1
END:VEVENT
BEGIN:VEVENT
DTSTAMP:20260427T000000Z
UID:495ea728-c9ba-4c33-bfe3-226c8094dad7@ClaytonBocce
DTSTART;TZID=America/Los_Angeles:20260611T183000
DTEND;TZID=America/Los_Angeles:20260611T210000
STATUS:CONFIRMED
SUMMARY:Shock & Rollers vs Bocce or BUST
URL:/League/Schedule/3292
DESCRIPTION:Regular Season match: Shock & Rollers vs Bocce o
 r BUST
LOCATION:Baldwin Court 4
END:VEVENT
BEGIN:VEVENT
DTSTAMP:20260427T000000Z
UID:446b9f26-55f8-4204-af59-967aa538b29b@ClaytonBocce
DTSTART;TZID=America/Los_Angeles:20260618T183000
DTEND;TZID=America/Los_Angeles:20260618T210000
STATUS:CONFIRMED
SUMMARY:Shock & Rollers vs Roll Models
URL:/League/Schedule/3292
DESCRIPTION:Regular Season match: Shock & Rollers vs Roll Mo
 dels
LOCATION:Baldwin Court 2
END:VEVENT
BEGIN:VEVENT
DTSTAMP:20260427T000000Z
UID:087121e6-70d3-4b8b-ae4e-85fb244219c5@ClaytonBocce
DTSTART;TZID=America/Los_Angeles:20260625T183000
DTEND;TZID=America/Los_Angeles:20260625T210000
STATUS:CONFIRMED
SUMMARY:Shock & Rollers vs Our Gang
URL:/League/Schedule/3292
DESCRIPTION:Regular Season match: Shock & Rollers vs Our Gan
 g
LOCATION:Baldwin Court 3
END:VEVENT
BEGIN:VEVENT
DTSTAMP:20260427T000000Z
UID:41516bcf-1462-4a8f-9256-29f653c374bc@ClaytonBocce
DTSTART;TZID=America/Los_Angeles:20260709T183000
DTEND;TZID=America/Los_Angeles:20260709T210000
STATUS:CONFIRMED
SUMMARY:Shock & Rollers vs Undaunted
URL:/League/Schedule/3292
DESCRIPTION:Regular Season match: Shock & Rollers vs Undaunt
 ed
LOCATION:Baldwin Court 4
END:VEVENT
BEGIN:VEVENT
DTSTAMP:20260427T000000Z
UID:3a066d43-1620-41b8-9af4-4fb28f27c0b8@ClaytonBocce
DTSTART;TZID=America/Los_Angeles:20260716T183000
DTEND;TZID=America/Los_Angeles:20260716T210000
STATUS:CONFIRMED
SUMMARY:Shock & Rollers vs Anything Will Do!
URL:/League/Schedule/3292
DESCRIPTION:Regular Season match: Shock & Rollers vs Anythin
 g Will Do!
LOCATION:Baldwin Court 1
END:VEVENT
BEGIN:VEVENT
DTSTAMP:20260427T000000Z
UID:1df53112-fd3f-4340-8275-0304f421f608@ClaytonBocce
DTSTART;TZID=America/Los_Angeles:20260730T183000
DTEND;TZID=America/Los_Angeles:20260730T210000
STATUS:CONFIRMED
SUMMARY:Shock & Rollers vs Masses Refugees
URL:/League/Schedule/3292
DESCRIPTION:Regular Season match: Shock & Rollers vs Masses 
 Refugees
LOCATION:Baldwin Court 1
END:VEVENT
BEGIN:VEVENT
DTSTAMP:20260427T000000Z
UID:f7b6e5e4-f485-4b92-9843-d4f00ccc9ec9@ClaytonBocce
DTSTART;TZID=America/Los_Angeles:20260806T183000
DTEND;TZID=America/Los_Angeles:20260806T210000
STATUS:CONFIRMED
SUMMARY:Shock & Rollers vs Dirt Ball Crew
URL:/League/Schedule/3292
DESCRIPTION:Regular Season match: Shock & Rollers vs Dirt Ba
 ll Crew
LOCATION:Baldwin Court 4
END:VEVENT
BEGIN:VEVENT
DTSTAMP:20260427T000000Z
UID:057344d8-ccc4-4549-9187-6c1a8bbb5c3d@ClaytonBocce
DTSTART;TZID=America/Los_Angeles:20260813T183000
DTEND;TZID=America/Los_Angeles:20260813T210000
STATUS:CONFIRMED
SUMMARY:Shock & Rollers vs 3 Amigos
URL:/League/Schedule/3292
DESCRIPTION:Regular Season match: Shock & Rollers vs 3 Amigo
 s
LOCATION:Baldwin Court 3
END:VEVENT
BEGIN:VEVENT
DTSTAMP:20260427T000000Z
UID:99fbe004-9118-4dab-b489-304b48700db1@ClaytonBocce
DTSTART;TZID=America/Los_Angeles:20260820T183000
DTEND;TZID=America/Los_Angeles:20260820T210000
STATUS:CONFIRMED
SUMMARY:Shock & Rollers vs Bocce or BUST
URL:/League/Schedule/3292
DESCRIPTION:Regular Season match: Shock & Rollers vs Bocce o
 r BUST
LOCATION:Baldwin Court 2
END:VEVENT
BEGIN:VEVENT
DTSTAMP:20260427T000000Z
UID:38bd35d2-2ee7-48ae-ae06-2fcb96a90511@ClaytonBocce
DTSTART;TZID=America/Los_Angeles:20260827T183000
DTEND;TZID=America/Los_Angeles:20260827T210000
STATUS:CONFIRMED
SUMMARY:Shock & Rollers vs Roll Models
URL:/League/Schedule/3292
DESCRIPTION:Regular Season match: Shock & Rollers vs Roll Mo
 dels
LOCATION:Baldwin Court 4
END:VEVENT
BEGIN:VEVENT
DTSTAMP:20260427T000000Z
UID:01d5ebb0-683a-4e1c-a427-2181b99a5c5a@ClaytonBocce
DTSTART;TZID=America/Los_Angeles:20260903T183000
DTEND;TZID=America/Los_Angeles:20260903T210000
STATUS:CONFIRMED
SUMMARY:Shock & Rollers vs Our Gang
URL:/League/Schedule/3292
DESCRIPTION:Regular Season match: Shock & Rollers vs Our Gan
 g
LOCATION:Baldwin Court 1
END:VEVENT
END:VCALENDAR
