BEGIN:VCALENDAR
VERSION:2.0
PRODID:-//Clayton Bocce League
METHOD:PUBLISH
BEGIN:VTIMEZONE
TZID:America/Los_Angeles
X-LIC-LOCATION:America/Los_Angeles
BEGIN:DAYLIGHT
TZOFFSETFROM:-0800
TZOFFSETTO:-0700
TZNAME:PDT
DTSTART:20070311T020000
RRULE:FREQ=YEARLY;BYMONTH=3;BYDAY=2SU
END:DAYLIGHT
BEGIN:STANDARD
TZOFFSETFROM:-0700
TZOFFSETTO:-0800
TZNAME:PST
DTSTART:20071104T020000
RRULE:FREQ=YEARLY;BYMONTH=11;BYDAY=1SU
END:STANDARD
END:VTIMEZONE
BEGIN:VEVENT
DTSTAMP:20260427T000000Z
UID:5fd6045f-7abd-47b6-9d68-0c576b6ccda4@ClaytonBocce
DTSTART;TZID=America/Los_Angeles:20260430T183000
DTEND;TZID=America/Los_Angeles:20260430T210000
STATUS:CONFIRMED
SUMMARY:Undaunted vs Shock & Rollers
URL:/League/Schedule/3290
DESCRIPTION:Regular Season match: Undaunted vs Shock & Rolle
 rs
LOCATION:Baldwin Court 2
END:VEVENT
BEGIN:VEVENT
DTSTAMP:20260427T000000Z
UID:072ff44d-d079-43e3-9331-5063ce8cc8b1@ClaytonBocce
DTSTART;TZID=America/Los_Angeles:20260507T183000
DTEND;TZID=America/Los_Angeles:20260507T210000
STATUS:CONFIRMED
SUMMARY:Undaunted vs Masses Refugees
URL:/League/Schedule/3290
DESCRIPTION:Regular Season match: Undaunted vs Masses Refuge
 es
LOCATION:Baldwin Court 1
END:VEVENT
BEGIN:VEVENT
DTSTAMP:20260427T000000Z
UID:ce8303e0-c169-4925-91c2-d3bcba279233@ClaytonBocce
DTSTART;TZID=America/Los_Angeles:20260514T183000
DTEND;TZID=America/Los_Angeles:20260514T210000
STATUS:CONFIRMED
SUMMARY:Undaunted vs Dirt Ball Crew
URL:/League/Schedule/3290
DESCRIPTION:Regular Season match: Undaunted vs Dirt Ball Cre
 w
LOCATION:Baldwin Court 4
END:VEVENT
BEGIN:VEVENT
DTSTAMP:20260427T000000Z
UID:86a725a2-10fe-4c43-9b9d-c7faf904503e@ClaytonBocce
DTSTART;TZID=America/Los_Angeles:20260521T183000
DTEND;TZID=America/Los_Angeles:20260521T210000
STATUS:CONFIRMED
SUMMARY:Undaunted vs 3 Amigos
URL:/League/Schedule/3290
DESCRIPTION:Regular Season match: Undaunted vs 3 Amigos
LOCATION:Baldwin Court 2
END:VEVENT
BEGIN:VEVENT
DTSTAMP:20260427T000000Z
UID:d92bde1d-4124-4872-b69c-43510ab92187@ClaytonBocce
DTSTART;TZID=America/Los_Angeles:20260528T183000
DTEND;TZID=America/Los_Angeles:20260528T210000
STATUS:CONFIRMED
SUMMARY:Undaunted vs Bocce or BUST
URL:/League/Schedule/3290
DESCRIPTION:Regular Season match: Undaunted vs Bocce or BUST
LOCATION:Baldwin Court 3
END:VEVENT
BEGIN:VEVENT
DTSTAMP:20260427T000000Z
UID:8dc7ab4d-202e-41c4-a75e-61a533565894@ClaytonBocce
DTSTART;TZID=America/Los_Angeles:20260604T183000
DTEND;TZID=America/Los_Angeles:20260604T210000
STATUS:CONFIRMED
SUMMARY:Undaunted vs Roll Models
URL:/League/Schedule/3290
DESCRIPTION:Regular Season match: Undaunted vs Roll Models
LOCATION:Baldwin Court 4
END:VEVENT
BEGIN:VEVENT
DTSTAMP:20260427T000000Z
UID:612f0187-5094-494b-8655-ee5769303f10@ClaytonBocce
DTSTART;TZID=America/Los_Angeles:20260611T183000
DTEND;TZID=America/Los_Angeles:20260611T210000
STATUS:CONFIRMED
SUMMARY:Undaunted vs Our Gang
URL:/League/Schedule/3290
DESCRIPTION:Regular Season match: Undaunted vs Our Gang
LOCATION:Baldwin Court 1
END:VEVENT
BEGIN:VEVENT
DTSTAMP:20260427T000000Z
UID:e6fae7ad-2d80-458c-ba0e-faa32f4d55d2@ClaytonBocce
DTSTART;TZID=America/Los_Angeles:20260625T183000
DTEND;TZID=America/Los_Angeles:20260625T210000
STATUS:CONFIRMED
SUMMARY:Undaunted vs Anything Will Do!
URL:/League/Schedule/3290
DESCRIPTION:Regular Season match: Undaunted vs Anything Will
  Do!
LOCATION:Baldwin Court 1
END:VEVENT
BEGIN:VEVENT
DTSTAMP:20260427T000000Z
UID:41516bcf-1462-4a8f-9256-29f653c374bc@ClaytonBocce
DTSTART;TZID=America/Los_Angeles:20260709T183000
DTEND;TZID=America/Los_Angeles:20260709T210000
STATUS:CONFIRMED
SUMMARY:Undaunted vs Shock & Rollers
URL:/League/Schedule/3290
DESCRIPTION:Regular Season match: Undaunted vs Shock & Rolle
 rs
LOCATION:Baldwin Court 4
END:VEVENT
BEGIN:VEVENT
DTSTAMP:20260427T000000Z
UID:4bef7d2a-594d-4056-b0f7-1195c11db960@ClaytonBocce
DTSTART;TZID=America/Los_Angeles:20260716T183000
DTEND;TZID=America/Los_Angeles:20260716T210000
STATUS:CONFIRMED
SUMMARY:Undaunted vs Masses Refugees
URL:/League/Schedule/3290
DESCRIPTION:Regular Season match: Undaunted vs Masses Refuge
 es
LOCATION:Baldwin Court 3
END:VEVENT
BEGIN:VEVENT
DTSTAMP:20260427T000000Z
UID:a7db0b5c-31f5-4e30-be60-2da7ffb3f1c9@ClaytonBocce
DTSTART;TZID=America/Los_Angeles:20260723T183000
DTEND;TZID=America/Los_Angeles:20260723T210000
STATUS:CONFIRMED
SUMMARY:Undaunted vs Dirt Ball Crew
URL:/League/Schedule/3290
DESCRIPTION:Regular Season match: Undaunted vs Dirt Ball Cre
 w
LOCATION:Baldwin Court 2
END:VEVENT
BEGIN:VEVENT
DTSTAMP:20260427T000000Z
UID:be97a5c6-6080-46f5-bbdd-24ad70fea46f@ClaytonBocce
DTSTART;TZID=America/Los_Angeles:20260730T183000
DTEND;TZID=America/Los_Angeles:20260730T210000
STATUS:CONFIRMED
SUMMARY:Undaunted vs 3 Amigos
URL:/League/Schedule/3290
DESCRIPTION:Regular Season match: Undaunted vs 3 Amigos
LOCATION:Baldwin Court 4
END:VEVENT
BEGIN:VEVENT
DTSTAMP:20260427T000000Z
UID:1a439e6e-76ef-49e5-80d3-8fc20079241e@ClaytonBocce
DTSTART;TZID=America/Los_Angeles:20260806T183000
DTEND;TZID=America/Los_Angeles:20260806T210000
STATUS:CONFIRMED
SUMMARY:Undaunted vs Bocce or BUST
URL:/League/Schedule/3290
DESCRIPTION:Regular Season match: Undaunted vs Bocce or BUST
LOCATION:Baldwin Court 1
END:VEVENT
BEGIN:VEVENT
DTSTAMP:20260427T000000Z
UID:a2a01c35-9578-406b-a24d-afc177527cc6@ClaytonBocce
DTSTART;TZID=America/Los_Angeles:20260813T183000
DTEND;TZID=America/Los_Angeles:20260813T210000
STATUS:CONFIRMED
SUMMARY:Undaunted vs Roll Models
URL:/League/Schedule/3290
DESCRIPTION:Regular Season match: Undaunted vs Roll Models
LOCATION:Baldwin Court 2
END:VEVENT
BEGIN:VEVENT
DTSTAMP:20260427T000000Z
UID:36326c70-c523-49a6-a6df-71519bb826f0@ClaytonBocce
DTSTART;TZID=America/Los_Angeles:20260820T183000
DTEND;TZID=America/Los_Angeles:20260820T210000
STATUS:CONFIRMED
SUMMARY:Undaunted vs Our Gang
URL:/League/Schedule/3290
DESCRIPTION:Regular Season match: Undaunted vs Our Gang
LOCATION:Baldwin Court 3
END:VEVENT
BEGIN:VEVENT
DTSTAMP:20260427T000000Z
UID:73d622b5-2a5e-4012-b3d5-77cf2e220497@ClaytonBocce
DTSTART;TZID=America/Los_Angeles:20260903T183000
DTEND;TZID=America/Los_Angeles:20260903T210000
STATUS:CONFIRMED
SUMMARY:Undaunted vs Anything Will Do!
URL:/League/Schedule/3290
DESCRIPTION:Regular Season match: Undaunted vs Anything Will
  Do!
LOCATION:Baldwin Court 3
END:VEVENT
END:VCALENDAR
