BEGIN:VCALENDAR
VERSION:2.0
PRODID:-//Clayton Bocce League
METHOD:PUBLISH
BEGIN:VTIMEZONE
TZID:America/Los_Angeles
X-LIC-LOCATION:America/Los_Angeles
BEGIN:DAYLIGHT
TZOFFSETFROM:-0800
TZOFFSETTO:-0700
TZNAME:PDT
DTSTART:20070311T020000
RRULE:FREQ=YEARLY;BYMONTH=3;BYDAY=2SU
END:DAYLIGHT
BEGIN:STANDARD
TZOFFSETFROM:-0700
TZOFFSETTO:-0800
TZNAME:PST
DTSTART:20071104T020000
RRULE:FREQ=YEARLY;BYMONTH=11;BYDAY=1SU
END:STANDARD
END:VTIMEZONE
BEGIN:VEVENT
DTSTAMP:20260427T000000Z
UID:ac20d8e6-31a5-43a5-b760-ba515b7fa303@ClaytonBocce
DTSTART;TZID=America/Los_Angeles:20260430T183000
DTEND;TZID=America/Los_Angeles:20260430T210000
STATUS:CONFIRMED
SUMMARY:Bocce or BUST vs 3 Amigos
URL:/League/Schedule/3296
DESCRIPTION:Regular Season match: Bocce or BUST vs 3 Amigos
LOCATION:Baldwin Court 1
END:VEVENT
BEGIN:VEVENT
DTSTAMP:20260427T000000Z
UID:937c4d19-1e4b-4afa-8b67-5b1d440a8324@ClaytonBocce
DTSTART;TZID=America/Los_Angeles:20260514T183000
DTEND;TZID=America/Los_Angeles:20260514T210000
STATUS:CONFIRMED
SUMMARY:Bocce or BUST vs Roll Models
URL:/League/Schedule/3296
DESCRIPTION:Regular Season match: Bocce or BUST vs Roll Mode
 ls
LOCATION:Baldwin Court 1
END:VEVENT
BEGIN:VEVENT
DTSTAMP:20260427T000000Z
UID:2621cb00-d806-4f30-bbb6-d2a487a1da4c@ClaytonBocce
DTSTART;TZID=America/Los_Angeles:20260521T183000
DTEND;TZID=America/Los_Angeles:20260521T210000
STATUS:CONFIRMED
SUMMARY:Bocce or BUST vs Our Gang
URL:/League/Schedule/3296
DESCRIPTION:Regular Season match: Bocce or BUST vs Our Gang
LOCATION:Baldwin Court 4
END:VEVENT
BEGIN:VEVENT
DTSTAMP:20260427T000000Z
UID:d92bde1d-4124-4872-b69c-43510ab92187@ClaytonBocce
DTSTART;TZID=America/Los_Angeles:20260528T183000
DTEND;TZID=America/Los_Angeles:20260528T210000
STATUS:CONFIRMED
SUMMARY:Bocce or BUST vs Undaunted
URL:/League/Schedule/3296
DESCRIPTION:Regular Season match: Bocce or BUST vs Undaunted
LOCATION:Baldwin Court 3
END:VEVENT
BEGIN:VEVENT
DTSTAMP:20260427T000000Z
UID:36799c4a-d8dd-4514-8cec-41967215fa86@ClaytonBocce
DTSTART;TZID=America/Los_Angeles:20260604T183000
DTEND;TZID=America/Los_Angeles:20260604T210000
STATUS:CONFIRMED
SUMMARY:Bocce or BUST vs Anything Will Do!
URL:/League/Schedule/3296
DESCRIPTION:Regular Season match: Bocce or BUST vs Anything 
 Will Do!
LOCATION:Baldwin Court 2
END:VEVENT
BEGIN:VEVENT
DTSTAMP:20260427T000000Z
UID:495ea728-c9ba-4c33-bfe3-226c8094dad7@ClaytonBocce
DTSTART;TZID=America/Los_Angeles:20260611T183000
DTEND;TZID=America/Los_Angeles:20260611T210000
STATUS:CONFIRMED
SUMMARY:Bocce or BUST vs Shock & Rollers
URL:/League/Schedule/3296
DESCRIPTION:Regular Season match: Bocce or BUST vs Shock & R
 ollers
LOCATION:Baldwin Court 4
END:VEVENT
BEGIN:VEVENT
DTSTAMP:20260427T000000Z
UID:b5ad498c-460c-4398-b25e-41f98fae4043@ClaytonBocce
DTSTART;TZID=America/Los_Angeles:20260618T183000
DTEND;TZID=America/Los_Angeles:20260618T210000
STATUS:CONFIRMED
SUMMARY:Bocce or BUST vs Masses Refugees
URL:/League/Schedule/3296
DESCRIPTION:Regular Season match: Bocce or BUST vs Masses Re
 fugees
LOCATION:Baldwin Court 1
END:VEVENT
BEGIN:VEVENT
DTSTAMP:20260427T000000Z
UID:4ffe7583-2bad-4633-a4a8-c8eecea2b40a@ClaytonBocce
DTSTART;TZID=America/Los_Angeles:20260625T183000
DTEND;TZID=America/Los_Angeles:20260625T210000
STATUS:CONFIRMED
SUMMARY:Bocce or BUST vs Dirt Ball Crew
URL:/League/Schedule/3296
DESCRIPTION:Regular Season match: Bocce or BUST vs Dirt Ball
  Crew
LOCATION:Baldwin Court 2
END:VEVENT
BEGIN:VEVENT
DTSTAMP:20260427T000000Z
UID:40ebae06-8d7f-438d-940a-79e3f7aeb94d@ClaytonBocce
DTSTART;TZID=America/Los_Angeles:20260709T183000
DTEND;TZID=America/Los_Angeles:20260709T210000
STATUS:CONFIRMED
SUMMARY:Bocce or BUST vs 3 Amigos
URL:/League/Schedule/3296
DESCRIPTION:Regular Season match: Bocce or BUST vs 3 Amigos
LOCATION:Baldwin Court 3
END:VEVENT
BEGIN:VEVENT
DTSTAMP:20260427T000000Z
UID:7f3be9d6-7149-4320-a4a0-c6748ddffa1c@ClaytonBocce
DTSTART;TZID=America/Los_Angeles:20260723T183000
DTEND;TZID=America/Los_Angeles:20260723T210000
STATUS:CONFIRMED
SUMMARY:Bocce or BUST vs Roll Models
URL:/League/Schedule/3296
DESCRIPTION:Regular Season match: Bocce or BUST vs Roll Mode
 ls
LOCATION:Baldwin Court 3
END:VEVENT
BEGIN:VEVENT
DTSTAMP:20260427T000000Z
UID:5f62f54c-f18a-431f-8fd5-09dd8aa84e18@ClaytonBocce
DTSTART;TZID=America/Los_Angeles:20260730T183000
DTEND;TZID=America/Los_Angeles:20260730T210000
STATUS:CONFIRMED
SUMMARY:Bocce or BUST vs Our Gang
URL:/League/Schedule/3296
DESCRIPTION:Regular Season match: Bocce or BUST vs Our Gang
LOCATION:Baldwin Court 2
END:VEVENT
BEGIN:VEVENT
DTSTAMP:20260427T000000Z
UID:1a439e6e-76ef-49e5-80d3-8fc20079241e@ClaytonBocce
DTSTART;TZID=America/Los_Angeles:20260806T183000
DTEND;TZID=America/Los_Angeles:20260806T210000
STATUS:CONFIRMED
SUMMARY:Bocce or BUST vs Undaunted
URL:/League/Schedule/3296
DESCRIPTION:Regular Season match: Bocce or BUST vs Undaunted
LOCATION:Baldwin Court 1
END:VEVENT
BEGIN:VEVENT
DTSTAMP:20260427T000000Z
UID:e01c19ac-9bd4-4afe-83af-9db7edfe8d16@ClaytonBocce
DTSTART;TZID=America/Los_Angeles:20260813T183000
DTEND;TZID=America/Los_Angeles:20260813T210000
STATUS:CONFIRMED
SUMMARY:Bocce or BUST vs Anything Will Do!
URL:/League/Schedule/3296
DESCRIPTION:Regular Season match: Bocce or BUST vs Anything 
 Will Do!
LOCATION:Baldwin Court 4
END:VEVENT
BEGIN:VEVENT
DTSTAMP:20260427T000000Z
UID:99fbe004-9118-4dab-b489-304b48700db1@ClaytonBocce
DTSTART;TZID=America/Los_Angeles:20260820T183000
DTEND;TZID=America/Los_Angeles:20260820T210000
STATUS:CONFIRMED
SUMMARY:Bocce or BUST vs Shock & Rollers
URL:/League/Schedule/3296
DESCRIPTION:Regular Season match: Bocce or BUST vs Shock & R
 ollers
LOCATION:Baldwin Court 2
END:VEVENT
BEGIN:VEVENT
DTSTAMP:20260427T000000Z
UID:8a1f9837-a129-4e44-a643-1eabe44f28e8@ClaytonBocce
DTSTART;TZID=America/Los_Angeles:20260827T183000
DTEND;TZID=America/Los_Angeles:20260827T210000
STATUS:CONFIRMED
SUMMARY:Bocce or BUST vs Masses Refugees
URL:/League/Schedule/3296
DESCRIPTION:Regular Season match: Bocce or BUST vs Masses Re
 fugees
LOCATION:Baldwin Court 3
END:VEVENT
BEGIN:VEVENT
DTSTAMP:20260427T000000Z
UID:7312fe75-6ca9-42f8-93ed-c1e8bd0e0710@ClaytonBocce
DTSTART;TZID=America/Los_Angeles:20260903T183000
DTEND;TZID=America/Los_Angeles:20260903T210000
STATUS:CONFIRMED
SUMMARY:Bocce or BUST vs Dirt Ball Crew
URL:/League/Schedule/3296
DESCRIPTION:Regular Season match: Bocce or BUST vs Dirt Ball
  Crew
LOCATION:Baldwin Court 4
END:VEVENT
END:VCALENDAR
