BEGIN:VCALENDAR
VERSION:2.0
PRODID:-//Clayton Bocce League
METHOD:PUBLISH
BEGIN:VTIMEZONE
TZID:America/Los_Angeles
X-LIC-LOCATION:America/Los_Angeles
BEGIN:DAYLIGHT
TZOFFSETFROM:-0800
TZOFFSETTO:-0700
TZNAME:PDT
DTSTART:20070311T020000
RRULE:FREQ=YEARLY;BYMONTH=3;BYDAY=2SU
END:DAYLIGHT
BEGIN:STANDARD
TZOFFSETFROM:-0700
TZOFFSETTO:-0800
TZNAME:PST
DTSTART:20071104T020000
RRULE:FREQ=YEARLY;BYMONTH=11;BYDAY=1SU
END:STANDARD
END:VTIMEZONE
BEGIN:VEVENT
DTSTAMP:20260427T000000Z
UID:ac20d8e6-31a5-43a5-b760-ba515b7fa303@ClaytonBocce
DTSTART;TZID=America/Los_Angeles:20260430T183000
DTEND;TZID=America/Los_Angeles:20260430T210000
STATUS:CONFIRMED
SUMMARY:3 Amigos vs Bocce or BUST
URL:/League/Schedule/3294
DESCRIPTION:Regular Season match: 3 Amigos vs Bocce or BUST
LOCATION:Baldwin Court 1
END:VEVENT
BEGIN:VEVENT
DTSTAMP:20260427T000000Z
UID:4b7b9d8c-46cc-4432-8806-019ebd2461aa@ClaytonBocce
DTSTART;TZID=America/Los_Angeles:20260507T183000
DTEND;TZID=America/Los_Angeles:20260507T210000
STATUS:CONFIRMED
SUMMARY:3 Amigos vs Roll Models
URL:/League/Schedule/3294
DESCRIPTION:Regular Season match: 3 Amigos vs Roll Models
LOCATION:Baldwin Court 4
END:VEVENT
BEGIN:VEVENT
DTSTAMP:20260427T000000Z
UID:5881bf1a-55ec-42fe-9b77-0b487a0c8a58@ClaytonBocce
DTSTART;TZID=America/Los_Angeles:20260514T183000
DTEND;TZID=America/Los_Angeles:20260514T210000
STATUS:CONFIRMED
SUMMARY:3 Amigos vs Our Gang
URL:/League/Schedule/3294
DESCRIPTION:Regular Season match: 3 Amigos vs Our Gang
LOCATION:Baldwin Court 3
END:VEVENT
BEGIN:VEVENT
DTSTAMP:20260427T000000Z
UID:86a725a2-10fe-4c43-9b9d-c7faf904503e@ClaytonBocce
DTSTART;TZID=America/Los_Angeles:20260521T183000
DTEND;TZID=America/Los_Angeles:20260521T210000
STATUS:CONFIRMED
SUMMARY:3 Amigos vs Undaunted
URL:/League/Schedule/3294
DESCRIPTION:Regular Season match: 3 Amigos vs Undaunted
LOCATION:Baldwin Court 2
END:VEVENT
BEGIN:VEVENT
DTSTAMP:20260427T000000Z
UID:2f8b9677-14f2-434b-8644-590133622477@ClaytonBocce
DTSTART;TZID=America/Los_Angeles:20260528T183000
DTEND;TZID=America/Los_Angeles:20260528T210000
STATUS:CONFIRMED
SUMMARY:3 Amigos vs Anything Will Do!
URL:/League/Schedule/3294
DESCRIPTION:Regular Season match: 3 Amigos vs Anything Will 
 Do!
LOCATION:Baldwin Court 4
END:VEVENT
BEGIN:VEVENT
DTSTAMP:20260427T000000Z
UID:78f5deaa-2253-43f9-87fb-a9c307e757dd@ClaytonBocce
DTSTART;TZID=America/Los_Angeles:20260604T183000
DTEND;TZID=America/Los_Angeles:20260604T210000
STATUS:CONFIRMED
SUMMARY:3 Amigos vs Shock & Rollers
URL:/League/Schedule/3294
DESCRIPTION:Regular Season match: 3 Amigos vs Shock & Roller
 s
LOCATION:Baldwin Court 1
END:VEVENT
BEGIN:VEVENT
DTSTAMP:20260427T000000Z
UID:cd6531f8-2904-40e1-9640-107d4f2b92bd@ClaytonBocce
DTSTART;TZID=America/Los_Angeles:20260611T183000
DTEND;TZID=America/Los_Angeles:20260611T210000
STATUS:CONFIRMED
SUMMARY:3 Amigos vs Masses Refugees
URL:/League/Schedule/3294
DESCRIPTION:Regular Season match: 3 Amigos vs Masses Refugee
 s
LOCATION:Baldwin Court 2
END:VEVENT
BEGIN:VEVENT
DTSTAMP:20260427T000000Z
UID:86c0aa00-853e-4205-b9e2-80e52317dcf7@ClaytonBocce
DTSTART;TZID=America/Los_Angeles:20260618T183000
DTEND;TZID=America/Los_Angeles:20260618T210000
STATUS:CONFIRMED
SUMMARY:3 Amigos vs Dirt Ball Crew
URL:/League/Schedule/3294
DESCRIPTION:Regular Season match: 3 Amigos vs Dirt Ball Crew
LOCATION:Baldwin Court 3
END:VEVENT
BEGIN:VEVENT
DTSTAMP:20260427T000000Z
UID:40ebae06-8d7f-438d-940a-79e3f7aeb94d@ClaytonBocce
DTSTART;TZID=America/Los_Angeles:20260709T183000
DTEND;TZID=America/Los_Angeles:20260709T210000
STATUS:CONFIRMED
SUMMARY:3 Amigos vs Bocce or BUST
URL:/League/Schedule/3294
DESCRIPTION:Regular Season match: 3 Amigos vs Bocce or BUST
LOCATION:Baldwin Court 3
END:VEVENT
BEGIN:VEVENT
DTSTAMP:20260427T000000Z
UID:c7e10bf2-97fe-4032-ba3a-3f3c81e54118@ClaytonBocce
DTSTART;TZID=America/Los_Angeles:20260716T183000
DTEND;TZID=America/Los_Angeles:20260716T210000
STATUS:CONFIRMED
SUMMARY:3 Amigos vs Roll Models
URL:/League/Schedule/3294
DESCRIPTION:Regular Season match: 3 Amigos vs Roll Models
LOCATION:Baldwin Court 2
END:VEVENT
BEGIN:VEVENT
DTSTAMP:20260427T000000Z
UID:f61dfcaf-b4c8-4405-8e7a-e6875f3320d4@ClaytonBocce
DTSTART;TZID=America/Los_Angeles:20260723T183000
DTEND;TZID=America/Los_Angeles:20260723T210000
STATUS:CONFIRMED
SUMMARY:3 Amigos vs Our Gang
URL:/League/Schedule/3294
DESCRIPTION:Regular Season match: 3 Amigos vs Our Gang
LOCATION:Baldwin Court 1
END:VEVENT
BEGIN:VEVENT
DTSTAMP:20260427T000000Z
UID:be97a5c6-6080-46f5-bbdd-24ad70fea46f@ClaytonBocce
DTSTART;TZID=America/Los_Angeles:20260730T183000
DTEND;TZID=America/Los_Angeles:20260730T210000
STATUS:CONFIRMED
SUMMARY:3 Amigos vs Undaunted
URL:/League/Schedule/3294
DESCRIPTION:Regular Season match: 3 Amigos vs Undaunted
LOCATION:Baldwin Court 4
END:VEVENT
BEGIN:VEVENT
DTSTAMP:20260427T000000Z
UID:6a01af5c-a44e-41be-8814-3b8b506b030a@ClaytonBocce
DTSTART;TZID=America/Los_Angeles:20260806T183000
DTEND;TZID=America/Los_Angeles:20260806T210000
STATUS:CONFIRMED
SUMMARY:3 Amigos vs Anything Will Do!
URL:/League/Schedule/3294
DESCRIPTION:Regular Season match: 3 Amigos vs Anything Will 
 Do!
LOCATION:Baldwin Court 2
END:VEVENT
BEGIN:VEVENT
DTSTAMP:20260427T000000Z
UID:057344d8-ccc4-4549-9187-6c1a8bbb5c3d@ClaytonBocce
DTSTART;TZID=America/Los_Angeles:20260813T183000
DTEND;TZID=America/Los_Angeles:20260813T210000
STATUS:CONFIRMED
SUMMARY:3 Amigos vs Shock & Rollers
URL:/League/Schedule/3294
DESCRIPTION:Regular Season match: 3 Amigos vs Shock & Roller
 s
LOCATION:Baldwin Court 3
END:VEVENT
BEGIN:VEVENT
DTSTAMP:20260427T000000Z
UID:8315bbdf-7783-4f12-a395-91793e617a39@ClaytonBocce
DTSTART;TZID=America/Los_Angeles:20260820T183000
DTEND;TZID=America/Los_Angeles:20260820T210000
STATUS:CONFIRMED
SUMMARY:3 Amigos vs Masses Refugees
URL:/League/Schedule/3294
DESCRIPTION:Regular Season match: 3 Amigos vs Masses Refugee
 s
LOCATION:Baldwin Court 4
END:VEVENT
BEGIN:VEVENT
DTSTAMP:20260427T000000Z
UID:edd2a9c1-300c-4e4e-af3a-566cc72fd351@ClaytonBocce
DTSTART;TZID=America/Los_Angeles:20260827T183000
DTEND;TZID=America/Los_Angeles:20260827T210000
STATUS:CONFIRMED
SUMMARY:3 Amigos vs Dirt Ball Crew
URL:/League/Schedule/3294
DESCRIPTION:Regular Season match: 3 Amigos vs Dirt Ball Crew
LOCATION:Baldwin Court 1
END:VEVENT
END:VCALENDAR
