BEGIN:VCALENDAR
VERSION:2.0
PRODID:-//Clayton Bocce League
METHOD:PUBLISH
BEGIN:VTIMEZONE
TZID:America/Los_Angeles
X-LIC-LOCATION:America/Los_Angeles
BEGIN:DAYLIGHT
TZOFFSETFROM:-0800
TZOFFSETTO:-0700
TZNAME:PDT
DTSTART:20070311T020000
RRULE:FREQ=YEARLY;BYMONTH=3;BYDAY=2SU
END:DAYLIGHT
BEGIN:STANDARD
TZOFFSETFROM:-0700
TZOFFSETTO:-0800
TZNAME:PST
DTSTART:20071104T020000
RRULE:FREQ=YEARLY;BYMONTH=11;BYDAY=1SU
END:STANDARD
END:VTIMEZONE
BEGIN:VEVENT
DTSTAMP:20260427T000000Z
UID:aeb69512-0ece-4d38-ab13-6a1b8f48e7af@ClaytonBocce
DTSTART;TZID=America/Los_Angeles:20260429T183000
DTEND;TZID=America/Los_Angeles:20260429T210000
STATUS:CONFIRMED
SUMMARY:Bocce Dreamin' vs Sir Bocce Too
URL:/League/Schedule/3286
DESCRIPTION:Regular Season match: Bocce Dreamin' vs Sir Bocc
 e Too
LOCATION:Baldwin Court 4
END:VEVENT
BEGIN:VEVENT
DTSTAMP:20260427T000000Z
UID:c7cc8abd-2488-4ea2-b4ca-d405e55bace0@ClaytonBocce
DTSTART;TZID=America/Los_Angeles:20260506T183000
DTEND;TZID=America/Los_Angeles:20260506T210000
STATUS:CONFIRMED
SUMMARY:Bocce Dreamin' vs Bocce Gators
URL:/League/Schedule/3286
DESCRIPTION:Regular Season match: Bocce Dreamin' vs Bocce Ga
 tors
LOCATION:Baldwin Court 2
END:VEVENT
BEGIN:VEVENT
DTSTAMP:20260427T000000Z
UID:be684da4-5a22-4f96-8f3a-55f990eb8e16@ClaytonBocce
DTSTART;TZID=America/Los_Angeles:20260513T183000
DTEND;TZID=America/Los_Angeles:20260513T210000
STATUS:CONFIRMED
SUMMARY:Bocce Dreamin' vs Let's Roll
URL:/League/Schedule/3286
DESCRIPTION:Regular Season match: Bocce Dreamin' vs Let's Ro
 ll
LOCATION:Baldwin Court 3
END:VEVENT
BEGIN:VEVENT
DTSTAMP:20260427T000000Z
UID:92e4d6a4-1ed2-4025-a8f9-750756e3c572@ClaytonBocce
DTSTART;TZID=America/Los_Angeles:20260520T183000
DTEND;TZID=America/Los_Angeles:20260520T210000
STATUS:CONFIRMED
SUMMARY:Bocce Dreamin' vs Chaotic
URL:/League/Schedule/3286
DESCRIPTION:Regular Season match: Bocce Dreamin' vs Chaotic
LOCATION:Baldwin Court 4
END:VEVENT
BEGIN:VEVENT
DTSTAMP:20260427T000000Z
UID:720ab309-9af0-47de-8f70-9bc71f3a9171@ClaytonBocce
DTSTART;TZID=America/Los_Angeles:20260527T183000
DTEND;TZID=America/Los_Angeles:20260527T210000
STATUS:CONFIRMED
SUMMARY:Bocce Dreamin' vs Dean's Rollers
URL:/League/Schedule/3286
DESCRIPTION:Regular Season match: Bocce Dreamin' vs Dean's R
 ollers
LOCATION:Baldwin Court 1
END:VEVENT
BEGIN:VEVENT
DTSTAMP:20260427T000000Z
UID:1465d54f-6a5b-48ab-bc00-d35cacbe23a6@ClaytonBocce
DTSTART;TZID=America/Los_Angeles:20260610T183000
DTEND;TZID=America/Los_Angeles:20260610T210000
STATUS:CONFIRMED
SUMMARY:Bocce Dreamin' vs Bootleggers
URL:/League/Schedule/3286
DESCRIPTION:Regular Season match: Bocce Dreamin' vs Bootlegg
 ers
LOCATION:Baldwin Court 1
END:VEVENT
BEGIN:VEVENT
DTSTAMP:20260427T000000Z
UID:0eac1ad7-39fb-4140-b1ba-777e3bf7a2d4@ClaytonBocce
DTSTART;TZID=America/Los_Angeles:20260617T183000
DTEND;TZID=America/Los_Angeles:20260617T210000
STATUS:CONFIRMED
SUMMARY:Bocce Dreamin' vs Good Time Rollers
URL:/League/Schedule/3286
DESCRIPTION:Regular Season match: Bocce Dreamin' vs Good Tim
 e Rollers
LOCATION:Baldwin Court 4
END:VEVENT
BEGIN:VEVENT
DTSTAMP:20260427T000000Z
UID:822a6eef-7284-46f1-adac-abeca9e3db3e@ClaytonBocce
DTSTART;TZID=America/Los_Angeles:20260624T183000
DTEND;TZID=America/Los_Angeles:20260624T210000
STATUS:CONFIRMED
SUMMARY:Bocce Dreamin' vs Cavaliere de Bocce
URL:/League/Schedule/3286
DESCRIPTION:Regular Season match: Bocce Dreamin' vs Cavalier
 e de Bocce
LOCATION:Baldwin Court 3
END:VEVENT
BEGIN:VEVENT
DTSTAMP:20260427T000000Z
UID:cfc61495-e34a-46b3-867a-cb6bd93d192d@ClaytonBocce
DTSTART;TZID=America/Los_Angeles:20260708T183000
DTEND;TZID=America/Los_Angeles:20260708T210000
STATUS:CONFIRMED
SUMMARY:Bocce Dreamin' vs Sir Bocce Too
URL:/League/Schedule/3286
DESCRIPTION:Regular Season match: Bocce Dreamin' vs Sir Bocc
 e Too
LOCATION:Baldwin Court 2
END:VEVENT
BEGIN:VEVENT
DTSTAMP:20260427T000000Z
UID:f011f05e-33e6-4f1e-a5da-d6ff0aadace2@ClaytonBocce
DTSTART;TZID=America/Los_Angeles:20260715T183000
DTEND;TZID=America/Los_Angeles:20260715T210000
STATUS:CONFIRMED
SUMMARY:Bocce Dreamin' vs Bocce Gators
URL:/League/Schedule/3286
DESCRIPTION:Regular Season match: Bocce Dreamin' vs Bocce Ga
 tors
LOCATION:Baldwin Court 4
END:VEVENT
BEGIN:VEVENT
DTSTAMP:20260427T000000Z
UID:b319d6c0-1c7e-484e-aa24-ed3b66efd196@ClaytonBocce
DTSTART;TZID=America/Los_Angeles:20260722T183000
DTEND;TZID=America/Los_Angeles:20260722T210000
STATUS:CONFIRMED
SUMMARY:Bocce Dreamin' vs Let's Roll
URL:/League/Schedule/3286
DESCRIPTION:Regular Season match: Bocce Dreamin' vs Let's Ro
 ll
LOCATION:Baldwin Court 1
END:VEVENT
BEGIN:VEVENT
DTSTAMP:20260427T000000Z
UID:0f5fe922-5ec1-4fa7-9dc9-18f589d77483@ClaytonBocce
DTSTART;TZID=America/Los_Angeles:20260729T183000
DTEND;TZID=America/Los_Angeles:20260729T210000
STATUS:CONFIRMED
SUMMARY:Bocce Dreamin' vs Chaotic
URL:/League/Schedule/3286
DESCRIPTION:Regular Season match: Bocce Dreamin' vs Chaotic
LOCATION:Baldwin Court 2
END:VEVENT
BEGIN:VEVENT
DTSTAMP:20260427T000000Z
UID:c62d540f-0f12-4d7b-b1d9-1274f9394f67@ClaytonBocce
DTSTART;TZID=America/Los_Angeles:20260805T183000
DTEND;TZID=America/Los_Angeles:20260805T210000
STATUS:CONFIRMED
SUMMARY:Bocce Dreamin' vs Dean's Rollers
URL:/League/Schedule/3286
DESCRIPTION:Regular Season match: Bocce Dreamin' vs Dean's R
 ollers
LOCATION:Baldwin Court 3
END:VEVENT
BEGIN:VEVENT
DTSTAMP:20260427T000000Z
UID:15240388-6794-492a-9807-84044440c62c@ClaytonBocce
DTSTART;TZID=America/Los_Angeles:20260819T183000
DTEND;TZID=America/Los_Angeles:20260819T210000
STATUS:CONFIRMED
SUMMARY:Bocce Dreamin' vs Bootleggers
URL:/League/Schedule/3286
DESCRIPTION:Regular Season match: Bocce Dreamin' vs Bootlegg
 ers
LOCATION:Baldwin Court 3
END:VEVENT
BEGIN:VEVENT
DTSTAMP:20260427T000000Z
UID:b7d79195-54bf-45f9-b950-9f98adc97e88@ClaytonBocce
DTSTART;TZID=America/Los_Angeles:20260826T183000
DTEND;TZID=America/Los_Angeles:20260826T210000
STATUS:CONFIRMED
SUMMARY:Bocce Dreamin' vs Good Time Rollers
URL:/League/Schedule/3286
DESCRIPTION:Regular Season match: Bocce Dreamin' vs Good Tim
 e Rollers
LOCATION:Baldwin Court 2
END:VEVENT
BEGIN:VEVENT
DTSTAMP:20260427T000000Z
UID:877f00a0-0e6f-4129-98b1-488237b3e984@ClaytonBocce
DTSTART;TZID=America/Los_Angeles:20260902T183000
DTEND;TZID=America/Los_Angeles:20260902T210000
STATUS:CONFIRMED
SUMMARY:Bocce Dreamin' vs Cavaliere de Bocce
URL:/League/Schedule/3286
DESCRIPTION:Regular Season match: Bocce Dreamin' vs Cavalier
 e de Bocce
LOCATION:Baldwin Court 1
END:VEVENT
END:VCALENDAR
