BEGIN:VCALENDAR
VERSION:2.0
PRODID:-//Clayton Bocce League
METHOD:PUBLISH
BEGIN:VTIMEZONE
TZID:America/Los_Angeles
X-LIC-LOCATION:America/Los_Angeles
BEGIN:DAYLIGHT
TZOFFSETFROM:-0800
TZOFFSETTO:-0700
TZNAME:PDT
DTSTART:20070311T020000
RRULE:FREQ=YEARLY;BYMONTH=3;BYDAY=2SU
END:DAYLIGHT
BEGIN:STANDARD
TZOFFSETFROM:-0700
TZOFFSETTO:-0800
TZNAME:PST
DTSTART:20071104T020000
RRULE:FREQ=YEARLY;BYMONTH=11;BYDAY=1SU
END:STANDARD
END:VTIMEZONE
BEGIN:VEVENT
DTSTAMP:20260427T000000Z
UID:aeb69512-0ece-4d38-ab13-6a1b8f48e7af@ClaytonBocce
DTSTART;TZID=America/Los_Angeles:20260429T183000
DTEND;TZID=America/Los_Angeles:20260429T210000
STATUS:CONFIRMED
SUMMARY:Sir Bocce Too vs Bocce Dreamin'
URL:/League/Schedule/3284
DESCRIPTION:Regular Season match: Sir Bocce Too vs Bocce Dre
 amin'
LOCATION:Baldwin Court 4
END:VEVENT
BEGIN:VEVENT
DTSTAMP:20260427T000000Z
UID:50a4d75b-25d6-478f-9364-75577997390e@ClaytonBocce
DTSTART;TZID=America/Los_Angeles:20260506T183000
DTEND;TZID=America/Los_Angeles:20260506T210000
STATUS:CONFIRMED
SUMMARY:Sir Bocce Too vs Bootleggers
URL:/League/Schedule/3284
DESCRIPTION:Regular Season match: Sir Bocce Too vs Bootlegge
 rs
LOCATION:Baldwin Court 1
END:VEVENT
BEGIN:VEVENT
DTSTAMP:20260427T000000Z
UID:abd44c80-0dff-4bb6-b8f2-e47cd765ca99@ClaytonBocce
DTSTART;TZID=America/Los_Angeles:20260513T183000
DTEND;TZID=America/Los_Angeles:20260513T210000
STATUS:CONFIRMED
SUMMARY:Sir Bocce Too vs Good Time Rollers
URL:/League/Schedule/3284
DESCRIPTION:Regular Season match: Sir Bocce Too vs Good Time
  Rollers
LOCATION:Baldwin Court 2
END:VEVENT
BEGIN:VEVENT
DTSTAMP:20260427T000000Z
UID:1857b8a4-e02f-432a-927a-97843a7ac452@ClaytonBocce
DTSTART;TZID=America/Los_Angeles:20260520T183000
DTEND;TZID=America/Los_Angeles:20260520T210000
STATUS:CONFIRMED
SUMMARY:Sir Bocce Too vs Cavaliere de Bocce
URL:/League/Schedule/3284
DESCRIPTION:Regular Season match: Sir Bocce Too vs Cavaliere
  de Bocce
LOCATION:Baldwin Court 3
END:VEVENT
BEGIN:VEVENT
DTSTAMP:20260427T000000Z
UID:4f5517a7-518b-477b-8da9-17858ae0a812@ClaytonBocce
DTSTART;TZID=America/Los_Angeles:20260603T183000
DTEND;TZID=America/Los_Angeles:20260603T210000
STATUS:CONFIRMED
SUMMARY:Sir Bocce Too vs Bocce Gators
URL:/League/Schedule/3284
DESCRIPTION:Regular Season match: Sir Bocce Too vs Bocce Gat
 ors
LOCATION:Baldwin Court 3
END:VEVENT
BEGIN:VEVENT
DTSTAMP:20260427T000000Z
UID:b51457fd-b0ad-4b2d-a90a-944767f727d1@ClaytonBocce
DTSTART;TZID=America/Los_Angeles:20260610T183000
DTEND;TZID=America/Los_Angeles:20260610T210000
STATUS:CONFIRMED
SUMMARY:Sir Bocce Too vs Let's Roll
URL:/League/Schedule/3284
DESCRIPTION:Regular Season match: Sir Bocce Too vs Let's Rol
 l
LOCATION:Baldwin Court 2
END:VEVENT
BEGIN:VEVENT
DTSTAMP:20260427T000000Z
UID:24232ee0-0d33-4d71-8a0f-c0f90abf49d9@ClaytonBocce
DTSTART;TZID=America/Los_Angeles:20260617T183000
DTEND;TZID=America/Los_Angeles:20260617T210000
STATUS:CONFIRMED
SUMMARY:Sir Bocce Too vs Chaotic
URL:/League/Schedule/3284
DESCRIPTION:Regular Season match: Sir Bocce Too vs Chaotic
LOCATION:Baldwin Court 1
END:VEVENT
BEGIN:VEVENT
DTSTAMP:20260427T000000Z
UID:1f897a79-3634-416e-ada9-b0a40fbacbe3@ClaytonBocce
DTSTART;TZID=America/Los_Angeles:20260624T183000
DTEND;TZID=America/Los_Angeles:20260624T210000
STATUS:CONFIRMED
SUMMARY:Sir Bocce Too vs Dean's Rollers
URL:/League/Schedule/3284
DESCRIPTION:Regular Season match: Sir Bocce Too vs Dean's Ro
 llers
LOCATION:Baldwin Court 4
END:VEVENT
BEGIN:VEVENT
DTSTAMP:20260427T000000Z
UID:cfc61495-e34a-46b3-867a-cb6bd93d192d@ClaytonBocce
DTSTART;TZID=America/Los_Angeles:20260708T183000
DTEND;TZID=America/Los_Angeles:20260708T210000
STATUS:CONFIRMED
SUMMARY:Sir Bocce Too vs Bocce Dreamin'
URL:/League/Schedule/3284
DESCRIPTION:Regular Season match: Sir Bocce Too vs Bocce Dre
 amin'
LOCATION:Baldwin Court 2
END:VEVENT
BEGIN:VEVENT
DTSTAMP:20260427T000000Z
UID:b5632a55-7212-4612-b5b6-c5932aa6cf24@ClaytonBocce
DTSTART;TZID=America/Los_Angeles:20260715T183000
DTEND;TZID=America/Los_Angeles:20260715T210000
STATUS:CONFIRMED
SUMMARY:Sir Bocce Too vs Bootleggers
URL:/League/Schedule/3284
DESCRIPTION:Regular Season match: Sir Bocce Too vs Bootlegge
 rs
LOCATION:Baldwin Court 3
END:VEVENT
BEGIN:VEVENT
DTSTAMP:20260427T000000Z
UID:0ab6595a-e2f3-4177-8ea4-b5c600982173@ClaytonBocce
DTSTART;TZID=America/Los_Angeles:20260722T183000
DTEND;TZID=America/Los_Angeles:20260722T210000
STATUS:CONFIRMED
SUMMARY:Sir Bocce Too vs Good Time Rollers
URL:/League/Schedule/3284
DESCRIPTION:Regular Season match: Sir Bocce Too vs Good Time
  Rollers
LOCATION:Baldwin Court 4
END:VEVENT
BEGIN:VEVENT
DTSTAMP:20260427T000000Z
UID:2757fd40-8213-4d43-9380-e74a8a46fde8@ClaytonBocce
DTSTART;TZID=America/Los_Angeles:20260729T183000
DTEND;TZID=America/Los_Angeles:20260729T210000
STATUS:CONFIRMED
SUMMARY:Sir Bocce Too vs Cavaliere de Bocce
URL:/League/Schedule/3284
DESCRIPTION:Regular Season match: Sir Bocce Too vs Cavaliere
  de Bocce
LOCATION:Baldwin Court 1
END:VEVENT
BEGIN:VEVENT
DTSTAMP:20260427T000000Z
UID:e5392716-8177-451d-8855-bdc4e5827f67@ClaytonBocce
DTSTART;TZID=America/Los_Angeles:20260812T183000
DTEND;TZID=America/Los_Angeles:20260812T210000
STATUS:CONFIRMED
SUMMARY:Sir Bocce Too vs Bocce Gators
URL:/League/Schedule/3284
DESCRIPTION:Regular Season match: Sir Bocce Too vs Bocce Gat
 ors
LOCATION:Baldwin Court 1
END:VEVENT
BEGIN:VEVENT
DTSTAMP:20260427T000000Z
UID:1d6a1920-4b25-43ed-940a-79486c8405a0@ClaytonBocce
DTSTART;TZID=America/Los_Angeles:20260819T183000
DTEND;TZID=America/Los_Angeles:20260819T210000
STATUS:CONFIRMED
SUMMARY:Sir Bocce Too vs Let's Roll
URL:/League/Schedule/3284
DESCRIPTION:Regular Season match: Sir Bocce Too vs Let's Rol
 l
LOCATION:Baldwin Court 4
END:VEVENT
BEGIN:VEVENT
DTSTAMP:20260427T000000Z
UID:f45d3ca8-4265-443e-83d2-ba7c24e4f040@ClaytonBocce
DTSTART;TZID=America/Los_Angeles:20260826T183000
DTEND;TZID=America/Los_Angeles:20260826T210000
STATUS:CONFIRMED
SUMMARY:Sir Bocce Too vs Chaotic
URL:/League/Schedule/3284
DESCRIPTION:Regular Season match: Sir Bocce Too vs Chaotic
LOCATION:Baldwin Court 3
END:VEVENT
BEGIN:VEVENT
DTSTAMP:20260427T000000Z
UID:2d247c72-401a-4061-82b3-8a9e921ff8d2@ClaytonBocce
DTSTART;TZID=America/Los_Angeles:20260902T183000
DTEND;TZID=America/Los_Angeles:20260902T210000
STATUS:CONFIRMED
SUMMARY:Sir Bocce Too vs Dean's Rollers
URL:/League/Schedule/3284
DESCRIPTION:Regular Season match: Sir Bocce Too vs Dean's Ro
 llers
LOCATION:Baldwin Court 2
END:VEVENT
END:VCALENDAR
