BEGIN:VCALENDAR
VERSION:2.0
PRODID:-//Clayton Bocce League
METHOD:PUBLISH
BEGIN:VTIMEZONE
TZID:America/Los_Angeles
X-LIC-LOCATION:America/Los_Angeles
BEGIN:DAYLIGHT
TZOFFSETFROM:-0800
TZOFFSETTO:-0700
TZNAME:PDT
DTSTART:20070311T020000
RRULE:FREQ=YEARLY;BYMONTH=3;BYDAY=2SU
END:DAYLIGHT
BEGIN:STANDARD
TZOFFSETFROM:-0700
TZOFFSETTO:-0800
TZNAME:PST
DTSTART:20071104T020000
RRULE:FREQ=YEARLY;BYMONTH=11;BYDAY=1SU
END:STANDARD
END:VTIMEZONE
BEGIN:VEVENT
DTSTAMP:20260427T000000Z
UID:16b44e43-23c5-4976-a2d5-9a234fee410f@ClaytonBocce
DTSTART;TZID=America/Los_Angeles:20260506T183000
DTEND;TZID=America/Los_Angeles:20260506T210000
STATUS:CONFIRMED
SUMMARY:Good Time Rollers vs Cavaliere de Bocce
URL:/League/Schedule/3289
DESCRIPTION:Regular Season match: Good Time Rollers vs Caval
 iere de Bocce
LOCATION:Baldwin Court 3
END:VEVENT
BEGIN:VEVENT
DTSTAMP:20260427T000000Z
UID:abd44c80-0dff-4bb6-b8f2-e47cd765ca99@ClaytonBocce
DTSTART;TZID=America/Los_Angeles:20260513T183000
DTEND;TZID=America/Los_Angeles:20260513T210000
STATUS:CONFIRMED
SUMMARY:Good Time Rollers vs Sir Bocce Too
URL:/League/Schedule/3289
DESCRIPTION:Regular Season match: Good Time Rollers vs Sir B
 occe Too
LOCATION:Baldwin Court 2
END:VEVENT
BEGIN:VEVENT
DTSTAMP:20260427T000000Z
UID:6e1cfbeb-9ad0-4a54-aba9-bd0462702a29@ClaytonBocce
DTSTART;TZID=America/Los_Angeles:20260520T183000
DTEND;TZID=America/Los_Angeles:20260520T210000
STATUS:CONFIRMED
SUMMARY:Good Time Rollers vs Bocce Gators
URL:/League/Schedule/3289
DESCRIPTION:Regular Season match: Good Time Rollers vs Bocce
  Gators
LOCATION:Baldwin Court 1
END:VEVENT
BEGIN:VEVENT
DTSTAMP:20260427T000000Z
UID:79fb083b-eafb-4993-a990-e4bd0ac3b8d1@ClaytonBocce
DTSTART;TZID=America/Los_Angeles:20260527T183000
DTEND;TZID=America/Los_Angeles:20260527T210000
STATUS:CONFIRMED
SUMMARY:Good Time Rollers vs Let's Roll
URL:/League/Schedule/3289
DESCRIPTION:Regular Season match: Good Time Rollers vs Let's
  Roll
LOCATION:Baldwin Court 4
END:VEVENT
BEGIN:VEVENT
DTSTAMP:20260427T000000Z
UID:e3ba7947-6421-49cc-86de-ba735a2601dd@ClaytonBocce
DTSTART;TZID=America/Los_Angeles:20260603T183000
DTEND;TZID=America/Los_Angeles:20260603T210000
STATUS:CONFIRMED
SUMMARY:Good Time Rollers vs Chaotic
URL:/League/Schedule/3289
DESCRIPTION:Regular Season match: Good Time Rollers vs Chaot
 ic
LOCATION:Baldwin Court 2
END:VEVENT
BEGIN:VEVENT
DTSTAMP:20260427T000000Z
UID:99c5900f-3f99-4b63-8b2e-b173dd5656d2@ClaytonBocce
DTSTART;TZID=America/Los_Angeles:20260610T183000
DTEND;TZID=America/Los_Angeles:20260610T210000
STATUS:CONFIRMED
SUMMARY:Good Time Rollers vs Dean's Rollers
URL:/League/Schedule/3289
DESCRIPTION:Regular Season match: Good Time Rollers vs Dean'
 s Rollers
LOCATION:Baldwin Court 3
END:VEVENT
BEGIN:VEVENT
DTSTAMP:20260427T000000Z
UID:0eac1ad7-39fb-4140-b1ba-777e3bf7a2d4@ClaytonBocce
DTSTART;TZID=America/Los_Angeles:20260617T183000
DTEND;TZID=America/Los_Angeles:20260617T210000
STATUS:CONFIRMED
SUMMARY:Good Time Rollers vs Bocce Dreamin'
URL:/League/Schedule/3289
DESCRIPTION:Regular Season match: Good Time Rollers vs Bocce
  Dreamin'
LOCATION:Baldwin Court 4
END:VEVENT
BEGIN:VEVENT
DTSTAMP:20260427T000000Z
UID:a2da5b32-2033-48ef-aebb-d1559188a2f6@ClaytonBocce
DTSTART;TZID=America/Los_Angeles:20260624T183000
DTEND;TZID=America/Los_Angeles:20260624T210000
STATUS:CONFIRMED
SUMMARY:Good Time Rollers vs Bootleggers
URL:/League/Schedule/3289
DESCRIPTION:Regular Season match: Good Time Rollers vs Bootl
 eggers
LOCATION:Baldwin Court 1
END:VEVENT
BEGIN:VEVENT
DTSTAMP:20260427T000000Z
UID:a7b24249-b089-4d64-a33e-eb8072ff553c@ClaytonBocce
DTSTART;TZID=America/Los_Angeles:20260715T183000
DTEND;TZID=America/Los_Angeles:20260715T210000
STATUS:CONFIRMED
SUMMARY:Good Time Rollers vs Cavaliere de Bocce
URL:/League/Schedule/3289
DESCRIPTION:Regular Season match: Good Time Rollers vs Caval
 iere de Bocce
LOCATION:Baldwin Court 1
END:VEVENT
BEGIN:VEVENT
DTSTAMP:20260427T000000Z
UID:0ab6595a-e2f3-4177-8ea4-b5c600982173@ClaytonBocce
DTSTART;TZID=America/Los_Angeles:20260722T183000
DTEND;TZID=America/Los_Angeles:20260722T210000
STATUS:CONFIRMED
SUMMARY:Good Time Rollers vs Sir Bocce Too
URL:/League/Schedule/3289
DESCRIPTION:Regular Season match: Good Time Rollers vs Sir B
 occe Too
LOCATION:Baldwin Court 4
END:VEVENT
BEGIN:VEVENT
DTSTAMP:20260427T000000Z
UID:d6af5a1f-a560-4712-995e-e65627547937@ClaytonBocce
DTSTART;TZID=America/Los_Angeles:20260729T183000
DTEND;TZID=America/Los_Angeles:20260729T210000
STATUS:CONFIRMED
SUMMARY:Good Time Rollers vs Bocce Gators
URL:/League/Schedule/3289
DESCRIPTION:Regular Season match: Good Time Rollers vs Bocce
  Gators
LOCATION:Baldwin Court 3
END:VEVENT
BEGIN:VEVENT
DTSTAMP:20260427T000000Z
UID:7adb99b6-4ce0-4a1e-bebe-98a707a145a7@ClaytonBocce
DTSTART;TZID=America/Los_Angeles:20260805T183000
DTEND;TZID=America/Los_Angeles:20260805T210000
STATUS:CONFIRMED
SUMMARY:Good Time Rollers vs Let's Roll
URL:/League/Schedule/3289
DESCRIPTION:Regular Season match: Good Time Rollers vs Let's
  Roll
LOCATION:Baldwin Court 2
END:VEVENT
BEGIN:VEVENT
DTSTAMP:20260427T000000Z
UID:96b3450f-1672-44f3-9f1b-671a891e3387@ClaytonBocce
DTSTART;TZID=America/Los_Angeles:20260812T183000
DTEND;TZID=America/Los_Angeles:20260812T210000
STATUS:CONFIRMED
SUMMARY:Good Time Rollers vs Chaotic
URL:/League/Schedule/3289
DESCRIPTION:Regular Season match: Good Time Rollers vs Chaot
 ic
LOCATION:Baldwin Court 4
END:VEVENT
BEGIN:VEVENT
DTSTAMP:20260427T000000Z
UID:b11c1341-97e1-4115-8256-74c38f76a38e@ClaytonBocce
DTSTART;TZID=America/Los_Angeles:20260819T183000
DTEND;TZID=America/Los_Angeles:20260819T210000
STATUS:CONFIRMED
SUMMARY:Good Time Rollers vs Dean's Rollers
URL:/League/Schedule/3289
DESCRIPTION:Regular Season match: Good Time Rollers vs Dean'
 s Rollers
LOCATION:Baldwin Court 1
END:VEVENT
BEGIN:VEVENT
DTSTAMP:20260427T000000Z
UID:b7d79195-54bf-45f9-b950-9f98adc97e88@ClaytonBocce
DTSTART;TZID=America/Los_Angeles:20260826T183000
DTEND;TZID=America/Los_Angeles:20260826T210000
STATUS:CONFIRMED
SUMMARY:Good Time Rollers vs Bocce Dreamin'
URL:/League/Schedule/3289
DESCRIPTION:Regular Season match: Good Time Rollers vs Bocce
  Dreamin'
LOCATION:Baldwin Court 2
END:VEVENT
BEGIN:VEVENT
DTSTAMP:20260427T000000Z
UID:153b1205-1cd3-4cbf-9dfd-91cb123f96c4@ClaytonBocce
DTSTART;TZID=America/Los_Angeles:20260902T183000
DTEND;TZID=America/Los_Angeles:20260902T210000
STATUS:CONFIRMED
SUMMARY:Good Time Rollers vs Bootleggers
URL:/League/Schedule/3289
DESCRIPTION:Regular Season match: Good Time Rollers vs Bootl
 eggers
LOCATION:Baldwin Court 3
END:VEVENT
END:VCALENDAR
