BEGIN:VCALENDAR
VERSION:2.0
PRODID:-//Clayton Bocce League
METHOD:PUBLISH
BEGIN:VTIMEZONE
TZID:America/Los_Angeles
X-LIC-LOCATION:America/Los_Angeles
BEGIN:DAYLIGHT
TZOFFSETFROM:-0800
TZOFFSETTO:-0700
TZNAME:PDT
DTSTART:20070311T020000
RRULE:FREQ=YEARLY;BYMONTH=3;BYDAY=2SU
END:DAYLIGHT
BEGIN:STANDARD
TZOFFSETFROM:-0700
TZOFFSETTO:-0800
TZNAME:PST
DTSTART:20071104T020000
RRULE:FREQ=YEARLY;BYMONTH=11;BYDAY=1SU
END:STANDARD
END:VTIMEZONE
BEGIN:VEVENT
DTSTAMP:20260427T000000Z
UID:5caade38-433a-400d-b0fb-0535ffae256f@ClaytonBocce
DTSTART;TZID=America/Los_Angeles:20260429T183000
DTEND;TZID=America/Los_Angeles:20260429T210000
STATUS:CONFIRMED
SUMMARY:Dean's Rollers vs Bocce Gators
URL:/League/Schedule/3288
DESCRIPTION:Regular Season match: Dean's Rollers vs Bocce Ga
 tors
LOCATION:Baldwin Court 3
END:VEVENT
BEGIN:VEVENT
DTSTAMP:20260427T000000Z
UID:7609875a-4365-499b-808a-de7a9f9626f3@ClaytonBocce
DTSTART;TZID=America/Los_Angeles:20260506T183000
DTEND;TZID=America/Los_Angeles:20260506T210000
STATUS:CONFIRMED
SUMMARY:Dean's Rollers vs Let's Roll
URL:/League/Schedule/3288
DESCRIPTION:Regular Season match: Dean's Rollers vs Let's Ro
 ll
LOCATION:Baldwin Court 4
END:VEVENT
BEGIN:VEVENT
DTSTAMP:20260427T000000Z
UID:0b8770f9-938e-4c45-a08c-2a0d68c7fbdb@ClaytonBocce
DTSTART;TZID=America/Los_Angeles:20260513T183000
DTEND;TZID=America/Los_Angeles:20260513T210000
STATUS:CONFIRMED
SUMMARY:Dean's Rollers vs Chaotic
URL:/League/Schedule/3288
DESCRIPTION:Regular Season match: Dean's Rollers vs Chaotic
LOCATION:Baldwin Court 1
END:VEVENT
BEGIN:VEVENT
DTSTAMP:20260427T000000Z
UID:720ab309-9af0-47de-8f70-9bc71f3a9171@ClaytonBocce
DTSTART;TZID=America/Los_Angeles:20260527T183000
DTEND;TZID=America/Los_Angeles:20260527T210000
STATUS:CONFIRMED
SUMMARY:Dean's Rollers vs Bocce Dreamin'
URL:/League/Schedule/3288
DESCRIPTION:Regular Season match: Dean's Rollers vs Bocce Dr
 eamin'
LOCATION:Baldwin Court 1
END:VEVENT
BEGIN:VEVENT
DTSTAMP:20260427T000000Z
UID:e09c27cf-c8b7-484b-88be-9585c8544d72@ClaytonBocce
DTSTART;TZID=America/Los_Angeles:20260603T183000
DTEND;TZID=America/Los_Angeles:20260603T210000
STATUS:CONFIRMED
SUMMARY:Dean's Rollers vs Bootleggers
URL:/League/Schedule/3288
DESCRIPTION:Regular Season match: Dean's Rollers vs Bootlegg
 ers
LOCATION:Baldwin Court 4
END:VEVENT
BEGIN:VEVENT
DTSTAMP:20260427T000000Z
UID:99c5900f-3f99-4b63-8b2e-b173dd5656d2@ClaytonBocce
DTSTART;TZID=America/Los_Angeles:20260610T183000
DTEND;TZID=America/Los_Angeles:20260610T210000
STATUS:CONFIRMED
SUMMARY:Dean's Rollers vs Good Time Rollers
URL:/League/Schedule/3288
DESCRIPTION:Regular Season match: Dean's Rollers vs Good Tim
 e Rollers
LOCATION:Baldwin Court 3
END:VEVENT
BEGIN:VEVENT
DTSTAMP:20260427T000000Z
UID:ce23d266-8e4c-4662-aa30-127253cfab3f@ClaytonBocce
DTSTART;TZID=America/Los_Angeles:20260617T183000
DTEND;TZID=America/Los_Angeles:20260617T210000
STATUS:CONFIRMED
SUMMARY:Dean's Rollers vs Cavaliere de Bocce
URL:/League/Schedule/3288
DESCRIPTION:Regular Season match: Dean's Rollers vs Cavalier
 e de Bocce
LOCATION:Baldwin Court 2
END:VEVENT
BEGIN:VEVENT
DTSTAMP:20260427T000000Z
UID:1f897a79-3634-416e-ada9-b0a40fbacbe3@ClaytonBocce
DTSTART;TZID=America/Los_Angeles:20260624T183000
DTEND;TZID=America/Los_Angeles:20260624T210000
STATUS:CONFIRMED
SUMMARY:Dean's Rollers vs Sir Bocce Too
URL:/League/Schedule/3288
DESCRIPTION:Regular Season match: Dean's Rollers vs Sir Bocc
 e Too
LOCATION:Baldwin Court 4
END:VEVENT
BEGIN:VEVENT
DTSTAMP:20260427T000000Z
UID:825d272f-3b42-4c66-8103-ceeca5d8267f@ClaytonBocce
DTSTART;TZID=America/Los_Angeles:20260708T183000
DTEND;TZID=America/Los_Angeles:20260708T210000
STATUS:CONFIRMED
SUMMARY:Dean's Rollers vs Bocce Gators
URL:/League/Schedule/3288
DESCRIPTION:Regular Season match: Dean's Rollers vs Bocce Ga
 tors
LOCATION:Baldwin Court 1
END:VEVENT
BEGIN:VEVENT
DTSTAMP:20260427T000000Z
UID:9b456cb6-925a-4209-8e07-1867a009fe8c@ClaytonBocce
DTSTART;TZID=America/Los_Angeles:20260715T183000
DTEND;TZID=America/Los_Angeles:20260715T210000
STATUS:CONFIRMED
SUMMARY:Dean's Rollers vs Let's Roll
URL:/League/Schedule/3288
DESCRIPTION:Regular Season match: Dean's Rollers vs Let's Ro
 ll
LOCATION:Baldwin Court 2
END:VEVENT
BEGIN:VEVENT
DTSTAMP:20260427T000000Z
UID:bb33d4e3-5078-4978-944b-7b5a1a5b5f1a@ClaytonBocce
DTSTART;TZID=America/Los_Angeles:20260722T183000
DTEND;TZID=America/Los_Angeles:20260722T210000
STATUS:CONFIRMED
SUMMARY:Dean's Rollers vs Chaotic
URL:/League/Schedule/3288
DESCRIPTION:Regular Season match: Dean's Rollers vs Chaotic
LOCATION:Baldwin Court 3
END:VEVENT
BEGIN:VEVENT
DTSTAMP:20260427T000000Z
UID:c62d540f-0f12-4d7b-b1d9-1274f9394f67@ClaytonBocce
DTSTART;TZID=America/Los_Angeles:20260805T183000
DTEND;TZID=America/Los_Angeles:20260805T210000
STATUS:CONFIRMED
SUMMARY:Dean's Rollers vs Bocce Dreamin'
URL:/League/Schedule/3288
DESCRIPTION:Regular Season match: Dean's Rollers vs Bocce Dr
 eamin'
LOCATION:Baldwin Court 3
END:VEVENT
BEGIN:VEVENT
DTSTAMP:20260427T000000Z
UID:2db493ea-2f43-4916-a0f6-97ddc459ad09@ClaytonBocce
DTSTART;TZID=America/Los_Angeles:20260812T183000
DTEND;TZID=America/Los_Angeles:20260812T210000
STATUS:CONFIRMED
SUMMARY:Dean's Rollers vs Bootleggers
URL:/League/Schedule/3288
DESCRIPTION:Regular Season match: Dean's Rollers vs Bootlegg
 ers
LOCATION:Baldwin Court 2
END:VEVENT
BEGIN:VEVENT
DTSTAMP:20260427T000000Z
UID:b11c1341-97e1-4115-8256-74c38f76a38e@ClaytonBocce
DTSTART;TZID=America/Los_Angeles:20260819T183000
DTEND;TZID=America/Los_Angeles:20260819T210000
STATUS:CONFIRMED
SUMMARY:Dean's Rollers vs Good Time Rollers
URL:/League/Schedule/3288
DESCRIPTION:Regular Season match: Dean's Rollers vs Good Tim
 e Rollers
LOCATION:Baldwin Court 1
END:VEVENT
BEGIN:VEVENT
DTSTAMP:20260427T000000Z
UID:ec4c0618-5949-49a4-91a5-5b5d5e75663e@ClaytonBocce
DTSTART;TZID=America/Los_Angeles:20260826T183000
DTEND;TZID=America/Los_Angeles:20260826T210000
STATUS:CONFIRMED
SUMMARY:Dean's Rollers vs Cavaliere de Bocce
URL:/League/Schedule/3288
DESCRIPTION:Regular Season match: Dean's Rollers vs Cavalier
 e de Bocce
LOCATION:Baldwin Court 4
END:VEVENT
BEGIN:VEVENT
DTSTAMP:20260427T000000Z
UID:2d247c72-401a-4061-82b3-8a9e921ff8d2@ClaytonBocce
DTSTART;TZID=America/Los_Angeles:20260902T183000
DTEND;TZID=America/Los_Angeles:20260902T210000
STATUS:CONFIRMED
SUMMARY:Dean's Rollers vs Sir Bocce Too
URL:/League/Schedule/3288
DESCRIPTION:Regular Season match: Dean's Rollers vs Sir Bocc
 e Too
LOCATION:Baldwin Court 2
END:VEVENT
END:VCALENDAR
