BEGIN:VCALENDAR
VERSION:2.0
PRODID:-//Clayton Bocce League
METHOD:PUBLISH
BEGIN:VTIMEZONE
TZID:America/Los_Angeles
X-LIC-LOCATION:America/Los_Angeles
BEGIN:DAYLIGHT
TZOFFSETFROM:-0800
TZOFFSETTO:-0700
TZNAME:PDT
DTSTART:20070311T020000
RRULE:FREQ=YEARLY;BYMONTH=3;BYDAY=2SU
END:DAYLIGHT
BEGIN:STANDARD
TZOFFSETFROM:-0700
TZOFFSETTO:-0800
TZNAME:PST
DTSTART:20071104T020000
RRULE:FREQ=YEARLY;BYMONTH=11;BYDAY=1SU
END:STANDARD
END:VTIMEZONE
BEGIN:VEVENT
DTSTAMP:20260427T000000Z
UID:5caade38-433a-400d-b0fb-0535ffae256f@ClaytonBocce
DTSTART;TZID=America/Los_Angeles:20260429T183000
DTEND;TZID=America/Los_Angeles:20260429T210000
STATUS:CONFIRMED
SUMMARY:Bocce Gators vs Dean's Rollers
URL:/League/Schedule/3282
DESCRIPTION:Regular Season match: Bocce Gators vs Dean's Rol
 lers
LOCATION:Baldwin Court 3
END:VEVENT
BEGIN:VEVENT
DTSTAMP:20260427T000000Z
UID:c7cc8abd-2488-4ea2-b4ca-d405e55bace0@ClaytonBocce
DTSTART;TZID=America/Los_Angeles:20260506T183000
DTEND;TZID=America/Los_Angeles:20260506T210000
STATUS:CONFIRMED
SUMMARY:Bocce Gators vs Bocce Dreamin'
URL:/League/Schedule/3282
DESCRIPTION:Regular Season match: Bocce Gators vs Bocce Drea
 min'
LOCATION:Baldwin Court 2
END:VEVENT
BEGIN:VEVENT
DTSTAMP:20260427T000000Z
UID:ed88a57d-ec9a-4ad2-927d-25d00d36b9e1@ClaytonBocce
DTSTART;TZID=America/Los_Angeles:20260513T183000
DTEND;TZID=America/Los_Angeles:20260513T210000
STATUS:CONFIRMED
SUMMARY:Bocce Gators vs Bootleggers
URL:/League/Schedule/3282
DESCRIPTION:Regular Season match: Bocce Gators vs Bootlegger
 s
LOCATION:Baldwin Court 4
END:VEVENT
BEGIN:VEVENT
DTSTAMP:20260427T000000Z
UID:6e1cfbeb-9ad0-4a54-aba9-bd0462702a29@ClaytonBocce
DTSTART;TZID=America/Los_Angeles:20260520T183000
DTEND;TZID=America/Los_Angeles:20260520T210000
STATUS:CONFIRMED
SUMMARY:Bocce Gators vs Good Time Rollers
URL:/League/Schedule/3282
DESCRIPTION:Regular Season match: Bocce Gators vs Good Time 
 Rollers
LOCATION:Baldwin Court 1
END:VEVENT
BEGIN:VEVENT
DTSTAMP:20260427T000000Z
UID:3882aa01-1894-4036-823c-951227ef7dc3@ClaytonBocce
DTSTART;TZID=America/Los_Angeles:20260527T183000
DTEND;TZID=America/Los_Angeles:20260527T210000
STATUS:CONFIRMED
SUMMARY:Bocce Gators vs Cavaliere de Bocce
URL:/League/Schedule/3282
DESCRIPTION:Regular Season match: Bocce Gators vs Cavaliere 
 de Bocce
LOCATION:Baldwin Court 2
END:VEVENT
BEGIN:VEVENT
DTSTAMP:20260427T000000Z
UID:4f5517a7-518b-477b-8da9-17858ae0a812@ClaytonBocce
DTSTART;TZID=America/Los_Angeles:20260603T183000
DTEND;TZID=America/Los_Angeles:20260603T210000
STATUS:CONFIRMED
SUMMARY:Bocce Gators vs Sir Bocce Too
URL:/League/Schedule/3282
DESCRIPTION:Regular Season match: Bocce Gators vs Sir Bocce 
 Too
LOCATION:Baldwin Court 3
END:VEVENT
BEGIN:VEVENT
DTSTAMP:20260427T000000Z
UID:26f7c5f9-21f4-4c2f-90af-ba76059f3174@ClaytonBocce
DTSTART;TZID=America/Los_Angeles:20260617T183000
DTEND;TZID=America/Los_Angeles:20260617T210000
STATUS:CONFIRMED
SUMMARY:Bocce Gators vs Let's Roll
URL:/League/Schedule/3282
DESCRIPTION:Regular Season match: Bocce Gators vs Let's Roll
LOCATION:Baldwin Court 3
END:VEVENT
BEGIN:VEVENT
DTSTAMP:20260427T000000Z
UID:9a13690f-b0f1-493e-ba51-6b2fe933d74e@ClaytonBocce
DTSTART;TZID=America/Los_Angeles:20260624T183000
DTEND;TZID=America/Los_Angeles:20260624T210000
STATUS:CONFIRMED
SUMMARY:Bocce Gators vs Chaotic
URL:/League/Schedule/3282
DESCRIPTION:Regular Season match: Bocce Gators vs Chaotic
LOCATION:Baldwin Court 2
END:VEVENT
BEGIN:VEVENT
DTSTAMP:20260427T000000Z
UID:825d272f-3b42-4c66-8103-ceeca5d8267f@ClaytonBocce
DTSTART;TZID=America/Los_Angeles:20260708T183000
DTEND;TZID=America/Los_Angeles:20260708T210000
STATUS:CONFIRMED
SUMMARY:Bocce Gators vs Dean's Rollers
URL:/League/Schedule/3282
DESCRIPTION:Regular Season match: Bocce Gators vs Dean's Rol
 lers
LOCATION:Baldwin Court 1
END:VEVENT
BEGIN:VEVENT
DTSTAMP:20260427T000000Z
UID:f011f05e-33e6-4f1e-a5da-d6ff0aadace2@ClaytonBocce
DTSTART;TZID=America/Los_Angeles:20260715T183000
DTEND;TZID=America/Los_Angeles:20260715T210000
STATUS:CONFIRMED
SUMMARY:Bocce Gators vs Bocce Dreamin'
URL:/League/Schedule/3282
DESCRIPTION:Regular Season match: Bocce Gators vs Bocce Drea
 min'
LOCATION:Baldwin Court 4
END:VEVENT
BEGIN:VEVENT
DTSTAMP:20260427T000000Z
UID:57191372-eb9b-46d3-8ef1-1c7f436d8c07@ClaytonBocce
DTSTART;TZID=America/Los_Angeles:20260722T183000
DTEND;TZID=America/Los_Angeles:20260722T210000
STATUS:CONFIRMED
SUMMARY:Bocce Gators vs Bootleggers
URL:/League/Schedule/3282
DESCRIPTION:Regular Season match: Bocce Gators vs Bootlegger
 s
LOCATION:Baldwin Court 2
END:VEVENT
BEGIN:VEVENT
DTSTAMP:20260427T000000Z
UID:d6af5a1f-a560-4712-995e-e65627547937@ClaytonBocce
DTSTART;TZID=America/Los_Angeles:20260729T183000
DTEND;TZID=America/Los_Angeles:20260729T210000
STATUS:CONFIRMED
SUMMARY:Bocce Gators vs Good Time Rollers
URL:/League/Schedule/3282
DESCRIPTION:Regular Season match: Bocce Gators vs Good Time 
 Rollers
LOCATION:Baldwin Court 3
END:VEVENT
BEGIN:VEVENT
DTSTAMP:20260427T000000Z
UID:a1f7dbf2-cf7d-4720-bb7e-6968e55cb4c2@ClaytonBocce
DTSTART;TZID=America/Los_Angeles:20260805T183000
DTEND;TZID=America/Los_Angeles:20260805T210000
STATUS:CONFIRMED
SUMMARY:Bocce Gators vs Cavaliere de Bocce
URL:/League/Schedule/3282
DESCRIPTION:Regular Season match: Bocce Gators vs Cavaliere 
 de Bocce
LOCATION:Baldwin Court 4
END:VEVENT
BEGIN:VEVENT
DTSTAMP:20260427T000000Z
UID:e5392716-8177-451d-8855-bdc4e5827f67@ClaytonBocce
DTSTART;TZID=America/Los_Angeles:20260812T183000
DTEND;TZID=America/Los_Angeles:20260812T210000
STATUS:CONFIRMED
SUMMARY:Bocce Gators vs Sir Bocce Too
URL:/League/Schedule/3282
DESCRIPTION:Regular Season match: Bocce Gators vs Sir Bocce 
 Too
LOCATION:Baldwin Court 1
END:VEVENT
BEGIN:VEVENT
DTSTAMP:20260427T000000Z
UID:6512134c-ba28-4d98-96c2-46ace99e0642@ClaytonBocce
DTSTART;TZID=America/Los_Angeles:20260826T183000
DTEND;TZID=America/Los_Angeles:20260826T210000
STATUS:CONFIRMED
SUMMARY:Bocce Gators vs Let's Roll
URL:/League/Schedule/3282
DESCRIPTION:Regular Season match: Bocce Gators vs Let's Roll
LOCATION:Baldwin Court 1
END:VEVENT
BEGIN:VEVENT
DTSTAMP:20260427T000000Z
UID:a2200fe5-d460-46c3-ac96-fd71daaa144b@ClaytonBocce
DTSTART;TZID=America/Los_Angeles:20260902T183000
DTEND;TZID=America/Los_Angeles:20260902T210000
STATUS:CONFIRMED
SUMMARY:Bocce Gators vs Chaotic
URL:/League/Schedule/3282
DESCRIPTION:Regular Season match: Bocce Gators vs Chaotic
LOCATION:Baldwin Court 4
END:VEVENT
END:VCALENDAR
