BEGIN:VCALENDAR
VERSION:2.0
PRODID:-//Clayton Bocce League
METHOD:PUBLISH
BEGIN:VTIMEZONE
TZID:America/Los_Angeles
X-LIC-LOCATION:America/Los_Angeles
BEGIN:DAYLIGHT
TZOFFSETFROM:-0800
TZOFFSETTO:-0700
TZNAME:PDT
DTSTART:20070311T020000
RRULE:FREQ=YEARLY;BYMONTH=3;BYDAY=2SU
END:DAYLIGHT
BEGIN:STANDARD
TZOFFSETFROM:-0700
TZOFFSETTO:-0800
TZNAME:PST
DTSTART:20071104T020000
RRULE:FREQ=YEARLY;BYMONTH=11;BYDAY=1SU
END:STANDARD
END:VTIMEZONE
BEGIN:VEVENT
DTSTAMP:20260427T000000Z
UID:2640df39-e1f9-4c9e-a878-9ca77a852d81@ClaytonBocce
DTSTART;TZID=America/Los_Angeles:20260429T183000
DTEND;TZID=America/Los_Angeles:20260429T210000
STATUS:CONFIRMED
SUMMARY:Cavaliere de Bocce vs Bootleggers
URL:/League/Schedule/3283
DESCRIPTION:Regular Season match: Cavaliere de Bocce vs Boot
 leggers
LOCATION:Baldwin Court 2
END:VEVENT
BEGIN:VEVENT
DTSTAMP:20260427T000000Z
UID:16b44e43-23c5-4976-a2d5-9a234fee410f@ClaytonBocce
DTSTART;TZID=America/Los_Angeles:20260506T183000
DTEND;TZID=America/Los_Angeles:20260506T210000
STATUS:CONFIRMED
SUMMARY:Cavaliere de Bocce vs Good Time Rollers
URL:/League/Schedule/3283
DESCRIPTION:Regular Season match: Cavaliere de Bocce vs Good
  Time Rollers
LOCATION:Baldwin Court 3
END:VEVENT
BEGIN:VEVENT
DTSTAMP:20260427T000000Z
UID:1857b8a4-e02f-432a-927a-97843a7ac452@ClaytonBocce
DTSTART;TZID=America/Los_Angeles:20260520T183000
DTEND;TZID=America/Los_Angeles:20260520T210000
STATUS:CONFIRMED
SUMMARY:Cavaliere de Bocce vs Sir Bocce Too
URL:/League/Schedule/3283
DESCRIPTION:Regular Season match: Cavaliere de Bocce vs Sir 
 Bocce Too
LOCATION:Baldwin Court 3
END:VEVENT
BEGIN:VEVENT
DTSTAMP:20260427T000000Z
UID:3882aa01-1894-4036-823c-951227ef7dc3@ClaytonBocce
DTSTART;TZID=America/Los_Angeles:20260527T183000
DTEND;TZID=America/Los_Angeles:20260527T210000
STATUS:CONFIRMED
SUMMARY:Cavaliere de Bocce vs Bocce Gators
URL:/League/Schedule/3283
DESCRIPTION:Regular Season match: Cavaliere de Bocce vs Bocc
 e Gators
LOCATION:Baldwin Court 2
END:VEVENT
BEGIN:VEVENT
DTSTAMP:20260427T000000Z
UID:a69b0ca6-b9fa-49eb-b4d8-6d89e5d5333c@ClaytonBocce
DTSTART;TZID=America/Los_Angeles:20260603T183000
DTEND;TZID=America/Los_Angeles:20260603T210000
STATUS:CONFIRMED
SUMMARY:Cavaliere de Bocce vs Let's Roll
URL:/League/Schedule/3283
DESCRIPTION:Regular Season match: Cavaliere de Bocce vs Let'
 s Roll
LOCATION:Baldwin Court 1
END:VEVENT
BEGIN:VEVENT
DTSTAMP:20260427T000000Z
UID:0922c9e0-6c79-4e7d-8419-8f907f09c7a1@ClaytonBocce
DTSTART;TZID=America/Los_Angeles:20260610T183000
DTEND;TZID=America/Los_Angeles:20260610T210000
STATUS:CONFIRMED
SUMMARY:Cavaliere de Bocce vs Chaotic
URL:/League/Schedule/3283
DESCRIPTION:Regular Season match: Cavaliere de Bocce vs Chao
 tic
LOCATION:Baldwin Court 4
END:VEVENT
BEGIN:VEVENT
DTSTAMP:20260427T000000Z
UID:ce23d266-8e4c-4662-aa30-127253cfab3f@ClaytonBocce
DTSTART;TZID=America/Los_Angeles:20260617T183000
DTEND;TZID=America/Los_Angeles:20260617T210000
STATUS:CONFIRMED
SUMMARY:Cavaliere de Bocce vs Dean's Rollers
URL:/League/Schedule/3283
DESCRIPTION:Regular Season match: Cavaliere de Bocce vs Dean
 's Rollers
LOCATION:Baldwin Court 2
END:VEVENT
BEGIN:VEVENT
DTSTAMP:20260427T000000Z
UID:822a6eef-7284-46f1-adac-abeca9e3db3e@ClaytonBocce
DTSTART;TZID=America/Los_Angeles:20260624T183000
DTEND;TZID=America/Los_Angeles:20260624T210000
STATUS:CONFIRMED
SUMMARY:Cavaliere de Bocce vs Bocce Dreamin'
URL:/League/Schedule/3283
DESCRIPTION:Regular Season match: Cavaliere de Bocce vs Bocc
 e Dreamin'
LOCATION:Baldwin Court 3
END:VEVENT
BEGIN:VEVENT
DTSTAMP:20260427T000000Z
UID:c040a3ab-1480-457d-b50f-be81289036cb@ClaytonBocce
DTSTART;TZID=America/Los_Angeles:20260708T183000
DTEND;TZID=America/Los_Angeles:20260708T210000
STATUS:CONFIRMED
SUMMARY:Cavaliere de Bocce vs Bootleggers
URL:/League/Schedule/3283
DESCRIPTION:Regular Season match: Cavaliere de Bocce vs Boot
 leggers
LOCATION:Baldwin Court 4
END:VEVENT
BEGIN:VEVENT
DTSTAMP:20260427T000000Z
UID:a7b24249-b089-4d64-a33e-eb8072ff553c@ClaytonBocce
DTSTART;TZID=America/Los_Angeles:20260715T183000
DTEND;TZID=America/Los_Angeles:20260715T210000
STATUS:CONFIRMED
SUMMARY:Cavaliere de Bocce vs Good Time Rollers
URL:/League/Schedule/3283
DESCRIPTION:Regular Season match: Cavaliere de Bocce vs Good
  Time Rollers
LOCATION:Baldwin Court 1
END:VEVENT
BEGIN:VEVENT
DTSTAMP:20260427T000000Z
UID:2757fd40-8213-4d43-9380-e74a8a46fde8@ClaytonBocce
DTSTART;TZID=America/Los_Angeles:20260729T183000
DTEND;TZID=America/Los_Angeles:20260729T210000
STATUS:CONFIRMED
SUMMARY:Cavaliere de Bocce vs Sir Bocce Too
URL:/League/Schedule/3283
DESCRIPTION:Regular Season match: Cavaliere de Bocce vs Sir 
 Bocce Too
LOCATION:Baldwin Court 1
END:VEVENT
BEGIN:VEVENT
DTSTAMP:20260427T000000Z
UID:a1f7dbf2-cf7d-4720-bb7e-6968e55cb4c2@ClaytonBocce
DTSTART;TZID=America/Los_Angeles:20260805T183000
DTEND;TZID=America/Los_Angeles:20260805T210000
STATUS:CONFIRMED
SUMMARY:Cavaliere de Bocce vs Bocce Gators
URL:/League/Schedule/3283
DESCRIPTION:Regular Season match: Cavaliere de Bocce vs Bocc
 e Gators
LOCATION:Baldwin Court 4
END:VEVENT
BEGIN:VEVENT
DTSTAMP:20260427T000000Z
UID:dddc8911-721a-4838-80b3-257929a82372@ClaytonBocce
DTSTART;TZID=America/Los_Angeles:20260812T183000
DTEND;TZID=America/Los_Angeles:20260812T210000
STATUS:CONFIRMED
SUMMARY:Cavaliere de Bocce vs Let's Roll
URL:/League/Schedule/3283
DESCRIPTION:Regular Season match: Cavaliere de Bocce vs Let'
 s Roll
LOCATION:Baldwin Court 3
END:VEVENT
BEGIN:VEVENT
DTSTAMP:20260427T000000Z
UID:839deac5-bf56-4290-88ec-63cd5e34ac28@ClaytonBocce
DTSTART;TZID=America/Los_Angeles:20260819T183000
DTEND;TZID=America/Los_Angeles:20260819T210000
STATUS:CONFIRMED
SUMMARY:Cavaliere de Bocce vs Chaotic
URL:/League/Schedule/3283
DESCRIPTION:Regular Season match: Cavaliere de Bocce vs Chao
 tic
LOCATION:Baldwin Court 2
END:VEVENT
BEGIN:VEVENT
DTSTAMP:20260427T000000Z
UID:ec4c0618-5949-49a4-91a5-5b5d5e75663e@ClaytonBocce
DTSTART;TZID=America/Los_Angeles:20260826T183000
DTEND;TZID=America/Los_Angeles:20260826T210000
STATUS:CONFIRMED
SUMMARY:Cavaliere de Bocce vs Dean's Rollers
URL:/League/Schedule/3283
DESCRIPTION:Regular Season match: Cavaliere de Bocce vs Dean
 's Rollers
LOCATION:Baldwin Court 4
END:VEVENT
BEGIN:VEVENT
DTSTAMP:20260427T000000Z
UID:877f00a0-0e6f-4129-98b1-488237b3e984@ClaytonBocce
DTSTART;TZID=America/Los_Angeles:20260902T183000
DTEND;TZID=America/Los_Angeles:20260902T210000
STATUS:CONFIRMED
SUMMARY:Cavaliere de Bocce vs Bocce Dreamin'
URL:/League/Schedule/3283
DESCRIPTION:Regular Season match: Cavaliere de Bocce vs Bocc
 e Dreamin'
LOCATION:Baldwin Court 1
END:VEVENT
END:VCALENDAR
