BEGIN:VCALENDAR
VERSION:2.0
PRODID:-//Clayton Bocce League
METHOD:PUBLISH
BEGIN:VTIMEZONE
TZID:America/Los_Angeles
X-LIC-LOCATION:America/Los_Angeles
BEGIN:DAYLIGHT
TZOFFSETFROM:-0800
TZOFFSETTO:-0700
TZNAME:PDT
DTSTART:20070311T020000
RRULE:FREQ=YEARLY;BYMONTH=3;BYDAY=2SU
END:DAYLIGHT
BEGIN:STANDARD
TZOFFSETFROM:-0700
TZOFFSETTO:-0800
TZNAME:PST
DTSTART:20071104T020000
RRULE:FREQ=YEARLY;BYMONTH=11;BYDAY=1SU
END:STANDARD
END:VTIMEZONE
BEGIN:VEVENT
DTSTAMP:20260427T000000Z
UID:2640df39-e1f9-4c9e-a878-9ca77a852d81@ClaytonBocce
DTSTART;TZID=America/Los_Angeles:20260429T183000
DTEND;TZID=America/Los_Angeles:20260429T210000
STATUS:CONFIRMED
SUMMARY:Bootleggers vs Cavaliere de Bocce
URL:/League/Schedule/3281
DESCRIPTION:Regular Season match: Bootleggers vs Cavaliere d
 e Bocce
LOCATION:Baldwin Court 2
END:VEVENT
BEGIN:VEVENT
DTSTAMP:20260427T000000Z
UID:50a4d75b-25d6-478f-9364-75577997390e@ClaytonBocce
DTSTART;TZID=America/Los_Angeles:20260506T183000
DTEND;TZID=America/Los_Angeles:20260506T210000
STATUS:CONFIRMED
SUMMARY:Bootleggers vs Sir Bocce Too
URL:/League/Schedule/3281
DESCRIPTION:Regular Season match: Bootleggers vs Sir Bocce T
 oo
LOCATION:Baldwin Court 1
END:VEVENT
BEGIN:VEVENT
DTSTAMP:20260427T000000Z
UID:ed88a57d-ec9a-4ad2-927d-25d00d36b9e1@ClaytonBocce
DTSTART;TZID=America/Los_Angeles:20260513T183000
DTEND;TZID=America/Los_Angeles:20260513T210000
STATUS:CONFIRMED
SUMMARY:Bootleggers vs Bocce Gators
URL:/League/Schedule/3281
DESCRIPTION:Regular Season match: Bootleggers vs Bocce Gator
 s
LOCATION:Baldwin Court 4
END:VEVENT
BEGIN:VEVENT
DTSTAMP:20260427T000000Z
UID:81c5a8e1-263b-4d8d-9b34-25f1fa07220f@ClaytonBocce
DTSTART;TZID=America/Los_Angeles:20260520T183000
DTEND;TZID=America/Los_Angeles:20260520T210000
STATUS:CONFIRMED
SUMMARY:Bootleggers vs Let's Roll
URL:/League/Schedule/3281
DESCRIPTION:Regular Season match: Bootleggers vs Let's Roll
LOCATION:Baldwin Court 2
END:VEVENT
BEGIN:VEVENT
DTSTAMP:20260427T000000Z
UID:2bf425e5-1903-48bb-9495-20daf619fc9e@ClaytonBocce
DTSTART;TZID=America/Los_Angeles:20260527T183000
DTEND;TZID=America/Los_Angeles:20260527T210000
STATUS:CONFIRMED
SUMMARY:Bootleggers vs Chaotic
URL:/League/Schedule/3281
DESCRIPTION:Regular Season match: Bootleggers vs Chaotic
LOCATION:Baldwin Court 3
END:VEVENT
BEGIN:VEVENT
DTSTAMP:20260427T000000Z
UID:e09c27cf-c8b7-484b-88be-9585c8544d72@ClaytonBocce
DTSTART;TZID=America/Los_Angeles:20260603T183000
DTEND;TZID=America/Los_Angeles:20260603T210000
STATUS:CONFIRMED
SUMMARY:Bootleggers vs Dean's Rollers
URL:/League/Schedule/3281
DESCRIPTION:Regular Season match: Bootleggers vs Dean's Roll
 ers
LOCATION:Baldwin Court 4
END:VEVENT
BEGIN:VEVENT
DTSTAMP:20260427T000000Z
UID:1465d54f-6a5b-48ab-bc00-d35cacbe23a6@ClaytonBocce
DTSTART;TZID=America/Los_Angeles:20260610T183000
DTEND;TZID=America/Los_Angeles:20260610T210000
STATUS:CONFIRMED
SUMMARY:Bootleggers vs Bocce Dreamin'
URL:/League/Schedule/3281
DESCRIPTION:Regular Season match: Bootleggers vs Bocce Dream
 in'
LOCATION:Baldwin Court 1
END:VEVENT
BEGIN:VEVENT
DTSTAMP:20260427T000000Z
UID:a2da5b32-2033-48ef-aebb-d1559188a2f6@ClaytonBocce
DTSTART;TZID=America/Los_Angeles:20260624T183000
DTEND;TZID=America/Los_Angeles:20260624T210000
STATUS:CONFIRMED
SUMMARY:Bootleggers vs Good Time Rollers
URL:/League/Schedule/3281
DESCRIPTION:Regular Season match: Bootleggers vs Good Time R
 ollers
LOCATION:Baldwin Court 1
END:VEVENT
BEGIN:VEVENT
DTSTAMP:20260427T000000Z
UID:c040a3ab-1480-457d-b50f-be81289036cb@ClaytonBocce
DTSTART;TZID=America/Los_Angeles:20260708T183000
DTEND;TZID=America/Los_Angeles:20260708T210000
STATUS:CONFIRMED
SUMMARY:Bootleggers vs Cavaliere de Bocce
URL:/League/Schedule/3281
DESCRIPTION:Regular Season match: Bootleggers vs Cavaliere d
 e Bocce
LOCATION:Baldwin Court 4
END:VEVENT
BEGIN:VEVENT
DTSTAMP:20260427T000000Z
UID:b5632a55-7212-4612-b5b6-c5932aa6cf24@ClaytonBocce
DTSTART;TZID=America/Los_Angeles:20260715T183000
DTEND;TZID=America/Los_Angeles:20260715T210000
STATUS:CONFIRMED
SUMMARY:Bootleggers vs Sir Bocce Too
URL:/League/Schedule/3281
DESCRIPTION:Regular Season match: Bootleggers vs Sir Bocce T
 oo
LOCATION:Baldwin Court 3
END:VEVENT
BEGIN:VEVENT
DTSTAMP:20260427T000000Z
UID:57191372-eb9b-46d3-8ef1-1c7f436d8c07@ClaytonBocce
DTSTART;TZID=America/Los_Angeles:20260722T183000
DTEND;TZID=America/Los_Angeles:20260722T210000
STATUS:CONFIRMED
SUMMARY:Bootleggers vs Bocce Gators
URL:/League/Schedule/3281
DESCRIPTION:Regular Season match: Bootleggers vs Bocce Gator
 s
LOCATION:Baldwin Court 2
END:VEVENT
BEGIN:VEVENT
DTSTAMP:20260427T000000Z
UID:f225b7dd-f6d5-4fef-9bd4-ca0db1e01339@ClaytonBocce
DTSTART;TZID=America/Los_Angeles:20260729T183000
DTEND;TZID=America/Los_Angeles:20260729T210000
STATUS:CONFIRMED
SUMMARY:Bootleggers vs Let's Roll
URL:/League/Schedule/3281
DESCRIPTION:Regular Season match: Bootleggers vs Let's Roll
LOCATION:Baldwin Court 4
END:VEVENT
BEGIN:VEVENT
DTSTAMP:20260427T000000Z
UID:a85a747e-b28d-4d5e-ada3-fcd699c4cc7c@ClaytonBocce
DTSTART;TZID=America/Los_Angeles:20260805T183000
DTEND;TZID=America/Los_Angeles:20260805T210000
STATUS:CONFIRMED
SUMMARY:Bootleggers vs Chaotic
URL:/League/Schedule/3281
DESCRIPTION:Regular Season match: Bootleggers vs Chaotic
LOCATION:Baldwin Court 1
END:VEVENT
BEGIN:VEVENT
DTSTAMP:20260427T000000Z
UID:2db493ea-2f43-4916-a0f6-97ddc459ad09@ClaytonBocce
DTSTART;TZID=America/Los_Angeles:20260812T183000
DTEND;TZID=America/Los_Angeles:20260812T210000
STATUS:CONFIRMED
SUMMARY:Bootleggers vs Dean's Rollers
URL:/League/Schedule/3281
DESCRIPTION:Regular Season match: Bootleggers vs Dean's Roll
 ers
LOCATION:Baldwin Court 2
END:VEVENT
BEGIN:VEVENT
DTSTAMP:20260427T000000Z
UID:15240388-6794-492a-9807-84044440c62c@ClaytonBocce
DTSTART;TZID=America/Los_Angeles:20260819T183000
DTEND;TZID=America/Los_Angeles:20260819T210000
STATUS:CONFIRMED
SUMMARY:Bootleggers vs Bocce Dreamin'
URL:/League/Schedule/3281
DESCRIPTION:Regular Season match: Bootleggers vs Bocce Dream
 in'
LOCATION:Baldwin Court 3
END:VEVENT
BEGIN:VEVENT
DTSTAMP:20260427T000000Z
UID:153b1205-1cd3-4cbf-9dfd-91cb123f96c4@ClaytonBocce
DTSTART;TZID=America/Los_Angeles:20260902T183000
DTEND;TZID=America/Los_Angeles:20260902T210000
STATUS:CONFIRMED
SUMMARY:Bootleggers vs Good Time Rollers
URL:/League/Schedule/3281
DESCRIPTION:Regular Season match: Bootleggers vs Good Time R
 ollers
LOCATION:Baldwin Court 3
END:VEVENT
END:VCALENDAR
