BEGIN:VCALENDAR
VERSION:2.0
PRODID:-//Clayton Bocce League
METHOD:PUBLISH
BEGIN:VTIMEZONE
TZID:America/Los_Angeles
X-LIC-LOCATION:America/Los_Angeles
BEGIN:DAYLIGHT
TZOFFSETFROM:-0800
TZOFFSETTO:-0700
TZNAME:PDT
DTSTART:20070311T020000
RRULE:FREQ=YEARLY;BYMONTH=3;BYDAY=2SU
END:DAYLIGHT
BEGIN:STANDARD
TZOFFSETFROM:-0700
TZOFFSETTO:-0800
TZNAME:PST
DTSTART:20071104T020000
RRULE:FREQ=YEARLY;BYMONTH=11;BYDAY=1SU
END:STANDARD
END:VTIMEZONE
BEGIN:VEVENT
DTSTAMP:20260427T000000Z
UID:5ec294ab-5e43-493e-b677-2d539edccbb4@ClaytonBocce
DTSTART;TZID=America/Los_Angeles:20260429T183000
DTEND;TZID=America/Los_Angeles:20260429T210000
STATUS:CONFIRMED
SUMMARY:Chaotic vs Let's Roll
URL:/League/Schedule/3287
DESCRIPTION:Regular Season match: Chaotic vs Let's Roll
LOCATION:Baldwin Court 1
END:VEVENT
BEGIN:VEVENT
DTSTAMP:20260427T000000Z
UID:0b8770f9-938e-4c45-a08c-2a0d68c7fbdb@ClaytonBocce
DTSTART;TZID=America/Los_Angeles:20260513T183000
DTEND;TZID=America/Los_Angeles:20260513T210000
STATUS:CONFIRMED
SUMMARY:Chaotic vs Dean's Rollers
URL:/League/Schedule/3287
DESCRIPTION:Regular Season match: Chaotic vs Dean's Rollers
LOCATION:Baldwin Court 1
END:VEVENT
BEGIN:VEVENT
DTSTAMP:20260427T000000Z
UID:92e4d6a4-1ed2-4025-a8f9-750756e3c572@ClaytonBocce
DTSTART;TZID=America/Los_Angeles:20260520T183000
DTEND;TZID=America/Los_Angeles:20260520T210000
STATUS:CONFIRMED
SUMMARY:Chaotic vs Bocce Dreamin'
URL:/League/Schedule/3287
DESCRIPTION:Regular Season match: Chaotic vs Bocce Dreamin'
LOCATION:Baldwin Court 4
END:VEVENT
BEGIN:VEVENT
DTSTAMP:20260427T000000Z
UID:2bf425e5-1903-48bb-9495-20daf619fc9e@ClaytonBocce
DTSTART;TZID=America/Los_Angeles:20260527T183000
DTEND;TZID=America/Los_Angeles:20260527T210000
STATUS:CONFIRMED
SUMMARY:Chaotic vs Bootleggers
URL:/League/Schedule/3287
DESCRIPTION:Regular Season match: Chaotic vs Bootleggers
LOCATION:Baldwin Court 3
END:VEVENT
BEGIN:VEVENT
DTSTAMP:20260427T000000Z
UID:e3ba7947-6421-49cc-86de-ba735a2601dd@ClaytonBocce
DTSTART;TZID=America/Los_Angeles:20260603T183000
DTEND;TZID=America/Los_Angeles:20260603T210000
STATUS:CONFIRMED
SUMMARY:Chaotic vs Good Time Rollers
URL:/League/Schedule/3287
DESCRIPTION:Regular Season match: Chaotic vs Good Time Rolle
 rs
LOCATION:Baldwin Court 2
END:VEVENT
BEGIN:VEVENT
DTSTAMP:20260427T000000Z
UID:0922c9e0-6c79-4e7d-8419-8f907f09c7a1@ClaytonBocce
DTSTART;TZID=America/Los_Angeles:20260610T183000
DTEND;TZID=America/Los_Angeles:20260610T210000
STATUS:CONFIRMED
SUMMARY:Chaotic vs Cavaliere de Bocce
URL:/League/Schedule/3287
DESCRIPTION:Regular Season match: Chaotic vs Cavaliere de Bo
 cce
LOCATION:Baldwin Court 4
END:VEVENT
BEGIN:VEVENT
DTSTAMP:20260427T000000Z
UID:24232ee0-0d33-4d71-8a0f-c0f90abf49d9@ClaytonBocce
DTSTART;TZID=America/Los_Angeles:20260617T183000
DTEND;TZID=America/Los_Angeles:20260617T210000
STATUS:CONFIRMED
SUMMARY:Chaotic vs Sir Bocce Too
URL:/League/Schedule/3287
DESCRIPTION:Regular Season match: Chaotic vs Sir Bocce Too
LOCATION:Baldwin Court 1
END:VEVENT
BEGIN:VEVENT
DTSTAMP:20260427T000000Z
UID:9a13690f-b0f1-493e-ba51-6b2fe933d74e@ClaytonBocce
DTSTART;TZID=America/Los_Angeles:20260624T183000
DTEND;TZID=America/Los_Angeles:20260624T210000
STATUS:CONFIRMED
SUMMARY:Chaotic vs Bocce Gators
URL:/League/Schedule/3287
DESCRIPTION:Regular Season match: Chaotic vs Bocce Gators
LOCATION:Baldwin Court 2
END:VEVENT
BEGIN:VEVENT
DTSTAMP:20260427T000000Z
UID:e561296a-af2b-4bec-aa16-abb811655905@ClaytonBocce
DTSTART;TZID=America/Los_Angeles:20260708T183000
DTEND;TZID=America/Los_Angeles:20260708T210000
STATUS:CONFIRMED
SUMMARY:Chaotic vs Let's Roll
URL:/League/Schedule/3287
DESCRIPTION:Regular Season match: Chaotic vs Let's Roll
LOCATION:Baldwin Court 3
END:VEVENT
BEGIN:VEVENT
DTSTAMP:20260427T000000Z
UID:bb33d4e3-5078-4978-944b-7b5a1a5b5f1a@ClaytonBocce
DTSTART;TZID=America/Los_Angeles:20260722T183000
DTEND;TZID=America/Los_Angeles:20260722T210000
STATUS:CONFIRMED
SUMMARY:Chaotic vs Dean's Rollers
URL:/League/Schedule/3287
DESCRIPTION:Regular Season match: Chaotic vs Dean's Rollers
LOCATION:Baldwin Court 3
END:VEVENT
BEGIN:VEVENT
DTSTAMP:20260427T000000Z
UID:0f5fe922-5ec1-4fa7-9dc9-18f589d77483@ClaytonBocce
DTSTART;TZID=America/Los_Angeles:20260729T183000
DTEND;TZID=America/Los_Angeles:20260729T210000
STATUS:CONFIRMED
SUMMARY:Chaotic vs Bocce Dreamin'
URL:/League/Schedule/3287
DESCRIPTION:Regular Season match: Chaotic vs Bocce Dreamin'
LOCATION:Baldwin Court 2
END:VEVENT
BEGIN:VEVENT
DTSTAMP:20260427T000000Z
UID:a85a747e-b28d-4d5e-ada3-fcd699c4cc7c@ClaytonBocce
DTSTART;TZID=America/Los_Angeles:20260805T183000
DTEND;TZID=America/Los_Angeles:20260805T210000
STATUS:CONFIRMED
SUMMARY:Chaotic vs Bootleggers
URL:/League/Schedule/3287
DESCRIPTION:Regular Season match: Chaotic vs Bootleggers
LOCATION:Baldwin Court 1
END:VEVENT
BEGIN:VEVENT
DTSTAMP:20260427T000000Z
UID:96b3450f-1672-44f3-9f1b-671a891e3387@ClaytonBocce
DTSTART;TZID=America/Los_Angeles:20260812T183000
DTEND;TZID=America/Los_Angeles:20260812T210000
STATUS:CONFIRMED
SUMMARY:Chaotic vs Good Time Rollers
URL:/League/Schedule/3287
DESCRIPTION:Regular Season match: Chaotic vs Good Time Rolle
 rs
LOCATION:Baldwin Court 4
END:VEVENT
BEGIN:VEVENT
DTSTAMP:20260427T000000Z
UID:839deac5-bf56-4290-88ec-63cd5e34ac28@ClaytonBocce
DTSTART;TZID=America/Los_Angeles:20260819T183000
DTEND;TZID=America/Los_Angeles:20260819T210000
STATUS:CONFIRMED
SUMMARY:Chaotic vs Cavaliere de Bocce
URL:/League/Schedule/3287
DESCRIPTION:Regular Season match: Chaotic vs Cavaliere de Bo
 cce
LOCATION:Baldwin Court 2
END:VEVENT
BEGIN:VEVENT
DTSTAMP:20260427T000000Z
UID:f45d3ca8-4265-443e-83d2-ba7c24e4f040@ClaytonBocce
DTSTART;TZID=America/Los_Angeles:20260826T183000
DTEND;TZID=America/Los_Angeles:20260826T210000
STATUS:CONFIRMED
SUMMARY:Chaotic vs Sir Bocce Too
URL:/League/Schedule/3287
DESCRIPTION:Regular Season match: Chaotic vs Sir Bocce Too
LOCATION:Baldwin Court 3
END:VEVENT
BEGIN:VEVENT
DTSTAMP:20260427T000000Z
UID:a2200fe5-d460-46c3-ac96-fd71daaa144b@ClaytonBocce
DTSTART;TZID=America/Los_Angeles:20260902T183000
DTEND;TZID=America/Los_Angeles:20260902T210000
STATUS:CONFIRMED
SUMMARY:Chaotic vs Bocce Gators
URL:/League/Schedule/3287
DESCRIPTION:Regular Season match: Chaotic vs Bocce Gators
LOCATION:Baldwin Court 4
END:VEVENT
END:VCALENDAR
