BEGIN:VCALENDAR
VERSION:2.0
PRODID:-//Clayton Bocce League
METHOD:PUBLISH
BEGIN:VTIMEZONE
TZID:America/Los_Angeles
X-LIC-LOCATION:America/Los_Angeles
BEGIN:DAYLIGHT
TZOFFSETFROM:-0800
TZOFFSETTO:-0700
TZNAME:PDT
DTSTART:20070311T020000
RRULE:FREQ=YEARLY;BYMONTH=3;BYDAY=2SU
END:DAYLIGHT
BEGIN:STANDARD
TZOFFSETFROM:-0700
TZOFFSETTO:-0800
TZNAME:PST
DTSTART:20071104T020000
RRULE:FREQ=YEARLY;BYMONTH=11;BYDAY=1SU
END:STANDARD
END:VTIMEZONE
BEGIN:VEVENT
DTSTAMP:20260427T000000Z
UID:5ec294ab-5e43-493e-b677-2d539edccbb4@ClaytonBocce
DTSTART;TZID=America/Los_Angeles:20260429T183000
DTEND;TZID=America/Los_Angeles:20260429T210000
STATUS:CONFIRMED
SUMMARY:Let's Roll vs Chaotic
URL:/League/Schedule/3285
DESCRIPTION:Regular Season match: Let's Roll vs Chaotic
LOCATION:Baldwin Court 1
END:VEVENT
BEGIN:VEVENT
DTSTAMP:20260427T000000Z
UID:7609875a-4365-499b-808a-de7a9f9626f3@ClaytonBocce
DTSTART;TZID=America/Los_Angeles:20260506T183000
DTEND;TZID=America/Los_Angeles:20260506T210000
STATUS:CONFIRMED
SUMMARY:Let's Roll vs Dean's Rollers
URL:/League/Schedule/3285
DESCRIPTION:Regular Season match: Let's Roll vs Dean's Rolle
 rs
LOCATION:Baldwin Court 4
END:VEVENT
BEGIN:VEVENT
DTSTAMP:20260427T000000Z
UID:be684da4-5a22-4f96-8f3a-55f990eb8e16@ClaytonBocce
DTSTART;TZID=America/Los_Angeles:20260513T183000
DTEND;TZID=America/Los_Angeles:20260513T210000
STATUS:CONFIRMED
SUMMARY:Let's Roll vs Bocce Dreamin'
URL:/League/Schedule/3285
DESCRIPTION:Regular Season match: Let's Roll vs Bocce Dreami
 n'
LOCATION:Baldwin Court 3
END:VEVENT
BEGIN:VEVENT
DTSTAMP:20260427T000000Z
UID:81c5a8e1-263b-4d8d-9b34-25f1fa07220f@ClaytonBocce
DTSTART;TZID=America/Los_Angeles:20260520T183000
DTEND;TZID=America/Los_Angeles:20260520T210000
STATUS:CONFIRMED
SUMMARY:Let's Roll vs Bootleggers
URL:/League/Schedule/3285
DESCRIPTION:Regular Season match: Let's Roll vs Bootleggers
LOCATION:Baldwin Court 2
END:VEVENT
BEGIN:VEVENT
DTSTAMP:20260427T000000Z
UID:79fb083b-eafb-4993-a990-e4bd0ac3b8d1@ClaytonBocce
DTSTART;TZID=America/Los_Angeles:20260527T183000
DTEND;TZID=America/Los_Angeles:20260527T210000
STATUS:CONFIRMED
SUMMARY:Let's Roll vs Good Time Rollers
URL:/League/Schedule/3285
DESCRIPTION:Regular Season match: Let's Roll vs Good Time Ro
 llers
LOCATION:Baldwin Court 4
END:VEVENT
BEGIN:VEVENT
DTSTAMP:20260427T000000Z
UID:a69b0ca6-b9fa-49eb-b4d8-6d89e5d5333c@ClaytonBocce
DTSTART;TZID=America/Los_Angeles:20260603T183000
DTEND;TZID=America/Los_Angeles:20260603T210000
STATUS:CONFIRMED
SUMMARY:Let's Roll vs Cavaliere de Bocce
URL:/League/Schedule/3285
DESCRIPTION:Regular Season match: Let's Roll vs Cavaliere de
  Bocce
LOCATION:Baldwin Court 1
END:VEVENT
BEGIN:VEVENT
DTSTAMP:20260427T000000Z
UID:b51457fd-b0ad-4b2d-a90a-944767f727d1@ClaytonBocce
DTSTART;TZID=America/Los_Angeles:20260610T183000
DTEND;TZID=America/Los_Angeles:20260610T210000
STATUS:CONFIRMED
SUMMARY:Let's Roll vs Sir Bocce Too
URL:/League/Schedule/3285
DESCRIPTION:Regular Season match: Let's Roll vs Sir Bocce To
 o
LOCATION:Baldwin Court 2
END:VEVENT
BEGIN:VEVENT
DTSTAMP:20260427T000000Z
UID:26f7c5f9-21f4-4c2f-90af-ba76059f3174@ClaytonBocce
DTSTART;TZID=America/Los_Angeles:20260617T183000
DTEND;TZID=America/Los_Angeles:20260617T210000
STATUS:CONFIRMED
SUMMARY:Let's Roll vs Bocce Gators
URL:/League/Schedule/3285
DESCRIPTION:Regular Season match: Let's Roll vs Bocce Gators
LOCATION:Baldwin Court 3
END:VEVENT
BEGIN:VEVENT
DTSTAMP:20260427T000000Z
UID:e561296a-af2b-4bec-aa16-abb811655905@ClaytonBocce
DTSTART;TZID=America/Los_Angeles:20260708T183000
DTEND;TZID=America/Los_Angeles:20260708T210000
STATUS:CONFIRMED
SUMMARY:Let's Roll vs Chaotic
URL:/League/Schedule/3285
DESCRIPTION:Regular Season match: Let's Roll vs Chaotic
LOCATION:Baldwin Court 3
END:VEVENT
BEGIN:VEVENT
DTSTAMP:20260427T000000Z
UID:9b456cb6-925a-4209-8e07-1867a009fe8c@ClaytonBocce
DTSTART;TZID=America/Los_Angeles:20260715T183000
DTEND;TZID=America/Los_Angeles:20260715T210000
STATUS:CONFIRMED
SUMMARY:Let's Roll vs Dean's Rollers
URL:/League/Schedule/3285
DESCRIPTION:Regular Season match: Let's Roll vs Dean's Rolle
 rs
LOCATION:Baldwin Court 2
END:VEVENT
BEGIN:VEVENT
DTSTAMP:20260427T000000Z
UID:b319d6c0-1c7e-484e-aa24-ed3b66efd196@ClaytonBocce
DTSTART;TZID=America/Los_Angeles:20260722T183000
DTEND;TZID=America/Los_Angeles:20260722T210000
STATUS:CONFIRMED
SUMMARY:Let's Roll vs Bocce Dreamin'
URL:/League/Schedule/3285
DESCRIPTION:Regular Season match: Let's Roll vs Bocce Dreami
 n'
LOCATION:Baldwin Court 1
END:VEVENT
BEGIN:VEVENT
DTSTAMP:20260427T000000Z
UID:f225b7dd-f6d5-4fef-9bd4-ca0db1e01339@ClaytonBocce
DTSTART;TZID=America/Los_Angeles:20260729T183000
DTEND;TZID=America/Los_Angeles:20260729T210000
STATUS:CONFIRMED
SUMMARY:Let's Roll vs Bootleggers
URL:/League/Schedule/3285
DESCRIPTION:Regular Season match: Let's Roll vs Bootleggers
LOCATION:Baldwin Court 4
END:VEVENT
BEGIN:VEVENT
DTSTAMP:20260427T000000Z
UID:7adb99b6-4ce0-4a1e-bebe-98a707a145a7@ClaytonBocce
DTSTART;TZID=America/Los_Angeles:20260805T183000
DTEND;TZID=America/Los_Angeles:20260805T210000
STATUS:CONFIRMED
SUMMARY:Let's Roll vs Good Time Rollers
URL:/League/Schedule/3285
DESCRIPTION:Regular Season match: Let's Roll vs Good Time Ro
 llers
LOCATION:Baldwin Court 2
END:VEVENT
BEGIN:VEVENT
DTSTAMP:20260427T000000Z
UID:dddc8911-721a-4838-80b3-257929a82372@ClaytonBocce
DTSTART;TZID=America/Los_Angeles:20260812T183000
DTEND;TZID=America/Los_Angeles:20260812T210000
STATUS:CONFIRMED
SUMMARY:Let's Roll vs Cavaliere de Bocce
URL:/League/Schedule/3285
DESCRIPTION:Regular Season match: Let's Roll vs Cavaliere de
  Bocce
LOCATION:Baldwin Court 3
END:VEVENT
BEGIN:VEVENT
DTSTAMP:20260427T000000Z
UID:1d6a1920-4b25-43ed-940a-79486c8405a0@ClaytonBocce
DTSTART;TZID=America/Los_Angeles:20260819T183000
DTEND;TZID=America/Los_Angeles:20260819T210000
STATUS:CONFIRMED
SUMMARY:Let's Roll vs Sir Bocce Too
URL:/League/Schedule/3285
DESCRIPTION:Regular Season match: Let's Roll vs Sir Bocce To
 o
LOCATION:Baldwin Court 4
END:VEVENT
BEGIN:VEVENT
DTSTAMP:20260427T000000Z
UID:6512134c-ba28-4d98-96c2-46ace99e0642@ClaytonBocce
DTSTART;TZID=America/Los_Angeles:20260826T183000
DTEND;TZID=America/Los_Angeles:20260826T210000
STATUS:CONFIRMED
SUMMARY:Let's Roll vs Bocce Gators
URL:/League/Schedule/3285
DESCRIPTION:Regular Season match: Let's Roll vs Bocce Gators
LOCATION:Baldwin Court 1
END:VEVENT
END:VCALENDAR
