BEGIN:VCALENDAR
VERSION:2.0
PRODID:-//Clayton Bocce League
METHOD:PUBLISH
BEGIN:VTIMEZONE
TZID:America/Los_Angeles
X-LIC-LOCATION:America/Los_Angeles
BEGIN:DAYLIGHT
TZOFFSETFROM:-0800
TZOFFSETTO:-0700
TZNAME:PDT
DTSTART:20070311T020000
RRULE:FREQ=YEARLY;BYMONTH=3;BYDAY=2SU
END:DAYLIGHT
BEGIN:STANDARD
TZOFFSETFROM:-0700
TZOFFSETTO:-0800
TZNAME:PST
DTSTART:20071104T020000
RRULE:FREQ=YEARLY;BYMONTH=11;BYDAY=1SU
END:STANDARD
END:VTIMEZONE
BEGIN:VEVENT
DTSTAMP:20260427T000000Z
UID:cf55abc9-3af3-48ea-98de-94a1766d06ba@ClaytonBocce
DTSTART;TZID=America/Los_Angeles:20260428T183000
DTEND;TZID=America/Los_Angeles:20260428T210000
STATUS:CONFIRMED
SUMMARY:Buon Amici vs Ballsy and Brand New
URL:/League/Schedule/3277
DESCRIPTION:Regular Season match: Buon Amici vs Ballsy and B
 rand New
LOCATION:Baldwin Court 4
END:VEVENT
BEGIN:VEVENT
DTSTAMP:20260427T000000Z
UID:ca198816-91c7-4bca-81bb-4093b5cf361b@ClaytonBocce
DTSTART;TZID=America/Los_Angeles:20260505T183000
DTEND;TZID=America/Los_Angeles:20260505T210000
STATUS:CONFIRMED
SUMMARY:Buon Amici vs 6 Pack
URL:/League/Schedule/3277
DESCRIPTION:Regular Season match: Buon Amici vs 6 Pack
LOCATION:Baldwin Court 2
END:VEVENT
BEGIN:VEVENT
DTSTAMP:20260427T000000Z
UID:c2b7283c-dc4b-4bca-824c-34734d43e610@ClaytonBocce
DTSTART;TZID=America/Los_Angeles:20260512T183000
DTEND;TZID=America/Los_Angeles:20260512T210000
STATUS:CONFIRMED
SUMMARY:Buon Amici vs R.O.M.E.O.
URL:/League/Schedule/3277
DESCRIPTION:Regular Season match: Buon Amici vs R.O.M.E.O.
LOCATION:Baldwin Court 3
END:VEVENT
BEGIN:VEVENT
DTSTAMP:20260427T000000Z
UID:c52fe500-a95b-484d-997a-714ace55df72@ClaytonBocce
DTSTART;TZID=America/Los_Angeles:20260519T183000
DTEND;TZID=America/Los_Angeles:20260519T210000
STATUS:CONFIRMED
SUMMARY:Buon Amici vs Sir Bocce
URL:/League/Schedule/3277
DESCRIPTION:Regular Season match: Buon Amici vs Sir Bocce
LOCATION:Baldwin Court 4
END:VEVENT
BEGIN:VEVENT
DTSTAMP:20260427T000000Z
UID:6b2cea66-ee5a-4cb7-8ea9-1f96802d720d@ClaytonBocce
DTSTART;TZID=America/Los_Angeles:20260526T183000
DTEND;TZID=America/Los_Angeles:20260526T210000
STATUS:CONFIRMED
SUMMARY:Buon Amici vs Renegade Rollers
URL:/League/Schedule/3277
DESCRIPTION:Regular Season match: Buon Amici vs Renegade Rol
 lers
LOCATION:Baldwin Court 1
END:VEVENT
BEGIN:VEVENT
DTSTAMP:20260427T000000Z
UID:e5482fcf-924f-47aa-be38-7b526c0b07d8@ClaytonBocce
DTSTART;TZID=America/Los_Angeles:20260609T183000
DTEND;TZID=America/Los_Angeles:20260609T210000
STATUS:CONFIRMED
SUMMARY:Buon Amici vs Congerosa Crush
URL:/League/Schedule/3277
DESCRIPTION:Regular Season match: Buon Amici vs Congerosa Cr
 ush
LOCATION:Baldwin Court 1
END:VEVENT
BEGIN:VEVENT
DTSTAMP:20260427T000000Z
UID:158ae40e-d5ff-49e7-9de7-2cde57b58d89@ClaytonBocce
DTSTART;TZID=America/Los_Angeles:20260616T183000
DTEND;TZID=America/Los_Angeles:20260616T210000
STATUS:CONFIRMED
SUMMARY:Buon Amici vs Bocce Magic
URL:/League/Schedule/3277
DESCRIPTION:Regular Season match: Buon Amici vs Bocce Magic
LOCATION:Baldwin Court 4
END:VEVENT
BEGIN:VEVENT
DTSTAMP:20260427T000000Z
UID:a912f54c-33d5-4923-af23-17c0e98313bb@ClaytonBocce
DTSTART;TZID=America/Los_Angeles:20260623T183000
DTEND;TZID=America/Los_Angeles:20260623T210000
STATUS:CONFIRMED
SUMMARY:Buon Amici vs Have You Seen This
URL:/League/Schedule/3277
DESCRIPTION:Regular Season match: Buon Amici vs Have You See
 n This
LOCATION:Baldwin Court 3
END:VEVENT
BEGIN:VEVENT
DTSTAMP:20260427T000000Z
UID:8b99742d-a513-41f8-b4b0-6d6db12856c3@ClaytonBocce
DTSTART;TZID=America/Los_Angeles:20260630T183000
DTEND;TZID=America/Los_Angeles:20260630T210000
STATUS:CONFIRMED
SUMMARY:Buon Amici vs Ballsy and Brand New
URL:/League/Schedule/3277
DESCRIPTION:Regular Season match: Buon Amici vs Ballsy and B
 rand New
LOCATION:Baldwin Court 2
END:VEVENT
BEGIN:VEVENT
DTSTAMP:20260427T000000Z
UID:b6e18acd-dd88-43b1-989c-ebca56c48e23@ClaytonBocce
DTSTART;TZID=America/Los_Angeles:20260714T183000
DTEND;TZID=America/Los_Angeles:20260714T210000
STATUS:CONFIRMED
SUMMARY:Buon Amici vs 6 Pack
URL:/League/Schedule/3277
DESCRIPTION:Regular Season match: Buon Amici vs 6 Pack
LOCATION:Baldwin Court 4
END:VEVENT
BEGIN:VEVENT
DTSTAMP:20260427T000000Z
UID:1076bfaf-42a3-4e41-a5b9-c82134a8de00@ClaytonBocce
DTSTART;TZID=America/Los_Angeles:20260721T183000
DTEND;TZID=America/Los_Angeles:20260721T210000
STATUS:CONFIRMED
SUMMARY:Buon Amici vs R.O.M.E.O.
URL:/League/Schedule/3277
DESCRIPTION:Regular Season match: Buon Amici vs R.O.M.E.O.
LOCATION:Baldwin Court 1
END:VEVENT
BEGIN:VEVENT
DTSTAMP:20260427T000000Z
UID:94545b8a-3315-43ee-92f4-07ac3f33d057@ClaytonBocce
DTSTART;TZID=America/Los_Angeles:20260728T183000
DTEND;TZID=America/Los_Angeles:20260728T210000
STATUS:CONFIRMED
SUMMARY:Buon Amici vs Sir Bocce
URL:/League/Schedule/3277
DESCRIPTION:Regular Season match: Buon Amici vs Sir Bocce
LOCATION:Baldwin Court 2
END:VEVENT
BEGIN:VEVENT
DTSTAMP:20260427T000000Z
UID:5b124120-c802-4921-bd4f-c1f17c9831a7@ClaytonBocce
DTSTART;TZID=America/Los_Angeles:20260804T183000
DTEND;TZID=America/Los_Angeles:20260804T210000
STATUS:CONFIRMED
SUMMARY:Buon Amici vs Renegade Rollers
URL:/League/Schedule/3277
DESCRIPTION:Regular Season match: Buon Amici vs Renegade Rol
 lers
LOCATION:Baldwin Court 3
END:VEVENT
BEGIN:VEVENT
DTSTAMP:20260427T000000Z
UID:275fc6c0-1ad6-4427-8aa6-28cd85a75afe@ClaytonBocce
DTSTART;TZID=America/Los_Angeles:20260818T183000
DTEND;TZID=America/Los_Angeles:20260818T210000
STATUS:CONFIRMED
SUMMARY:Buon Amici vs Congerosa Crush
URL:/League/Schedule/3277
DESCRIPTION:Regular Season match: Buon Amici vs Congerosa Cr
 ush
LOCATION:Baldwin Court 3
END:VEVENT
BEGIN:VEVENT
DTSTAMP:20260427T000000Z
UID:dc8b2fd3-5461-48f7-8bac-b2c0698ea93a@ClaytonBocce
DTSTART;TZID=America/Los_Angeles:20260825T183000
DTEND;TZID=America/Los_Angeles:20260825T210000
STATUS:CONFIRMED
SUMMARY:Buon Amici vs Bocce Magic
URL:/League/Schedule/3277
DESCRIPTION:Regular Season match: Buon Amici vs Bocce Magic
LOCATION:Baldwin Court 2
END:VEVENT
BEGIN:VEVENT
DTSTAMP:20260427T000000Z
UID:d3c51a53-d9f9-4ac0-98c4-40c106ab0b15@ClaytonBocce
DTSTART;TZID=America/Los_Angeles:20260901T183000
DTEND;TZID=America/Los_Angeles:20260901T210000
STATUS:CONFIRMED
SUMMARY:Buon Amici vs Have You Seen This
URL:/League/Schedule/3277
DESCRIPTION:Regular Season match: Buon Amici vs Have You See
 n This
LOCATION:Baldwin Court 1
END:VEVENT
END:VCALENDAR
