BEGIN:VCALENDAR
VERSION:2.0
PRODID:-//Clayton Bocce League
METHOD:PUBLISH
BEGIN:VTIMEZONE
TZID:America/Los_Angeles
X-LIC-LOCATION:America/Los_Angeles
BEGIN:DAYLIGHT
TZOFFSETFROM:-0800
TZOFFSETTO:-0700
TZNAME:PDT
DTSTART:20070311T020000
RRULE:FREQ=YEARLY;BYMONTH=3;BYDAY=2SU
END:DAYLIGHT
BEGIN:STANDARD
TZOFFSETFROM:-0700
TZOFFSETTO:-0800
TZNAME:PST
DTSTART:20071104T020000
RRULE:FREQ=YEARLY;BYMONTH=11;BYDAY=1SU
END:STANDARD
END:VTIMEZONE
BEGIN:VEVENT
DTSTAMP:20260427T000000Z
UID:cf55abc9-3af3-48ea-98de-94a1766d06ba@ClaytonBocce
DTSTART;TZID=America/Los_Angeles:20260428T183000
DTEND;TZID=America/Los_Angeles:20260428T210000
STATUS:CONFIRMED
SUMMARY:Ballsy and Brand New vs Buon Amici
URL:/League/Schedule/3275
DESCRIPTION:Regular Season match: Ballsy and Brand New vs Bu
 on Amici
LOCATION:Baldwin Court 4
END:VEVENT
BEGIN:VEVENT
DTSTAMP:20260427T000000Z
UID:6fc6d6c6-4252-48a4-878d-e16a0737db76@ClaytonBocce
DTSTART;TZID=America/Los_Angeles:20260505T183000
DTEND;TZID=America/Los_Angeles:20260505T210000
STATUS:CONFIRMED
SUMMARY:Ballsy and Brand New vs Congerosa Crush
URL:/League/Schedule/3275
DESCRIPTION:Regular Season match: Ballsy and Brand New vs Co
 ngerosa Crush
LOCATION:Baldwin Court 1
END:VEVENT
BEGIN:VEVENT
DTSTAMP:20260427T000000Z
UID:6f08064e-897e-4556-b62d-4b6b270f32e4@ClaytonBocce
DTSTART;TZID=America/Los_Angeles:20260512T183000
DTEND;TZID=America/Los_Angeles:20260512T210000
STATUS:CONFIRMED
SUMMARY:Ballsy and Brand New vs Bocce Magic
URL:/League/Schedule/3275
DESCRIPTION:Regular Season match: Ballsy and Brand New vs Bo
 cce Magic
LOCATION:Baldwin Court 2
END:VEVENT
BEGIN:VEVENT
DTSTAMP:20260427T000000Z
UID:735b8ebf-58a4-4b66-ae90-1de58675cada@ClaytonBocce
DTSTART;TZID=America/Los_Angeles:20260519T183000
DTEND;TZID=America/Los_Angeles:20260519T210000
STATUS:CONFIRMED
SUMMARY:Ballsy and Brand New vs Have You Seen This
URL:/League/Schedule/3275
DESCRIPTION:Regular Season match: Ballsy and Brand New vs Ha
 ve You Seen This
LOCATION:Baldwin Court 3
END:VEVENT
BEGIN:VEVENT
DTSTAMP:20260427T000000Z
UID:ba7ef568-7805-4c60-9c43-2470183e8b0d@ClaytonBocce
DTSTART;TZID=America/Los_Angeles:20260602T183000
DTEND;TZID=America/Los_Angeles:20260602T210000
STATUS:CONFIRMED
SUMMARY:Ballsy and Brand New vs 6 Pack
URL:/League/Schedule/3275
DESCRIPTION:Regular Season match: Ballsy and Brand New vs 6 
 Pack
LOCATION:Baldwin Court 3
END:VEVENT
BEGIN:VEVENT
DTSTAMP:20260427T000000Z
UID:08dad6a5-ce21-4d86-9d24-beee4ae7493b@ClaytonBocce
DTSTART;TZID=America/Los_Angeles:20260609T183000
DTEND;TZID=America/Los_Angeles:20260609T210000
STATUS:CONFIRMED
SUMMARY:Ballsy and Brand New vs R.O.M.E.O.
URL:/League/Schedule/3275
DESCRIPTION:Regular Season match: Ballsy and Brand New vs R.
 O.M.E.O.
LOCATION:Baldwin Court 2
END:VEVENT
BEGIN:VEVENT
DTSTAMP:20260427T000000Z
UID:153332a9-7bde-4e03-9b5c-52a0667a4812@ClaytonBocce
DTSTART;TZID=America/Los_Angeles:20260616T183000
DTEND;TZID=America/Los_Angeles:20260616T210000
STATUS:CONFIRMED
SUMMARY:Ballsy and Brand New vs Sir Bocce
URL:/League/Schedule/3275
DESCRIPTION:Regular Season match: Ballsy and Brand New vs Si
 r Bocce
LOCATION:Baldwin Court 1
END:VEVENT
BEGIN:VEVENT
DTSTAMP:20260427T000000Z
UID:821848e9-1795-43ec-99a6-57d92c3a626e@ClaytonBocce
DTSTART;TZID=America/Los_Angeles:20260623T183000
DTEND;TZID=America/Los_Angeles:20260623T210000
STATUS:CONFIRMED
SUMMARY:Ballsy and Brand New vs Renegade Rollers
URL:/League/Schedule/3275
DESCRIPTION:Regular Season match: Ballsy and Brand New vs Re
 negade Rollers
LOCATION:Baldwin Court 4
END:VEVENT
BEGIN:VEVENT
DTSTAMP:20260427T000000Z
UID:8b99742d-a513-41f8-b4b0-6d6db12856c3@ClaytonBocce
DTSTART;TZID=America/Los_Angeles:20260630T183000
DTEND;TZID=America/Los_Angeles:20260630T210000
STATUS:CONFIRMED
SUMMARY:Ballsy and Brand New vs Buon Amici
URL:/League/Schedule/3275
DESCRIPTION:Regular Season match: Ballsy and Brand New vs Bu
 on Amici
LOCATION:Baldwin Court 2
END:VEVENT
BEGIN:VEVENT
DTSTAMP:20260427T000000Z
UID:8772d5ce-a0ed-4b63-8dad-d50d36868d05@ClaytonBocce
DTSTART;TZID=America/Los_Angeles:20260714T183000
DTEND;TZID=America/Los_Angeles:20260714T210000
STATUS:CONFIRMED
SUMMARY:Ballsy and Brand New vs Congerosa Crush
URL:/League/Schedule/3275
DESCRIPTION:Regular Season match: Ballsy and Brand New vs Co
 ngerosa Crush
LOCATION:Baldwin Court 3
END:VEVENT
BEGIN:VEVENT
DTSTAMP:20260427T000000Z
UID:e7b43957-1448-4550-8ba2-5fb1b42531ed@ClaytonBocce
DTSTART;TZID=America/Los_Angeles:20260721T183000
DTEND;TZID=America/Los_Angeles:20260721T210000
STATUS:CONFIRMED
SUMMARY:Ballsy and Brand New vs Bocce Magic
URL:/League/Schedule/3275
DESCRIPTION:Regular Season match: Ballsy and Brand New vs Bo
 cce Magic
LOCATION:Baldwin Court 4
END:VEVENT
BEGIN:VEVENT
DTSTAMP:20260427T000000Z
UID:656f792d-d1cd-414e-9ee5-c9510dd92b1b@ClaytonBocce
DTSTART;TZID=America/Los_Angeles:20260728T183000
DTEND;TZID=America/Los_Angeles:20260728T210000
STATUS:CONFIRMED
SUMMARY:Ballsy and Brand New vs Have You Seen This
URL:/League/Schedule/3275
DESCRIPTION:Regular Season match: Ballsy and Brand New vs Ha
 ve You Seen This
LOCATION:Baldwin Court 1
END:VEVENT
BEGIN:VEVENT
DTSTAMP:20260427T000000Z
UID:b53b7940-3e80-42fa-ad15-535693b35ad4@ClaytonBocce
DTSTART;TZID=America/Los_Angeles:20260811T183000
DTEND;TZID=America/Los_Angeles:20260811T210000
STATUS:CONFIRMED
SUMMARY:Ballsy and Brand New vs 6 Pack
URL:/League/Schedule/3275
DESCRIPTION:Regular Season match: Ballsy and Brand New vs 6 
 Pack
LOCATION:Baldwin Court 1
END:VEVENT
BEGIN:VEVENT
DTSTAMP:20260427T000000Z
UID:be0eafd8-75ac-4bdf-9a9b-a9f0b8d8574a@ClaytonBocce
DTSTART;TZID=America/Los_Angeles:20260818T183000
DTEND;TZID=America/Los_Angeles:20260818T210000
STATUS:CONFIRMED
SUMMARY:Ballsy and Brand New vs R.O.M.E.O.
URL:/League/Schedule/3275
DESCRIPTION:Regular Season match: Ballsy and Brand New vs R.
 O.M.E.O.
LOCATION:Baldwin Court 4
END:VEVENT
BEGIN:VEVENT
DTSTAMP:20260427T000000Z
UID:a6bb0119-f5a4-471b-9a2f-3da1f6e36870@ClaytonBocce
DTSTART;TZID=America/Los_Angeles:20260825T183000
DTEND;TZID=America/Los_Angeles:20260825T210000
STATUS:CONFIRMED
SUMMARY:Ballsy and Brand New vs Sir Bocce
URL:/League/Schedule/3275
DESCRIPTION:Regular Season match: Ballsy and Brand New vs Si
 r Bocce
LOCATION:Baldwin Court 3
END:VEVENT
BEGIN:VEVENT
DTSTAMP:20260427T000000Z
UID:3bde18e1-9435-4630-8356-99c290d75c1c@ClaytonBocce
DTSTART;TZID=America/Los_Angeles:20260901T183000
DTEND;TZID=America/Los_Angeles:20260901T210000
STATUS:CONFIRMED
SUMMARY:Ballsy and Brand New vs Renegade Rollers
URL:/League/Schedule/3275
DESCRIPTION:Regular Season match: Ballsy and Brand New vs Re
 negade Rollers
LOCATION:Baldwin Court 2
END:VEVENT
END:VCALENDAR
