BEGIN:VCALENDAR
VERSION:2.0
PRODID:-//Clayton Bocce League
METHOD:PUBLISH
BEGIN:VTIMEZONE
TZID:America/Los_Angeles
X-LIC-LOCATION:America/Los_Angeles
BEGIN:DAYLIGHT
TZOFFSETFROM:-0800
TZOFFSETTO:-0700
TZNAME:PDT
DTSTART:20070311T020000
RRULE:FREQ=YEARLY;BYMONTH=3;BYDAY=2SU
END:DAYLIGHT
BEGIN:STANDARD
TZOFFSETFROM:-0700
TZOFFSETTO:-0800
TZNAME:PST
DTSTART:20071104T020000
RRULE:FREQ=YEARLY;BYMONTH=11;BYDAY=1SU
END:STANDARD
END:VTIMEZONE
BEGIN:VEVENT
DTSTAMP:20260427T000000Z
UID:80109b93-aebf-4fab-9a17-779c9cbe20f1@ClaytonBocce
DTSTART;TZID=America/Los_Angeles:20260505T183000
DTEND;TZID=America/Los_Angeles:20260505T210000
STATUS:CONFIRMED
SUMMARY:Bocce Magic vs Have You Seen This
URL:/League/Schedule/3280
DESCRIPTION:Regular Season match: Bocce Magic vs Have You Se
 en This
LOCATION:Baldwin Court 3
END:VEVENT
BEGIN:VEVENT
DTSTAMP:20260427T000000Z
UID:6f08064e-897e-4556-b62d-4b6b270f32e4@ClaytonBocce
DTSTART;TZID=America/Los_Angeles:20260512T183000
DTEND;TZID=America/Los_Angeles:20260512T210000
STATUS:CONFIRMED
SUMMARY:Bocce Magic vs Ballsy and Brand New
URL:/League/Schedule/3280
DESCRIPTION:Regular Season match: Bocce Magic vs Ballsy and 
 Brand New
LOCATION:Baldwin Court 2
END:VEVENT
BEGIN:VEVENT
DTSTAMP:20260427T000000Z
UID:9b211725-ba57-48e8-8235-6320437ecf52@ClaytonBocce
DTSTART;TZID=America/Los_Angeles:20260519T183000
DTEND;TZID=America/Los_Angeles:20260519T210000
STATUS:CONFIRMED
SUMMARY:Bocce Magic vs 6 Pack
URL:/League/Schedule/3280
DESCRIPTION:Regular Season match: Bocce Magic vs 6 Pack
LOCATION:Baldwin Court 1
END:VEVENT
BEGIN:VEVENT
DTSTAMP:20260427T000000Z
UID:e0ddaa07-b905-492d-b088-7bfe9cdbd4e0@ClaytonBocce
DTSTART;TZID=America/Los_Angeles:20260526T183000
DTEND;TZID=America/Los_Angeles:20260526T210000
STATUS:CONFIRMED
SUMMARY:Bocce Magic vs R.O.M.E.O.
URL:/League/Schedule/3280
DESCRIPTION:Regular Season match: Bocce Magic vs R.O.M.E.O.
LOCATION:Baldwin Court 4
END:VEVENT
BEGIN:VEVENT
DTSTAMP:20260427T000000Z
UID:0be96121-f679-4dfa-9ef4-7f2c213325b1@ClaytonBocce
DTSTART;TZID=America/Los_Angeles:20260602T183000
DTEND;TZID=America/Los_Angeles:20260602T210000
STATUS:CONFIRMED
SUMMARY:Bocce Magic vs Sir Bocce
URL:/League/Schedule/3280
DESCRIPTION:Regular Season match: Bocce Magic vs Sir Bocce
LOCATION:Baldwin Court 2
END:VEVENT
BEGIN:VEVENT
DTSTAMP:20260427T000000Z
UID:e62935d9-c417-4d9b-aa66-39191f4642c5@ClaytonBocce
DTSTART;TZID=America/Los_Angeles:20260609T183000
DTEND;TZID=America/Los_Angeles:20260609T210000
STATUS:CONFIRMED
SUMMARY:Bocce Magic vs Renegade Rollers
URL:/League/Schedule/3280
DESCRIPTION:Regular Season match: Bocce Magic vs Renegade Ro
 llers
LOCATION:Baldwin Court 3
END:VEVENT
BEGIN:VEVENT
DTSTAMP:20260427T000000Z
UID:158ae40e-d5ff-49e7-9de7-2cde57b58d89@ClaytonBocce
DTSTART;TZID=America/Los_Angeles:20260616T183000
DTEND;TZID=America/Los_Angeles:20260616T210000
STATUS:CONFIRMED
SUMMARY:Bocce Magic vs Buon Amici
URL:/League/Schedule/3280
DESCRIPTION:Regular Season match: Bocce Magic vs Buon Amici
LOCATION:Baldwin Court 4
END:VEVENT
BEGIN:VEVENT
DTSTAMP:20260427T000000Z
UID:857c88bc-9fad-414b-a26a-2b4fe051f3a5@ClaytonBocce
DTSTART;TZID=America/Los_Angeles:20260623T183000
DTEND;TZID=America/Los_Angeles:20260623T210000
STATUS:CONFIRMED
SUMMARY:Bocce Magic vs Congerosa Crush
URL:/League/Schedule/3280
DESCRIPTION:Regular Season match: Bocce Magic vs Congerosa C
 rush
LOCATION:Baldwin Court 1
END:VEVENT
BEGIN:VEVENT
DTSTAMP:20260427T000000Z
UID:88760592-2652-4f1e-8718-5ec3b8fe5f19@ClaytonBocce
DTSTART;TZID=America/Los_Angeles:20260714T183000
DTEND;TZID=America/Los_Angeles:20260714T210000
STATUS:CONFIRMED
SUMMARY:Bocce Magic vs Have You Seen This
URL:/League/Schedule/3280
DESCRIPTION:Regular Season match: Bocce Magic vs Have You Se
 en This
LOCATION:Baldwin Court 1
END:VEVENT
BEGIN:VEVENT
DTSTAMP:20260427T000000Z
UID:e7b43957-1448-4550-8ba2-5fb1b42531ed@ClaytonBocce
DTSTART;TZID=America/Los_Angeles:20260721T183000
DTEND;TZID=America/Los_Angeles:20260721T210000
STATUS:CONFIRMED
SUMMARY:Bocce Magic vs Ballsy and Brand New
URL:/League/Schedule/3280
DESCRIPTION:Regular Season match: Bocce Magic vs Ballsy and 
 Brand New
LOCATION:Baldwin Court 4
END:VEVENT
BEGIN:VEVENT
DTSTAMP:20260427T000000Z
UID:4069eda7-a0e7-4517-b17b-464370afff0e@ClaytonBocce
DTSTART;TZID=America/Los_Angeles:20260728T183000
DTEND;TZID=America/Los_Angeles:20260728T210000
STATUS:CONFIRMED
SUMMARY:Bocce Magic vs 6 Pack
URL:/League/Schedule/3280
DESCRIPTION:Regular Season match: Bocce Magic vs 6 Pack
LOCATION:Baldwin Court 3
END:VEVENT
BEGIN:VEVENT
DTSTAMP:20260427T000000Z
UID:f1ddcac4-9bf2-410e-8e5f-03fd6378a30c@ClaytonBocce
DTSTART;TZID=America/Los_Angeles:20260804T183000
DTEND;TZID=America/Los_Angeles:20260804T210000
STATUS:CONFIRMED
SUMMARY:Bocce Magic vs R.O.M.E.O.
URL:/League/Schedule/3280
DESCRIPTION:Regular Season match: Bocce Magic vs R.O.M.E.O.
LOCATION:Baldwin Court 2
END:VEVENT
BEGIN:VEVENT
DTSTAMP:20260427T000000Z
UID:ce175cbe-2c76-4145-8c61-f06f56341e45@ClaytonBocce
DTSTART;TZID=America/Los_Angeles:20260811T183000
DTEND;TZID=America/Los_Angeles:20260811T210000
STATUS:CONFIRMED
SUMMARY:Bocce Magic vs Sir Bocce
URL:/League/Schedule/3280
DESCRIPTION:Regular Season match: Bocce Magic vs Sir Bocce
LOCATION:Baldwin Court 4
END:VEVENT
BEGIN:VEVENT
DTSTAMP:20260427T000000Z
UID:9e41069c-cb33-422f-b9b1-159793163c7e@ClaytonBocce
DTSTART;TZID=America/Los_Angeles:20260818T183000
DTEND;TZID=America/Los_Angeles:20260818T210000
STATUS:CONFIRMED
SUMMARY:Bocce Magic vs Renegade Rollers
URL:/League/Schedule/3280
DESCRIPTION:Regular Season match: Bocce Magic vs Renegade Ro
 llers
LOCATION:Baldwin Court 1
END:VEVENT
BEGIN:VEVENT
DTSTAMP:20260427T000000Z
UID:dc8b2fd3-5461-48f7-8bac-b2c0698ea93a@ClaytonBocce
DTSTART;TZID=America/Los_Angeles:20260825T183000
DTEND;TZID=America/Los_Angeles:20260825T210000
STATUS:CONFIRMED
SUMMARY:Bocce Magic vs Buon Amici
URL:/League/Schedule/3280
DESCRIPTION:Regular Season match: Bocce Magic vs Buon Amici
LOCATION:Baldwin Court 2
END:VEVENT
BEGIN:VEVENT
DTSTAMP:20260427T000000Z
UID:d807c46f-0593-4ecd-8e2c-5f5625c07134@ClaytonBocce
DTSTART;TZID=America/Los_Angeles:20260901T183000
DTEND;TZID=America/Los_Angeles:20260901T210000
STATUS:CONFIRMED
SUMMARY:Bocce Magic vs Congerosa Crush
URL:/League/Schedule/3280
DESCRIPTION:Regular Season match: Bocce Magic vs Congerosa C
 rush
LOCATION:Baldwin Court 3
END:VEVENT
END:VCALENDAR
