BEGIN:VCALENDAR
VERSION:2.0
PRODID:-//Clayton Bocce League
METHOD:PUBLISH
BEGIN:VTIMEZONE
TZID:America/Los_Angeles
X-LIC-LOCATION:America/Los_Angeles
BEGIN:DAYLIGHT
TZOFFSETFROM:-0800
TZOFFSETTO:-0700
TZNAME:PDT
DTSTART:20070311T020000
RRULE:FREQ=YEARLY;BYMONTH=3;BYDAY=2SU
END:DAYLIGHT
BEGIN:STANDARD
TZOFFSETFROM:-0700
TZOFFSETTO:-0800
TZNAME:PST
DTSTART:20071104T020000
RRULE:FREQ=YEARLY;BYMONTH=11;BYDAY=1SU
END:STANDARD
END:VTIMEZONE
BEGIN:VEVENT
DTSTAMP:20260427T000000Z
UID:c27b346e-95c7-49ce-bacc-1dcda52f0a85@ClaytonBocce
DTSTART;TZID=America/Los_Angeles:20260428T183000
DTEND;TZID=America/Los_Angeles:20260428T210000
STATUS:CONFIRMED
SUMMARY:Renegade Rollers vs 6 Pack
URL:/League/Schedule/3279
DESCRIPTION:Regular Season match: Renegade Rollers vs 6 Pack
LOCATION:Baldwin Court 3
END:VEVENT
BEGIN:VEVENT
DTSTAMP:20260427T000000Z
UID:816dc88e-6a58-44ae-ae93-169f05d65bd7@ClaytonBocce
DTSTART;TZID=America/Los_Angeles:20260505T183000
DTEND;TZID=America/Los_Angeles:20260505T210000
STATUS:CONFIRMED
SUMMARY:Renegade Rollers vs R.O.M.E.O.
URL:/League/Schedule/3279
DESCRIPTION:Regular Season match: Renegade Rollers vs R.O.M.
 E.O.
LOCATION:Baldwin Court 4
END:VEVENT
BEGIN:VEVENT
DTSTAMP:20260427T000000Z
UID:66546e0a-afac-47a1-82ae-014b8428076c@ClaytonBocce
DTSTART;TZID=America/Los_Angeles:20260512T183000
DTEND;TZID=America/Los_Angeles:20260512T210000
STATUS:CONFIRMED
SUMMARY:Renegade Rollers vs Sir Bocce
URL:/League/Schedule/3279
DESCRIPTION:Regular Season match: Renegade Rollers vs Sir Bo
 cce
LOCATION:Baldwin Court 1
END:VEVENT
BEGIN:VEVENT
DTSTAMP:20260427T000000Z
UID:6b2cea66-ee5a-4cb7-8ea9-1f96802d720d@ClaytonBocce
DTSTART;TZID=America/Los_Angeles:20260526T183000
DTEND;TZID=America/Los_Angeles:20260526T210000
STATUS:CONFIRMED
SUMMARY:Renegade Rollers vs Buon Amici
URL:/League/Schedule/3279
DESCRIPTION:Regular Season match: Renegade Rollers vs Buon A
 mici
LOCATION:Baldwin Court 1
END:VEVENT
BEGIN:VEVENT
DTSTAMP:20260427T000000Z
UID:54700773-c3ac-4730-86bf-1feba0abc1c4@ClaytonBocce
DTSTART;TZID=America/Los_Angeles:20260602T183000
DTEND;TZID=America/Los_Angeles:20260602T210000
STATUS:CONFIRMED
SUMMARY:Renegade Rollers vs Congerosa Crush
URL:/League/Schedule/3279
DESCRIPTION:Regular Season match: Renegade Rollers vs Conger
 osa Crush
LOCATION:Baldwin Court 4
END:VEVENT
BEGIN:VEVENT
DTSTAMP:20260427T000000Z
UID:e62935d9-c417-4d9b-aa66-39191f4642c5@ClaytonBocce
DTSTART;TZID=America/Los_Angeles:20260609T183000
DTEND;TZID=America/Los_Angeles:20260609T210000
STATUS:CONFIRMED
SUMMARY:Renegade Rollers vs Bocce Magic
URL:/League/Schedule/3279
DESCRIPTION:Regular Season match: Renegade Rollers vs Bocce 
 Magic
LOCATION:Baldwin Court 3
END:VEVENT
BEGIN:VEVENT
DTSTAMP:20260427T000000Z
UID:2777a300-f912-4c4a-8616-65883875e3f0@ClaytonBocce
DTSTART;TZID=America/Los_Angeles:20260616T183000
DTEND;TZID=America/Los_Angeles:20260616T210000
STATUS:CONFIRMED
SUMMARY:Renegade Rollers vs Have You Seen This
URL:/League/Schedule/3279
DESCRIPTION:Regular Season match: Renegade Rollers vs Have Y
 ou Seen This
LOCATION:Baldwin Court 2
END:VEVENT
BEGIN:VEVENT
DTSTAMP:20260427T000000Z
UID:821848e9-1795-43ec-99a6-57d92c3a626e@ClaytonBocce
DTSTART;TZID=America/Los_Angeles:20260623T183000
DTEND;TZID=America/Los_Angeles:20260623T210000
STATUS:CONFIRMED
SUMMARY:Renegade Rollers vs Ballsy and Brand New
URL:/League/Schedule/3279
DESCRIPTION:Regular Season match: Renegade Rollers vs Ballsy
  and Brand New
LOCATION:Baldwin Court 4
END:VEVENT
BEGIN:VEVENT
DTSTAMP:20260427T000000Z
UID:7538a07c-b03e-4226-bebf-ae653f71939b@ClaytonBocce
DTSTART;TZID=America/Los_Angeles:20260630T183000
DTEND;TZID=America/Los_Angeles:20260630T210000
STATUS:CONFIRMED
SUMMARY:Renegade Rollers vs 6 Pack
URL:/League/Schedule/3279
DESCRIPTION:Regular Season match: Renegade Rollers vs 6 Pack
LOCATION:Baldwin Court 1
END:VEVENT
BEGIN:VEVENT
DTSTAMP:20260427T000000Z
UID:d6e24fbe-df2f-4938-b939-734fbbd6fa6e@ClaytonBocce
DTSTART;TZID=America/Los_Angeles:20260714T183000
DTEND;TZID=America/Los_Angeles:20260714T210000
STATUS:CONFIRMED
SUMMARY:Renegade Rollers vs R.O.M.E.O.
URL:/League/Schedule/3279
DESCRIPTION:Regular Season match: Renegade Rollers vs R.O.M.
 E.O.
LOCATION:Baldwin Court 2
END:VEVENT
BEGIN:VEVENT
DTSTAMP:20260427T000000Z
UID:bedaefee-54fa-44e2-8e70-136d036d194b@ClaytonBocce
DTSTART;TZID=America/Los_Angeles:20260721T183000
DTEND;TZID=America/Los_Angeles:20260721T210000
STATUS:CONFIRMED
SUMMARY:Renegade Rollers vs Sir Bocce
URL:/League/Schedule/3279
DESCRIPTION:Regular Season match: Renegade Rollers vs Sir Bo
 cce
LOCATION:Baldwin Court 3
END:VEVENT
BEGIN:VEVENT
DTSTAMP:20260427T000000Z
UID:5b124120-c802-4921-bd4f-c1f17c9831a7@ClaytonBocce
DTSTART;TZID=America/Los_Angeles:20260804T183000
DTEND;TZID=America/Los_Angeles:20260804T210000
STATUS:CONFIRMED
SUMMARY:Renegade Rollers vs Buon Amici
URL:/League/Schedule/3279
DESCRIPTION:Regular Season match: Renegade Rollers vs Buon A
 mici
LOCATION:Baldwin Court 3
END:VEVENT
BEGIN:VEVENT
DTSTAMP:20260427T000000Z
UID:0d9c0fd9-0894-4348-a461-8065b188dc1c@ClaytonBocce
DTSTART;TZID=America/Los_Angeles:20260811T183000
DTEND;TZID=America/Los_Angeles:20260811T210000
STATUS:CONFIRMED
SUMMARY:Renegade Rollers vs Congerosa Crush
URL:/League/Schedule/3279
DESCRIPTION:Regular Season match: Renegade Rollers vs Conger
 osa Crush
LOCATION:Baldwin Court 2
END:VEVENT
BEGIN:VEVENT
DTSTAMP:20260427T000000Z
UID:9e41069c-cb33-422f-b9b1-159793163c7e@ClaytonBocce
DTSTART;TZID=America/Los_Angeles:20260818T183000
DTEND;TZID=America/Los_Angeles:20260818T210000
STATUS:CONFIRMED
SUMMARY:Renegade Rollers vs Bocce Magic
URL:/League/Schedule/3279
DESCRIPTION:Regular Season match: Renegade Rollers vs Bocce 
 Magic
LOCATION:Baldwin Court 1
END:VEVENT
BEGIN:VEVENT
DTSTAMP:20260427T000000Z
UID:ef2a8189-4982-479e-8c5a-140f01498ca9@ClaytonBocce
DTSTART;TZID=America/Los_Angeles:20260825T183000
DTEND;TZID=America/Los_Angeles:20260825T210000
STATUS:CONFIRMED
SUMMARY:Renegade Rollers vs Have You Seen This
URL:/League/Schedule/3279
DESCRIPTION:Regular Season match: Renegade Rollers vs Have Y
 ou Seen This
LOCATION:Baldwin Court 4
END:VEVENT
BEGIN:VEVENT
DTSTAMP:20260427T000000Z
UID:3bde18e1-9435-4630-8356-99c290d75c1c@ClaytonBocce
DTSTART;TZID=America/Los_Angeles:20260901T183000
DTEND;TZID=America/Los_Angeles:20260901T210000
STATUS:CONFIRMED
SUMMARY:Renegade Rollers vs Ballsy and Brand New
URL:/League/Schedule/3279
DESCRIPTION:Regular Season match: Renegade Rollers vs Ballsy
  and Brand New
LOCATION:Baldwin Court 2
END:VEVENT
END:VCALENDAR
