BEGIN:VCALENDAR
VERSION:2.0
PRODID:-//Clayton Bocce League
METHOD:PUBLISH
BEGIN:VTIMEZONE
TZID:America/Los_Angeles
X-LIC-LOCATION:America/Los_Angeles
BEGIN:DAYLIGHT
TZOFFSETFROM:-0800
TZOFFSETTO:-0700
TZNAME:PDT
DTSTART:20070311T020000
RRULE:FREQ=YEARLY;BYMONTH=3;BYDAY=2SU
END:DAYLIGHT
BEGIN:STANDARD
TZOFFSETFROM:-0700
TZOFFSETTO:-0800
TZNAME:PST
DTSTART:20071104T020000
RRULE:FREQ=YEARLY;BYMONTH=11;BYDAY=1SU
END:STANDARD
END:VTIMEZONE
BEGIN:VEVENT
DTSTAMP:20260427T000000Z
UID:c27b346e-95c7-49ce-bacc-1dcda52f0a85@ClaytonBocce
DTSTART;TZID=America/Los_Angeles:20260428T183000
DTEND;TZID=America/Los_Angeles:20260428T210000
STATUS:CONFIRMED
SUMMARY:6 Pack vs Renegade Rollers
URL:/League/Schedule/3273
DESCRIPTION:Regular Season match: 6 Pack vs Renegade Rollers
LOCATION:Baldwin Court 3
END:VEVENT
BEGIN:VEVENT
DTSTAMP:20260427T000000Z
UID:ca198816-91c7-4bca-81bb-4093b5cf361b@ClaytonBocce
DTSTART;TZID=America/Los_Angeles:20260505T183000
DTEND;TZID=America/Los_Angeles:20260505T210000
STATUS:CONFIRMED
SUMMARY:6 Pack vs Buon Amici
URL:/League/Schedule/3273
DESCRIPTION:Regular Season match: 6 Pack vs Buon Amici
LOCATION:Baldwin Court 2
END:VEVENT
BEGIN:VEVENT
DTSTAMP:20260427T000000Z
UID:8161b29b-56f0-4458-a094-9297c63f32b2@ClaytonBocce
DTSTART;TZID=America/Los_Angeles:20260512T183000
DTEND;TZID=America/Los_Angeles:20260512T210000
STATUS:CONFIRMED
SUMMARY:6 Pack vs Congerosa Crush
URL:/League/Schedule/3273
DESCRIPTION:Regular Season match: 6 Pack vs Congerosa Crush
LOCATION:Baldwin Court 4
END:VEVENT
BEGIN:VEVENT
DTSTAMP:20260427T000000Z
UID:9b211725-ba57-48e8-8235-6320437ecf52@ClaytonBocce
DTSTART;TZID=America/Los_Angeles:20260519T183000
DTEND;TZID=America/Los_Angeles:20260519T210000
STATUS:CONFIRMED
SUMMARY:6 Pack vs Bocce Magic
URL:/League/Schedule/3273
DESCRIPTION:Regular Season match: 6 Pack vs Bocce Magic
LOCATION:Baldwin Court 1
END:VEVENT
BEGIN:VEVENT
DTSTAMP:20260427T000000Z
UID:a54548e4-d7d5-4583-b10a-33694b97dd16@ClaytonBocce
DTSTART;TZID=America/Los_Angeles:20260526T183000
DTEND;TZID=America/Los_Angeles:20260526T210000
STATUS:CONFIRMED
SUMMARY:6 Pack vs Have You Seen This
URL:/League/Schedule/3273
DESCRIPTION:Regular Season match: 6 Pack vs Have You Seen Th
 is
LOCATION:Baldwin Court 2
END:VEVENT
BEGIN:VEVENT
DTSTAMP:20260427T000000Z
UID:ba7ef568-7805-4c60-9c43-2470183e8b0d@ClaytonBocce
DTSTART;TZID=America/Los_Angeles:20260602T183000
DTEND;TZID=America/Los_Angeles:20260602T210000
STATUS:CONFIRMED
SUMMARY:6 Pack vs Ballsy and Brand New
URL:/League/Schedule/3273
DESCRIPTION:Regular Season match: 6 Pack vs Ballsy and Brand
  New
LOCATION:Baldwin Court 3
END:VEVENT
BEGIN:VEVENT
DTSTAMP:20260427T000000Z
UID:557940a0-f1af-41ab-891a-6e27395930c3@ClaytonBocce
DTSTART;TZID=America/Los_Angeles:20260616T183000
DTEND;TZID=America/Los_Angeles:20260616T210000
STATUS:CONFIRMED
SUMMARY:6 Pack vs R.O.M.E.O.
URL:/League/Schedule/3273
DESCRIPTION:Regular Season match: 6 Pack vs R.O.M.E.O.
LOCATION:Baldwin Court 3
END:VEVENT
BEGIN:VEVENT
DTSTAMP:20260427T000000Z
UID:5eec5a05-e617-4300-8d57-10ab6fcc9b0f@ClaytonBocce
DTSTART;TZID=America/Los_Angeles:20260623T183000
DTEND;TZID=America/Los_Angeles:20260623T210000
STATUS:CONFIRMED
SUMMARY:6 Pack vs Sir Bocce
URL:/League/Schedule/3273
DESCRIPTION:Regular Season match: 6 Pack vs Sir Bocce
LOCATION:Baldwin Court 2
END:VEVENT
BEGIN:VEVENT
DTSTAMP:20260427T000000Z
UID:7538a07c-b03e-4226-bebf-ae653f71939b@ClaytonBocce
DTSTART;TZID=America/Los_Angeles:20260630T183000
DTEND;TZID=America/Los_Angeles:20260630T210000
STATUS:CONFIRMED
SUMMARY:6 Pack vs Renegade Rollers
URL:/League/Schedule/3273
DESCRIPTION:Regular Season match: 6 Pack vs Renegade Rollers
LOCATION:Baldwin Court 1
END:VEVENT
BEGIN:VEVENT
DTSTAMP:20260427T000000Z
UID:b6e18acd-dd88-43b1-989c-ebca56c48e23@ClaytonBocce
DTSTART;TZID=America/Los_Angeles:20260714T183000
DTEND;TZID=America/Los_Angeles:20260714T210000
STATUS:CONFIRMED
SUMMARY:6 Pack vs Buon Amici
URL:/League/Schedule/3273
DESCRIPTION:Regular Season match: 6 Pack vs Buon Amici
LOCATION:Baldwin Court 4
END:VEVENT
BEGIN:VEVENT
DTSTAMP:20260427T000000Z
UID:25d87f40-263d-4fba-8a85-a1f1cb17a03e@ClaytonBocce
DTSTART;TZID=America/Los_Angeles:20260721T183000
DTEND;TZID=America/Los_Angeles:20260721T210000
STATUS:CONFIRMED
SUMMARY:6 Pack vs Congerosa Crush
URL:/League/Schedule/3273
DESCRIPTION:Regular Season match: 6 Pack vs Congerosa Crush
LOCATION:Baldwin Court 2
END:VEVENT
BEGIN:VEVENT
DTSTAMP:20260427T000000Z
UID:4069eda7-a0e7-4517-b17b-464370afff0e@ClaytonBocce
DTSTART;TZID=America/Los_Angeles:20260728T183000
DTEND;TZID=America/Los_Angeles:20260728T210000
STATUS:CONFIRMED
SUMMARY:6 Pack vs Bocce Magic
URL:/League/Schedule/3273
DESCRIPTION:Regular Season match: 6 Pack vs Bocce Magic
LOCATION:Baldwin Court 3
END:VEVENT
BEGIN:VEVENT
DTSTAMP:20260427T000000Z
UID:520bbdbc-9002-46e7-9462-e0d09962164c@ClaytonBocce
DTSTART;TZID=America/Los_Angeles:20260804T183000
DTEND;TZID=America/Los_Angeles:20260804T210000
STATUS:CONFIRMED
SUMMARY:6 Pack vs Have You Seen This
URL:/League/Schedule/3273
DESCRIPTION:Regular Season match: 6 Pack vs Have You Seen Th
 is
LOCATION:Baldwin Court 4
END:VEVENT
BEGIN:VEVENT
DTSTAMP:20260427T000000Z
UID:b53b7940-3e80-42fa-ad15-535693b35ad4@ClaytonBocce
DTSTART;TZID=America/Los_Angeles:20260811T183000
DTEND;TZID=America/Los_Angeles:20260811T210000
STATUS:CONFIRMED
SUMMARY:6 Pack vs Ballsy and Brand New
URL:/League/Schedule/3273
DESCRIPTION:Regular Season match: 6 Pack vs Ballsy and Brand
  New
LOCATION:Baldwin Court 1
END:VEVENT
BEGIN:VEVENT
DTSTAMP:20260427T000000Z
UID:e01a100c-ea54-4fa2-84fd-84569f6b7547@ClaytonBocce
DTSTART;TZID=America/Los_Angeles:20260825T183000
DTEND;TZID=America/Los_Angeles:20260825T210000
STATUS:CONFIRMED
SUMMARY:6 Pack vs R.O.M.E.O.
URL:/League/Schedule/3273
DESCRIPTION:Regular Season match: 6 Pack vs R.O.M.E.O.
LOCATION:Baldwin Court 1
END:VEVENT
BEGIN:VEVENT
DTSTAMP:20260427T000000Z
UID:6e4f8a41-68af-4e34-93a3-0502ce62e886@ClaytonBocce
DTSTART;TZID=America/Los_Angeles:20260901T183000
DTEND;TZID=America/Los_Angeles:20260901T210000
STATUS:CONFIRMED
SUMMARY:6 Pack vs Sir Bocce
URL:/League/Schedule/3273
DESCRIPTION:Regular Season match: 6 Pack vs Sir Bocce
LOCATION:Baldwin Court 4
END:VEVENT
END:VCALENDAR
