BEGIN:VCALENDAR
VERSION:2.0
PRODID:-//Clayton Bocce League
METHOD:PUBLISH
BEGIN:VTIMEZONE
TZID:America/Los_Angeles
X-LIC-LOCATION:America/Los_Angeles
BEGIN:DAYLIGHT
TZOFFSETFROM:-0800
TZOFFSETTO:-0700
TZNAME:PDT
DTSTART:20070311T020000
RRULE:FREQ=YEARLY;BYMONTH=3;BYDAY=2SU
END:DAYLIGHT
BEGIN:STANDARD
TZOFFSETFROM:-0700
TZOFFSETTO:-0800
TZNAME:PST
DTSTART:20071104T020000
RRULE:FREQ=YEARLY;BYMONTH=11;BYDAY=1SU
END:STANDARD
END:VTIMEZONE
BEGIN:VEVENT
DTSTAMP:20260427T000000Z
UID:2f4380f3-d2a9-49a1-8b27-d46d6db847c7@ClaytonBocce
DTSTART;TZID=America/Los_Angeles:20260428T183000
DTEND;TZID=America/Los_Angeles:20260428T210000
STATUS:CONFIRMED
SUMMARY:Have You Seen This vs Congerosa Crush
URL:/League/Schedule/3274
DESCRIPTION:Regular Season match: Have You Seen This vs Cong
 erosa Crush
LOCATION:Baldwin Court 2
END:VEVENT
BEGIN:VEVENT
DTSTAMP:20260427T000000Z
UID:80109b93-aebf-4fab-9a17-779c9cbe20f1@ClaytonBocce
DTSTART;TZID=America/Los_Angeles:20260505T183000
DTEND;TZID=America/Los_Angeles:20260505T210000
STATUS:CONFIRMED
SUMMARY:Have You Seen This vs Bocce Magic
URL:/League/Schedule/3274
DESCRIPTION:Regular Season match: Have You Seen This vs Bocc
 e Magic
LOCATION:Baldwin Court 3
END:VEVENT
BEGIN:VEVENT
DTSTAMP:20260427T000000Z
UID:735b8ebf-58a4-4b66-ae90-1de58675cada@ClaytonBocce
DTSTART;TZID=America/Los_Angeles:20260519T183000
DTEND;TZID=America/Los_Angeles:20260519T210000
STATUS:CONFIRMED
SUMMARY:Have You Seen This vs Ballsy and Brand New
URL:/League/Schedule/3274
DESCRIPTION:Regular Season match: Have You Seen This vs Ball
 sy and Brand New
LOCATION:Baldwin Court 3
END:VEVENT
BEGIN:VEVENT
DTSTAMP:20260427T000000Z
UID:a54548e4-d7d5-4583-b10a-33694b97dd16@ClaytonBocce
DTSTART;TZID=America/Los_Angeles:20260526T183000
DTEND;TZID=America/Los_Angeles:20260526T210000
STATUS:CONFIRMED
SUMMARY:Have You Seen This vs 6 Pack
URL:/League/Schedule/3274
DESCRIPTION:Regular Season match: Have You Seen This vs 6 Pa
 ck
LOCATION:Baldwin Court 2
END:VEVENT
BEGIN:VEVENT
DTSTAMP:20260427T000000Z
UID:af0f025b-505f-428d-84f2-747a89ce8e16@ClaytonBocce
DTSTART;TZID=America/Los_Angeles:20260602T183000
DTEND;TZID=America/Los_Angeles:20260602T210000
STATUS:CONFIRMED
SUMMARY:Have You Seen This vs R.O.M.E.O.
URL:/League/Schedule/3274
DESCRIPTION:Regular Season match: Have You Seen This vs R.O.
 M.E.O.
LOCATION:Baldwin Court 1
END:VEVENT
BEGIN:VEVENT
DTSTAMP:20260427T000000Z
UID:5dfc9502-4778-4315-9102-525331eabe0c@ClaytonBocce
DTSTART;TZID=America/Los_Angeles:20260609T183000
DTEND;TZID=America/Los_Angeles:20260609T210000
STATUS:CONFIRMED
SUMMARY:Have You Seen This vs Sir Bocce
URL:/League/Schedule/3274
DESCRIPTION:Regular Season match: Have You Seen This vs Sir 
 Bocce
LOCATION:Baldwin Court 4
END:VEVENT
BEGIN:VEVENT
DTSTAMP:20260427T000000Z
UID:2777a300-f912-4c4a-8616-65883875e3f0@ClaytonBocce
DTSTART;TZID=America/Los_Angeles:20260616T183000
DTEND;TZID=America/Los_Angeles:20260616T210000
STATUS:CONFIRMED
SUMMARY:Have You Seen This vs Renegade Rollers
URL:/League/Schedule/3274
DESCRIPTION:Regular Season match: Have You Seen This vs Rene
 gade Rollers
LOCATION:Baldwin Court 2
END:VEVENT
BEGIN:VEVENT
DTSTAMP:20260427T000000Z
UID:a912f54c-33d5-4923-af23-17c0e98313bb@ClaytonBocce
DTSTART;TZID=America/Los_Angeles:20260623T183000
DTEND;TZID=America/Los_Angeles:20260623T210000
STATUS:CONFIRMED
SUMMARY:Have You Seen This vs Buon Amici
URL:/League/Schedule/3274
DESCRIPTION:Regular Season match: Have You Seen This vs Buon
  Amici
LOCATION:Baldwin Court 3
END:VEVENT
BEGIN:VEVENT
DTSTAMP:20260427T000000Z
UID:604e4b83-6804-40b2-b8a6-3ac131a25a77@ClaytonBocce
DTSTART;TZID=America/Los_Angeles:20260630T183000
DTEND;TZID=America/Los_Angeles:20260630T210000
STATUS:CONFIRMED
SUMMARY:Have You Seen This vs Congerosa Crush
URL:/League/Schedule/3274
DESCRIPTION:Regular Season match: Have You Seen This vs Cong
 erosa Crush
LOCATION:Baldwin Court 4
END:VEVENT
BEGIN:VEVENT
DTSTAMP:20260427T000000Z
UID:88760592-2652-4f1e-8718-5ec3b8fe5f19@ClaytonBocce
DTSTART;TZID=America/Los_Angeles:20260714T183000
DTEND;TZID=America/Los_Angeles:20260714T210000
STATUS:CONFIRMED
SUMMARY:Have You Seen This vs Bocce Magic
URL:/League/Schedule/3274
DESCRIPTION:Regular Season match: Have You Seen This vs Bocc
 e Magic
LOCATION:Baldwin Court 1
END:VEVENT
BEGIN:VEVENT
DTSTAMP:20260427T000000Z
UID:656f792d-d1cd-414e-9ee5-c9510dd92b1b@ClaytonBocce
DTSTART;TZID=America/Los_Angeles:20260728T183000
DTEND;TZID=America/Los_Angeles:20260728T210000
STATUS:CONFIRMED
SUMMARY:Have You Seen This vs Ballsy and Brand New
URL:/League/Schedule/3274
DESCRIPTION:Regular Season match: Have You Seen This vs Ball
 sy and Brand New
LOCATION:Baldwin Court 1
END:VEVENT
BEGIN:VEVENT
DTSTAMP:20260427T000000Z
UID:520bbdbc-9002-46e7-9462-e0d09962164c@ClaytonBocce
DTSTART;TZID=America/Los_Angeles:20260804T183000
DTEND;TZID=America/Los_Angeles:20260804T210000
STATUS:CONFIRMED
SUMMARY:Have You Seen This vs 6 Pack
URL:/League/Schedule/3274
DESCRIPTION:Regular Season match: Have You Seen This vs 6 Pa
 ck
LOCATION:Baldwin Court 4
END:VEVENT
BEGIN:VEVENT
DTSTAMP:20260427T000000Z
UID:6070e768-1e36-465e-bcff-8f0b4df80f59@ClaytonBocce
DTSTART;TZID=America/Los_Angeles:20260811T183000
DTEND;TZID=America/Los_Angeles:20260811T210000
STATUS:CONFIRMED
SUMMARY:Have You Seen This vs R.O.M.E.O.
URL:/League/Schedule/3274
DESCRIPTION:Regular Season match: Have You Seen This vs R.O.
 M.E.O.
LOCATION:Baldwin Court 3
END:VEVENT
BEGIN:VEVENT
DTSTAMP:20260427T000000Z
UID:afe0cdbd-41cc-42f2-895a-277a3d78bbc3@ClaytonBocce
DTSTART;TZID=America/Los_Angeles:20260818T183000
DTEND;TZID=America/Los_Angeles:20260818T210000
STATUS:CONFIRMED
SUMMARY:Have You Seen This vs Sir Bocce
URL:/League/Schedule/3274
DESCRIPTION:Regular Season match: Have You Seen This vs Sir 
 Bocce
LOCATION:Baldwin Court 2
END:VEVENT
BEGIN:VEVENT
DTSTAMP:20260427T000000Z
UID:ef2a8189-4982-479e-8c5a-140f01498ca9@ClaytonBocce
DTSTART;TZID=America/Los_Angeles:20260825T183000
DTEND;TZID=America/Los_Angeles:20260825T210000
STATUS:CONFIRMED
SUMMARY:Have You Seen This vs Renegade Rollers
URL:/League/Schedule/3274
DESCRIPTION:Regular Season match: Have You Seen This vs Rene
 gade Rollers
LOCATION:Baldwin Court 4
END:VEVENT
BEGIN:VEVENT
DTSTAMP:20260427T000000Z
UID:d3c51a53-d9f9-4ac0-98c4-40c106ab0b15@ClaytonBocce
DTSTART;TZID=America/Los_Angeles:20260901T183000
DTEND;TZID=America/Los_Angeles:20260901T210000
STATUS:CONFIRMED
SUMMARY:Have You Seen This vs Buon Amici
URL:/League/Schedule/3274
DESCRIPTION:Regular Season match: Have You Seen This vs Buon
  Amici
LOCATION:Baldwin Court 1
END:VEVENT
END:VCALENDAR
