BEGIN:VCALENDAR
VERSION:2.0
PRODID:-//Clayton Bocce League
METHOD:PUBLISH
BEGIN:VTIMEZONE
TZID:America/Los_Angeles
X-LIC-LOCATION:America/Los_Angeles
BEGIN:DAYLIGHT
TZOFFSETFROM:-0800
TZOFFSETTO:-0700
TZNAME:PDT
DTSTART:20070311T020000
RRULE:FREQ=YEARLY;BYMONTH=3;BYDAY=2SU
END:DAYLIGHT
BEGIN:STANDARD
TZOFFSETFROM:-0700
TZOFFSETTO:-0800
TZNAME:PST
DTSTART:20071104T020000
RRULE:FREQ=YEARLY;BYMONTH=11;BYDAY=1SU
END:STANDARD
END:VTIMEZONE
BEGIN:VEVENT
DTSTAMP:20260427T000000Z
UID:2f4380f3-d2a9-49a1-8b27-d46d6db847c7@ClaytonBocce
DTSTART;TZID=America/Los_Angeles:20260428T183000
DTEND;TZID=America/Los_Angeles:20260428T210000
STATUS:CONFIRMED
SUMMARY:Congerosa Crush vs Have You Seen This
URL:/League/Schedule/3272
DESCRIPTION:Regular Season match: Congerosa Crush vs Have Yo
 u Seen This
LOCATION:Baldwin Court 2
END:VEVENT
BEGIN:VEVENT
DTSTAMP:20260427T000000Z
UID:6fc6d6c6-4252-48a4-878d-e16a0737db76@ClaytonBocce
DTSTART;TZID=America/Los_Angeles:20260505T183000
DTEND;TZID=America/Los_Angeles:20260505T210000
STATUS:CONFIRMED
SUMMARY:Congerosa Crush vs Ballsy and Brand New
URL:/League/Schedule/3272
DESCRIPTION:Regular Season match: Congerosa Crush vs Ballsy 
 and Brand New
LOCATION:Baldwin Court 1
END:VEVENT
BEGIN:VEVENT
DTSTAMP:20260427T000000Z
UID:8161b29b-56f0-4458-a094-9297c63f32b2@ClaytonBocce
DTSTART;TZID=America/Los_Angeles:20260512T183000
DTEND;TZID=America/Los_Angeles:20260512T210000
STATUS:CONFIRMED
SUMMARY:Congerosa Crush vs 6 Pack
URL:/League/Schedule/3272
DESCRIPTION:Regular Season match: Congerosa Crush vs 6 Pack
LOCATION:Baldwin Court 4
END:VEVENT
BEGIN:VEVENT
DTSTAMP:20260427T000000Z
UID:0b8bc1c5-7aa7-4a2d-b146-1107c7241f8e@ClaytonBocce
DTSTART;TZID=America/Los_Angeles:20260519T183000
DTEND;TZID=America/Los_Angeles:20260519T210000
STATUS:CONFIRMED
SUMMARY:Congerosa Crush vs R.O.M.E.O.
URL:/League/Schedule/3272
DESCRIPTION:Regular Season match: Congerosa Crush vs R.O.M.E
 .O.
LOCATION:Baldwin Court 2
END:VEVENT
BEGIN:VEVENT
DTSTAMP:20260427T000000Z
UID:ce35857e-b9ff-485e-baa1-48d39ecfe410@ClaytonBocce
DTSTART;TZID=America/Los_Angeles:20260526T183000
DTEND;TZID=America/Los_Angeles:20260526T210000
STATUS:CONFIRMED
SUMMARY:Congerosa Crush vs Sir Bocce
URL:/League/Schedule/3272
DESCRIPTION:Regular Season match: Congerosa Crush vs Sir Boc
 ce
LOCATION:Baldwin Court 3
END:VEVENT
BEGIN:VEVENT
DTSTAMP:20260427T000000Z
UID:54700773-c3ac-4730-86bf-1feba0abc1c4@ClaytonBocce
DTSTART;TZID=America/Los_Angeles:20260602T183000
DTEND;TZID=America/Los_Angeles:20260602T210000
STATUS:CONFIRMED
SUMMARY:Congerosa Crush vs Renegade Rollers
URL:/League/Schedule/3272
DESCRIPTION:Regular Season match: Congerosa Crush vs Renegad
 e Rollers
LOCATION:Baldwin Court 4
END:VEVENT
BEGIN:VEVENT
DTSTAMP:20260427T000000Z
UID:e5482fcf-924f-47aa-be38-7b526c0b07d8@ClaytonBocce
DTSTART;TZID=America/Los_Angeles:20260609T183000
DTEND;TZID=America/Los_Angeles:20260609T210000
STATUS:CONFIRMED
SUMMARY:Congerosa Crush vs Buon Amici
URL:/League/Schedule/3272
DESCRIPTION:Regular Season match: Congerosa Crush vs Buon Am
 ici
LOCATION:Baldwin Court 1
END:VEVENT
BEGIN:VEVENT
DTSTAMP:20260427T000000Z
UID:857c88bc-9fad-414b-a26a-2b4fe051f3a5@ClaytonBocce
DTSTART;TZID=America/Los_Angeles:20260623T183000
DTEND;TZID=America/Los_Angeles:20260623T210000
STATUS:CONFIRMED
SUMMARY:Congerosa Crush vs Bocce Magic
URL:/League/Schedule/3272
DESCRIPTION:Regular Season match: Congerosa Crush vs Bocce M
 agic
LOCATION:Baldwin Court 1
END:VEVENT
BEGIN:VEVENT
DTSTAMP:20260427T000000Z
UID:604e4b83-6804-40b2-b8a6-3ac131a25a77@ClaytonBocce
DTSTART;TZID=America/Los_Angeles:20260630T183000
DTEND;TZID=America/Los_Angeles:20260630T210000
STATUS:CONFIRMED
SUMMARY:Congerosa Crush vs Have You Seen This
URL:/League/Schedule/3272
DESCRIPTION:Regular Season match: Congerosa Crush vs Have Yo
 u Seen This
LOCATION:Baldwin Court 4
END:VEVENT
BEGIN:VEVENT
DTSTAMP:20260427T000000Z
UID:8772d5ce-a0ed-4b63-8dad-d50d36868d05@ClaytonBocce
DTSTART;TZID=America/Los_Angeles:20260714T183000
DTEND;TZID=America/Los_Angeles:20260714T210000
STATUS:CONFIRMED
SUMMARY:Congerosa Crush vs Ballsy and Brand New
URL:/League/Schedule/3272
DESCRIPTION:Regular Season match: Congerosa Crush vs Ballsy 
 and Brand New
LOCATION:Baldwin Court 3
END:VEVENT
BEGIN:VEVENT
DTSTAMP:20260427T000000Z
UID:25d87f40-263d-4fba-8a85-a1f1cb17a03e@ClaytonBocce
DTSTART;TZID=America/Los_Angeles:20260721T183000
DTEND;TZID=America/Los_Angeles:20260721T210000
STATUS:CONFIRMED
SUMMARY:Congerosa Crush vs 6 Pack
URL:/League/Schedule/3272
DESCRIPTION:Regular Season match: Congerosa Crush vs 6 Pack
LOCATION:Baldwin Court 2
END:VEVENT
BEGIN:VEVENT
DTSTAMP:20260427T000000Z
UID:4ddf92f6-4ec7-4d06-824a-8bfc964df4be@ClaytonBocce
DTSTART;TZID=America/Los_Angeles:20260728T183000
DTEND;TZID=America/Los_Angeles:20260728T210000
STATUS:CONFIRMED
SUMMARY:Congerosa Crush vs R.O.M.E.O.
URL:/League/Schedule/3272
DESCRIPTION:Regular Season match: Congerosa Crush vs R.O.M.E
 .O.
LOCATION:Baldwin Court 4
END:VEVENT
BEGIN:VEVENT
DTSTAMP:20260427T000000Z
UID:c0e19bdd-abc0-446a-9bc9-b0598f2e3ff8@ClaytonBocce
DTSTART;TZID=America/Los_Angeles:20260804T183000
DTEND;TZID=America/Los_Angeles:20260804T210000
STATUS:CONFIRMED
SUMMARY:Congerosa Crush vs Sir Bocce
URL:/League/Schedule/3272
DESCRIPTION:Regular Season match: Congerosa Crush vs Sir Boc
 ce
LOCATION:Baldwin Court 1
END:VEVENT
BEGIN:VEVENT
DTSTAMP:20260427T000000Z
UID:0d9c0fd9-0894-4348-a461-8065b188dc1c@ClaytonBocce
DTSTART;TZID=America/Los_Angeles:20260811T183000
DTEND;TZID=America/Los_Angeles:20260811T210000
STATUS:CONFIRMED
SUMMARY:Congerosa Crush vs Renegade Rollers
URL:/League/Schedule/3272
DESCRIPTION:Regular Season match: Congerosa Crush vs Renegad
 e Rollers
LOCATION:Baldwin Court 2
END:VEVENT
BEGIN:VEVENT
DTSTAMP:20260427T000000Z
UID:275fc6c0-1ad6-4427-8aa6-28cd85a75afe@ClaytonBocce
DTSTART;TZID=America/Los_Angeles:20260818T183000
DTEND;TZID=America/Los_Angeles:20260818T210000
STATUS:CONFIRMED
SUMMARY:Congerosa Crush vs Buon Amici
URL:/League/Schedule/3272
DESCRIPTION:Regular Season match: Congerosa Crush vs Buon Am
 ici
LOCATION:Baldwin Court 3
END:VEVENT
BEGIN:VEVENT
DTSTAMP:20260427T000000Z
UID:d807c46f-0593-4ecd-8e2c-5f5625c07134@ClaytonBocce
DTSTART;TZID=America/Los_Angeles:20260901T183000
DTEND;TZID=America/Los_Angeles:20260901T210000
STATUS:CONFIRMED
SUMMARY:Congerosa Crush vs Bocce Magic
URL:/League/Schedule/3272
DESCRIPTION:Regular Season match: Congerosa Crush vs Bocce M
 agic
LOCATION:Baldwin Court 3
END:VEVENT
END:VCALENDAR
