BEGIN:VCALENDAR
VERSION:2.0
PRODID:-//Clayton Bocce League
METHOD:PUBLISH
BEGIN:VTIMEZONE
TZID:America/Los_Angeles
X-LIC-LOCATION:America/Los_Angeles
BEGIN:DAYLIGHT
TZOFFSETFROM:-0800
TZOFFSETTO:-0700
TZNAME:PDT
DTSTART:20070311T020000
RRULE:FREQ=YEARLY;BYMONTH=3;BYDAY=2SU
END:DAYLIGHT
BEGIN:STANDARD
TZOFFSETFROM:-0700
TZOFFSETTO:-0800
TZNAME:PST
DTSTART:20071104T020000
RRULE:FREQ=YEARLY;BYMONTH=11;BYDAY=1SU
END:STANDARD
END:VTIMEZONE
BEGIN:VEVENT
DTSTAMP:20260427T000000Z
UID:9c1b91b7-6662-42a8-a614-f2ae21fe09dc@ClaytonBocce
DTSTART;TZID=America/Los_Angeles:20260428T183000
DTEND;TZID=America/Los_Angeles:20260428T210000
STATUS:CONFIRMED
SUMMARY:Sir Bocce vs R.O.M.E.O.
URL:/League/Schedule/3278
DESCRIPTION:Regular Season match: Sir Bocce vs R.O.M.E.O.
LOCATION:Baldwin Court 1
END:VEVENT
BEGIN:VEVENT
DTSTAMP:20260427T000000Z
UID:66546e0a-afac-47a1-82ae-014b8428076c@ClaytonBocce
DTSTART;TZID=America/Los_Angeles:20260512T183000
DTEND;TZID=America/Los_Angeles:20260512T210000
STATUS:CONFIRMED
SUMMARY:Sir Bocce vs Renegade Rollers
URL:/League/Schedule/3278
DESCRIPTION:Regular Season match: Sir Bocce vs Renegade Roll
 ers
LOCATION:Baldwin Court 1
END:VEVENT
BEGIN:VEVENT
DTSTAMP:20260427T000000Z
UID:c52fe500-a95b-484d-997a-714ace55df72@ClaytonBocce
DTSTART;TZID=America/Los_Angeles:20260519T183000
DTEND;TZID=America/Los_Angeles:20260519T210000
STATUS:CONFIRMED
SUMMARY:Sir Bocce vs Buon Amici
URL:/League/Schedule/3278
DESCRIPTION:Regular Season match: Sir Bocce vs Buon Amici
LOCATION:Baldwin Court 4
END:VEVENT
BEGIN:VEVENT
DTSTAMP:20260427T000000Z
UID:ce35857e-b9ff-485e-baa1-48d39ecfe410@ClaytonBocce
DTSTART;TZID=America/Los_Angeles:20260526T183000
DTEND;TZID=America/Los_Angeles:20260526T210000
STATUS:CONFIRMED
SUMMARY:Sir Bocce vs Congerosa Crush
URL:/League/Schedule/3278
DESCRIPTION:Regular Season match: Sir Bocce vs Congerosa Cru
 sh
LOCATION:Baldwin Court 3
END:VEVENT
BEGIN:VEVENT
DTSTAMP:20260427T000000Z
UID:0be96121-f679-4dfa-9ef4-7f2c213325b1@ClaytonBocce
DTSTART;TZID=America/Los_Angeles:20260602T183000
DTEND;TZID=America/Los_Angeles:20260602T210000
STATUS:CONFIRMED
SUMMARY:Sir Bocce vs Bocce Magic
URL:/League/Schedule/3278
DESCRIPTION:Regular Season match: Sir Bocce vs Bocce Magic
LOCATION:Baldwin Court 2
END:VEVENT
BEGIN:VEVENT
DTSTAMP:20260427T000000Z
UID:5dfc9502-4778-4315-9102-525331eabe0c@ClaytonBocce
DTSTART;TZID=America/Los_Angeles:20260609T183000
DTEND;TZID=America/Los_Angeles:20260609T210000
STATUS:CONFIRMED
SUMMARY:Sir Bocce vs Have You Seen This
URL:/League/Schedule/3278
DESCRIPTION:Regular Season match: Sir Bocce vs Have You Seen
  This
LOCATION:Baldwin Court 4
END:VEVENT
BEGIN:VEVENT
DTSTAMP:20260427T000000Z
UID:153332a9-7bde-4e03-9b5c-52a0667a4812@ClaytonBocce
DTSTART;TZID=America/Los_Angeles:20260616T183000
DTEND;TZID=America/Los_Angeles:20260616T210000
STATUS:CONFIRMED
SUMMARY:Sir Bocce vs Ballsy and Brand New
URL:/League/Schedule/3278
DESCRIPTION:Regular Season match: Sir Bocce vs Ballsy and Br
 and New
LOCATION:Baldwin Court 1
END:VEVENT
BEGIN:VEVENT
DTSTAMP:20260427T000000Z
UID:5eec5a05-e617-4300-8d57-10ab6fcc9b0f@ClaytonBocce
DTSTART;TZID=America/Los_Angeles:20260623T183000
DTEND;TZID=America/Los_Angeles:20260623T210000
STATUS:CONFIRMED
SUMMARY:Sir Bocce vs 6 Pack
URL:/League/Schedule/3278
DESCRIPTION:Regular Season match: Sir Bocce vs 6 Pack
LOCATION:Baldwin Court 2
END:VEVENT
BEGIN:VEVENT
DTSTAMP:20260427T000000Z
UID:f42a2142-eee4-4f67-828b-91367897373e@ClaytonBocce
DTSTART;TZID=America/Los_Angeles:20260630T183000
DTEND;TZID=America/Los_Angeles:20260630T210000
STATUS:CONFIRMED
SUMMARY:Sir Bocce vs R.O.M.E.O.
URL:/League/Schedule/3278
DESCRIPTION:Regular Season match: Sir Bocce vs R.O.M.E.O.
LOCATION:Baldwin Court 3
END:VEVENT
BEGIN:VEVENT
DTSTAMP:20260427T000000Z
UID:bedaefee-54fa-44e2-8e70-136d036d194b@ClaytonBocce
DTSTART;TZID=America/Los_Angeles:20260721T183000
DTEND;TZID=America/Los_Angeles:20260721T210000
STATUS:CONFIRMED
SUMMARY:Sir Bocce vs Renegade Rollers
URL:/League/Schedule/3278
DESCRIPTION:Regular Season match: Sir Bocce vs Renegade Roll
 ers
LOCATION:Baldwin Court 3
END:VEVENT
BEGIN:VEVENT
DTSTAMP:20260427T000000Z
UID:94545b8a-3315-43ee-92f4-07ac3f33d057@ClaytonBocce
DTSTART;TZID=America/Los_Angeles:20260728T183000
DTEND;TZID=America/Los_Angeles:20260728T210000
STATUS:CONFIRMED
SUMMARY:Sir Bocce vs Buon Amici
URL:/League/Schedule/3278
DESCRIPTION:Regular Season match: Sir Bocce vs Buon Amici
LOCATION:Baldwin Court 2
END:VEVENT
BEGIN:VEVENT
DTSTAMP:20260427T000000Z
UID:c0e19bdd-abc0-446a-9bc9-b0598f2e3ff8@ClaytonBocce
DTSTART;TZID=America/Los_Angeles:20260804T183000
DTEND;TZID=America/Los_Angeles:20260804T210000
STATUS:CONFIRMED
SUMMARY:Sir Bocce vs Congerosa Crush
URL:/League/Schedule/3278
DESCRIPTION:Regular Season match: Sir Bocce vs Congerosa Cru
 sh
LOCATION:Baldwin Court 1
END:VEVENT
BEGIN:VEVENT
DTSTAMP:20260427T000000Z
UID:ce175cbe-2c76-4145-8c61-f06f56341e45@ClaytonBocce
DTSTART;TZID=America/Los_Angeles:20260811T183000
DTEND;TZID=America/Los_Angeles:20260811T210000
STATUS:CONFIRMED
SUMMARY:Sir Bocce vs Bocce Magic
URL:/League/Schedule/3278
DESCRIPTION:Regular Season match: Sir Bocce vs Bocce Magic
LOCATION:Baldwin Court 4
END:VEVENT
BEGIN:VEVENT
DTSTAMP:20260427T000000Z
UID:afe0cdbd-41cc-42f2-895a-277a3d78bbc3@ClaytonBocce
DTSTART;TZID=America/Los_Angeles:20260818T183000
DTEND;TZID=America/Los_Angeles:20260818T210000
STATUS:CONFIRMED
SUMMARY:Sir Bocce vs Have You Seen This
URL:/League/Schedule/3278
DESCRIPTION:Regular Season match: Sir Bocce vs Have You Seen
  This
LOCATION:Baldwin Court 2
END:VEVENT
BEGIN:VEVENT
DTSTAMP:20260427T000000Z
UID:a6bb0119-f5a4-471b-9a2f-3da1f6e36870@ClaytonBocce
DTSTART;TZID=America/Los_Angeles:20260825T183000
DTEND;TZID=America/Los_Angeles:20260825T210000
STATUS:CONFIRMED
SUMMARY:Sir Bocce vs Ballsy and Brand New
URL:/League/Schedule/3278
DESCRIPTION:Regular Season match: Sir Bocce vs Ballsy and Br
 and New
LOCATION:Baldwin Court 3
END:VEVENT
BEGIN:VEVENT
DTSTAMP:20260427T000000Z
UID:6e4f8a41-68af-4e34-93a3-0502ce62e886@ClaytonBocce
DTSTART;TZID=America/Los_Angeles:20260901T183000
DTEND;TZID=America/Los_Angeles:20260901T210000
STATUS:CONFIRMED
SUMMARY:Sir Bocce vs 6 Pack
URL:/League/Schedule/3278
DESCRIPTION:Regular Season match: Sir Bocce vs 6 Pack
LOCATION:Baldwin Court 4
END:VEVENT
END:VCALENDAR
