BEGIN:VCALENDAR
VERSION:2.0
PRODID:-//Clayton Bocce League
METHOD:PUBLISH
BEGIN:VTIMEZONE
TZID:America/Los_Angeles
X-LIC-LOCATION:America/Los_Angeles
BEGIN:DAYLIGHT
TZOFFSETFROM:-0800
TZOFFSETTO:-0700
TZNAME:PDT
DTSTART:20070311T020000
RRULE:FREQ=YEARLY;BYMONTH=3;BYDAY=2SU
END:DAYLIGHT
BEGIN:STANDARD
TZOFFSETFROM:-0700
TZOFFSETTO:-0800
TZNAME:PST
DTSTART:20071104T020000
RRULE:FREQ=YEARLY;BYMONTH=11;BYDAY=1SU
END:STANDARD
END:VTIMEZONE
BEGIN:VEVENT
DTSTAMP:20260427T000000Z
UID:9c1b91b7-6662-42a8-a614-f2ae21fe09dc@ClaytonBocce
DTSTART;TZID=America/Los_Angeles:20260428T183000
DTEND;TZID=America/Los_Angeles:20260428T210000
STATUS:CONFIRMED
SUMMARY:R.O.M.E.O. vs Sir Bocce
URL:/League/Schedule/3276
DESCRIPTION:Regular Season match: R.O.M.E.O. vs Sir Bocce
LOCATION:Baldwin Court 1
END:VEVENT
BEGIN:VEVENT
DTSTAMP:20260427T000000Z
UID:816dc88e-6a58-44ae-ae93-169f05d65bd7@ClaytonBocce
DTSTART;TZID=America/Los_Angeles:20260505T183000
DTEND;TZID=America/Los_Angeles:20260505T210000
STATUS:CONFIRMED
SUMMARY:R.O.M.E.O. vs Renegade Rollers
URL:/League/Schedule/3276
DESCRIPTION:Regular Season match: R.O.M.E.O. vs Renegade Rol
 lers
LOCATION:Baldwin Court 4
END:VEVENT
BEGIN:VEVENT
DTSTAMP:20260427T000000Z
UID:c2b7283c-dc4b-4bca-824c-34734d43e610@ClaytonBocce
DTSTART;TZID=America/Los_Angeles:20260512T183000
DTEND;TZID=America/Los_Angeles:20260512T210000
STATUS:CONFIRMED
SUMMARY:R.O.M.E.O. vs Buon Amici
URL:/League/Schedule/3276
DESCRIPTION:Regular Season match: R.O.M.E.O. vs Buon Amici
LOCATION:Baldwin Court 3
END:VEVENT
BEGIN:VEVENT
DTSTAMP:20260427T000000Z
UID:0b8bc1c5-7aa7-4a2d-b146-1107c7241f8e@ClaytonBocce
DTSTART;TZID=America/Los_Angeles:20260519T183000
DTEND;TZID=America/Los_Angeles:20260519T210000
STATUS:CONFIRMED
SUMMARY:R.O.M.E.O. vs Congerosa Crush
URL:/League/Schedule/3276
DESCRIPTION:Regular Season match: R.O.M.E.O. vs Congerosa Cr
 ush
LOCATION:Baldwin Court 2
END:VEVENT
BEGIN:VEVENT
DTSTAMP:20260427T000000Z
UID:e0ddaa07-b905-492d-b088-7bfe9cdbd4e0@ClaytonBocce
DTSTART;TZID=America/Los_Angeles:20260526T183000
DTEND;TZID=America/Los_Angeles:20260526T210000
STATUS:CONFIRMED
SUMMARY:R.O.M.E.O. vs Bocce Magic
URL:/League/Schedule/3276
DESCRIPTION:Regular Season match: R.O.M.E.O. vs Bocce Magic
LOCATION:Baldwin Court 4
END:VEVENT
BEGIN:VEVENT
DTSTAMP:20260427T000000Z
UID:af0f025b-505f-428d-84f2-747a89ce8e16@ClaytonBocce
DTSTART;TZID=America/Los_Angeles:20260602T183000
DTEND;TZID=America/Los_Angeles:20260602T210000
STATUS:CONFIRMED
SUMMARY:R.O.M.E.O. vs Have You Seen This
URL:/League/Schedule/3276
DESCRIPTION:Regular Season match: R.O.M.E.O. vs Have You See
 n This
LOCATION:Baldwin Court 1
END:VEVENT
BEGIN:VEVENT
DTSTAMP:20260427T000000Z
UID:08dad6a5-ce21-4d86-9d24-beee4ae7493b@ClaytonBocce
DTSTART;TZID=America/Los_Angeles:20260609T183000
DTEND;TZID=America/Los_Angeles:20260609T210000
STATUS:CONFIRMED
SUMMARY:R.O.M.E.O. vs Ballsy and Brand New
URL:/League/Schedule/3276
DESCRIPTION:Regular Season match: R.O.M.E.O. vs Ballsy and B
 rand New
LOCATION:Baldwin Court 2
END:VEVENT
BEGIN:VEVENT
DTSTAMP:20260427T000000Z
UID:557940a0-f1af-41ab-891a-6e27395930c3@ClaytonBocce
DTSTART;TZID=America/Los_Angeles:20260616T183000
DTEND;TZID=America/Los_Angeles:20260616T210000
STATUS:CONFIRMED
SUMMARY:R.O.M.E.O. vs 6 Pack
URL:/League/Schedule/3276
DESCRIPTION:Regular Season match: R.O.M.E.O. vs 6 Pack
LOCATION:Baldwin Court 3
END:VEVENT
BEGIN:VEVENT
DTSTAMP:20260427T000000Z
UID:f42a2142-eee4-4f67-828b-91367897373e@ClaytonBocce
DTSTART;TZID=America/Los_Angeles:20260630T183000
DTEND;TZID=America/Los_Angeles:20260630T210000
STATUS:CONFIRMED
SUMMARY:R.O.M.E.O. vs Sir Bocce
URL:/League/Schedule/3276
DESCRIPTION:Regular Season match: R.O.M.E.O. vs Sir Bocce
LOCATION:Baldwin Court 3
END:VEVENT
BEGIN:VEVENT
DTSTAMP:20260427T000000Z
UID:d6e24fbe-df2f-4938-b939-734fbbd6fa6e@ClaytonBocce
DTSTART;TZID=America/Los_Angeles:20260714T183000
DTEND;TZID=America/Los_Angeles:20260714T210000
STATUS:CONFIRMED
SUMMARY:R.O.M.E.O. vs Renegade Rollers
URL:/League/Schedule/3276
DESCRIPTION:Regular Season match: R.O.M.E.O. vs Renegade Rol
 lers
LOCATION:Baldwin Court 2
END:VEVENT
BEGIN:VEVENT
DTSTAMP:20260427T000000Z
UID:1076bfaf-42a3-4e41-a5b9-c82134a8de00@ClaytonBocce
DTSTART;TZID=America/Los_Angeles:20260721T183000
DTEND;TZID=America/Los_Angeles:20260721T210000
STATUS:CONFIRMED
SUMMARY:R.O.M.E.O. vs Buon Amici
URL:/League/Schedule/3276
DESCRIPTION:Regular Season match: R.O.M.E.O. vs Buon Amici
LOCATION:Baldwin Court 1
END:VEVENT
BEGIN:VEVENT
DTSTAMP:20260427T000000Z
UID:4ddf92f6-4ec7-4d06-824a-8bfc964df4be@ClaytonBocce
DTSTART;TZID=America/Los_Angeles:20260728T183000
DTEND;TZID=America/Los_Angeles:20260728T210000
STATUS:CONFIRMED
SUMMARY:R.O.M.E.O. vs Congerosa Crush
URL:/League/Schedule/3276
DESCRIPTION:Regular Season match: R.O.M.E.O. vs Congerosa Cr
 ush
LOCATION:Baldwin Court 4
END:VEVENT
BEGIN:VEVENT
DTSTAMP:20260427T000000Z
UID:f1ddcac4-9bf2-410e-8e5f-03fd6378a30c@ClaytonBocce
DTSTART;TZID=America/Los_Angeles:20260804T183000
DTEND;TZID=America/Los_Angeles:20260804T210000
STATUS:CONFIRMED
SUMMARY:R.O.M.E.O. vs Bocce Magic
URL:/League/Schedule/3276
DESCRIPTION:Regular Season match: R.O.M.E.O. vs Bocce Magic
LOCATION:Baldwin Court 2
END:VEVENT
BEGIN:VEVENT
DTSTAMP:20260427T000000Z
UID:6070e768-1e36-465e-bcff-8f0b4df80f59@ClaytonBocce
DTSTART;TZID=America/Los_Angeles:20260811T183000
DTEND;TZID=America/Los_Angeles:20260811T210000
STATUS:CONFIRMED
SUMMARY:R.O.M.E.O. vs Have You Seen This
URL:/League/Schedule/3276
DESCRIPTION:Regular Season match: R.O.M.E.O. vs Have You See
 n This
LOCATION:Baldwin Court 3
END:VEVENT
BEGIN:VEVENT
DTSTAMP:20260427T000000Z
UID:be0eafd8-75ac-4bdf-9a9b-a9f0b8d8574a@ClaytonBocce
DTSTART;TZID=America/Los_Angeles:20260818T183000
DTEND;TZID=America/Los_Angeles:20260818T210000
STATUS:CONFIRMED
SUMMARY:R.O.M.E.O. vs Ballsy and Brand New
URL:/League/Schedule/3276
DESCRIPTION:Regular Season match: R.O.M.E.O. vs Ballsy and B
 rand New
LOCATION:Baldwin Court 4
END:VEVENT
BEGIN:VEVENT
DTSTAMP:20260427T000000Z
UID:e01a100c-ea54-4fa2-84fd-84569f6b7547@ClaytonBocce
DTSTART;TZID=America/Los_Angeles:20260825T183000
DTEND;TZID=America/Los_Angeles:20260825T210000
STATUS:CONFIRMED
SUMMARY:R.O.M.E.O. vs 6 Pack
URL:/League/Schedule/3276
DESCRIPTION:Regular Season match: R.O.M.E.O. vs 6 Pack
LOCATION:Baldwin Court 1
END:VEVENT
END:VCALENDAR
