BEGIN:VCALENDAR
VERSION:2.0
PRODID:-//Clayton Bocce League
METHOD:PUBLISH
BEGIN:VTIMEZONE
TZID:America/Los_Angeles
X-LIC-LOCATION:America/Los_Angeles
BEGIN:DAYLIGHT
TZOFFSETFROM:-0800
TZOFFSETTO:-0700
TZNAME:PDT
DTSTART:20070311T020000
RRULE:FREQ=YEARLY;BYMONTH=3;BYDAY=2SU
END:DAYLIGHT
BEGIN:STANDARD
TZOFFSETFROM:-0700
TZOFFSETTO:-0800
TZNAME:PST
DTSTART:20071104T020000
RRULE:FREQ=YEARLY;BYMONTH=11;BYDAY=1SU
END:STANDARD
END:VTIMEZONE
BEGIN:VEVENT
DTSTAMP:20260427T000000Z
UID:ea6eb125-3b53-4862-be5b-f7c7e4d59752@ClaytonBocce
DTSTART;TZID=America/Los_Angeles:20260427T183000
DTEND;TZID=America/Los_Angeles:20260427T210000
STATUS:CONFIRMED
SUMMARY:Sobocceesy vs Wild Bunch
URL:/League/Schedule/3268
DESCRIPTION:Regular Season match: Sobocceesy vs Wild Bunch
LOCATION:Baldwin Court 4
END:VEVENT
BEGIN:VEVENT
DTSTAMP:20260427T000000Z
UID:ff7f8d28-f4df-4331-8f34-74d3cd8e5056@ClaytonBocce
DTSTART;TZID=America/Los_Angeles:20260504T183000
DTEND;TZID=America/Los_Angeles:20260504T210000
STATUS:CONFIRMED
SUMMARY:Sobocceesy vs Bocce Buds & Babes
URL:/League/Schedule/3268
DESCRIPTION:Regular Season match: Sobocceesy vs Bocce Buds &
  Babes
LOCATION:Baldwin Court 2
END:VEVENT
BEGIN:VEVENT
DTSTAMP:20260427T000000Z
UID:72c5b973-bb96-4270-a7bb-937c61f2811f@ClaytonBocce
DTSTART;TZID=America/Los_Angeles:20260511T183000
DTEND;TZID=America/Los_Angeles:20260511T210000
STATUS:CONFIRMED
SUMMARY:Sobocceesy vs Baldwin Rollers
URL:/League/Schedule/3268
DESCRIPTION:Regular Season match: Sobocceesy vs Baldwin Roll
 ers
LOCATION:Baldwin Court 3
END:VEVENT
BEGIN:VEVENT
DTSTAMP:20260427T000000Z
UID:cd7f3ed3-6e1d-434b-b6a2-87d213b4c52c@ClaytonBocce
DTSTART;TZID=America/Los_Angeles:20260518T183000
DTEND;TZID=America/Los_Angeles:20260518T210000
STATUS:CONFIRMED
SUMMARY:Sobocceesy vs Lovely Bocce Coconuts
URL:/League/Schedule/3268
DESCRIPTION:Regular Season match: Sobocceesy vs Lovely Bocce
  Coconuts
LOCATION:Baldwin Court 4
END:VEVENT
BEGIN:VEVENT
DTSTAMP:20260427T000000Z
UID:a42a7bb5-5428-4a14-b043-d65b7c81d695@ClaytonBocce
DTSTART;TZID=America/Los_Angeles:20260525T183000
DTEND;TZID=America/Los_Angeles:20260525T210000
STATUS:CONFIRMED
SUMMARY:Sobocceesy vs One More Frame
URL:/League/Schedule/3268
DESCRIPTION:Regular Season match: Sobocceesy vs One More Fra
 me
LOCATION:Baldwin Court 1
END:VEVENT
BEGIN:VEVENT
DTSTAMP:20260427T000000Z
UID:48abbab1-f478-4c5b-b19e-649c593a6857@ClaytonBocce
DTSTART;TZID=America/Los_Angeles:20260608T183000
DTEND;TZID=America/Los_Angeles:20260608T210000
STATUS:CONFIRMED
SUMMARY:Sobocceesy vs Pretenders
URL:/League/Schedule/3268
DESCRIPTION:Regular Season match: Sobocceesy vs Pretenders
LOCATION:Baldwin Court 1
END:VEVENT
BEGIN:VEVENT
DTSTAMP:20260427T000000Z
UID:bedef09c-6dce-4c1c-afa5-baf794b2dcc7@ClaytonBocce
DTSTART;TZID=America/Los_Angeles:20260615T183000
DTEND;TZID=America/Los_Angeles:20260615T210000
STATUS:CONFIRMED
SUMMARY:Sobocceesy vs Badda Bocce
URL:/League/Schedule/3268
DESCRIPTION:Regular Season match: Sobocceesy vs Badda Bocce
LOCATION:Baldwin Court 4
END:VEVENT
BEGIN:VEVENT
DTSTAMP:20260427T000000Z
UID:3c9cfa3f-47f8-49a0-acbb-d3201043f9bd@ClaytonBocce
DTSTART;TZID=America/Los_Angeles:20260622T183000
DTEND;TZID=America/Los_Angeles:20260622T210000
STATUS:CONFIRMED
SUMMARY:Sobocceesy vs Kamanawannaleiya
URL:/League/Schedule/3268
DESCRIPTION:Regular Season match: Sobocceesy vs Kamanawannal
 eiya
LOCATION:Baldwin Court 3
END:VEVENT
BEGIN:VEVENT
DTSTAMP:20260427T000000Z
UID:17f76064-13bb-451b-bd76-e9c03f20e7c1@ClaytonBocce
DTSTART;TZID=America/Los_Angeles:20260629T183000
DTEND;TZID=America/Los_Angeles:20260629T210000
STATUS:CONFIRMED
SUMMARY:Sobocceesy vs Wild Bunch
URL:/League/Schedule/3268
DESCRIPTION:Regular Season match: Sobocceesy vs Wild Bunch
LOCATION:Baldwin Court 2
END:VEVENT
BEGIN:VEVENT
DTSTAMP:20260427T000000Z
UID:7f90b4cd-338d-4a0b-9767-099a3a505da7@ClaytonBocce
DTSTART;TZID=America/Los_Angeles:20260713T183000
DTEND;TZID=America/Los_Angeles:20260713T210000
STATUS:CONFIRMED
SUMMARY:Sobocceesy vs Bocce Buds & Babes
URL:/League/Schedule/3268
DESCRIPTION:Regular Season match: Sobocceesy vs Bocce Buds &
  Babes
LOCATION:Baldwin Court 4
END:VEVENT
BEGIN:VEVENT
DTSTAMP:20260427T000000Z
UID:4a2f82c7-5989-46f3-84e9-f449612883d5@ClaytonBocce
DTSTART;TZID=America/Los_Angeles:20260720T183000
DTEND;TZID=America/Los_Angeles:20260720T210000
STATUS:CONFIRMED
SUMMARY:Sobocceesy vs Baldwin Rollers
URL:/League/Schedule/3268
DESCRIPTION:Regular Season match: Sobocceesy vs Baldwin Roll
 ers
LOCATION:Baldwin Court 1
END:VEVENT
BEGIN:VEVENT
DTSTAMP:20260427T000000Z
UID:5ed7a872-3fdf-4a15-bccf-812d7f552f06@ClaytonBocce
DTSTART;TZID=America/Los_Angeles:20260727T183000
DTEND;TZID=America/Los_Angeles:20260727T210000
STATUS:CONFIRMED
SUMMARY:Sobocceesy vs Lovely Bocce Coconuts
URL:/League/Schedule/3268
DESCRIPTION:Regular Season match: Sobocceesy vs Lovely Bocce
  Coconuts
LOCATION:Baldwin Court 2
END:VEVENT
BEGIN:VEVENT
DTSTAMP:20260427T000000Z
UID:b750a89c-1625-43e9-a9df-cb4b060ef59d@ClaytonBocce
DTSTART;TZID=America/Los_Angeles:20260803T183000
DTEND;TZID=America/Los_Angeles:20260803T210000
STATUS:CONFIRMED
SUMMARY:Sobocceesy vs One More Frame
URL:/League/Schedule/3268
DESCRIPTION:Regular Season match: Sobocceesy vs One More Fra
 me
LOCATION:Baldwin Court 3
END:VEVENT
BEGIN:VEVENT
DTSTAMP:20260427T000000Z
UID:227c1a0c-1f23-467d-9018-3cd882c03c93@ClaytonBocce
DTSTART;TZID=America/Los_Angeles:20260817T183000
DTEND;TZID=America/Los_Angeles:20260817T210000
STATUS:CONFIRMED
SUMMARY:Sobocceesy vs Pretenders
URL:/League/Schedule/3268
DESCRIPTION:Regular Season match: Sobocceesy vs Pretenders
LOCATION:Baldwin Court 3
END:VEVENT
BEGIN:VEVENT
DTSTAMP:20260427T000000Z
UID:53173b50-d5bb-44eb-95ad-25094eca950d@ClaytonBocce
DTSTART;TZID=America/Los_Angeles:20260824T183000
DTEND;TZID=America/Los_Angeles:20260824T210000
STATUS:CONFIRMED
SUMMARY:Sobocceesy vs Badda Bocce
URL:/League/Schedule/3268
DESCRIPTION:Regular Season match: Sobocceesy vs Badda Bocce
LOCATION:Baldwin Court 2
END:VEVENT
BEGIN:VEVENT
DTSTAMP:20260427T000000Z
UID:5b12fc27-05ba-4f62-af0f-ede803ed4302@ClaytonBocce
DTSTART;TZID=America/Los_Angeles:20260831T183000
DTEND;TZID=America/Los_Angeles:20260831T210000
STATUS:CONFIRMED
SUMMARY:Sobocceesy vs Kamanawannaleiya
URL:/League/Schedule/3268
DESCRIPTION:Regular Season match: Sobocceesy vs Kamanawannal
 eiya
LOCATION:Baldwin Court 1
END:VEVENT
END:VCALENDAR
