BEGIN:VCALENDAR
VERSION:2.0
PRODID:-//Clayton Bocce League
METHOD:PUBLISH
BEGIN:VTIMEZONE
TZID:America/Los_Angeles
X-LIC-LOCATION:America/Los_Angeles
BEGIN:DAYLIGHT
TZOFFSETFROM:-0800
TZOFFSETTO:-0700
TZNAME:PDT
DTSTART:20070311T020000
RRULE:FREQ=YEARLY;BYMONTH=3;BYDAY=2SU
END:DAYLIGHT
BEGIN:STANDARD
TZOFFSETFROM:-0700
TZOFFSETTO:-0800
TZNAME:PST
DTSTART:20071104T020000
RRULE:FREQ=YEARLY;BYMONTH=11;BYDAY=1SU
END:STANDARD
END:VTIMEZONE
BEGIN:VEVENT
DTSTAMP:20260427T000000Z
UID:ea6eb125-3b53-4862-be5b-f7c7e4d59752@ClaytonBocce
DTSTART;TZID=America/Los_Angeles:20260427T183000
DTEND;TZID=America/Los_Angeles:20260427T210000
STATUS:CONFIRMED
SUMMARY:Wild Bunch vs Sobocceesy
URL:/League/Schedule/3266
DESCRIPTION:Regular Season match: Wild Bunch vs Sobocceesy
LOCATION:Baldwin Court 4
END:VEVENT
BEGIN:VEVENT
DTSTAMP:20260427T000000Z
UID:711c3b99-f9ee-4f9c-bc3e-02c99245f158@ClaytonBocce
DTSTART;TZID=America/Los_Angeles:20260504T183000
DTEND;TZID=America/Los_Angeles:20260504T210000
STATUS:CONFIRMED
SUMMARY:Wild Bunch vs Pretenders
URL:/League/Schedule/3266
DESCRIPTION:Regular Season match: Wild Bunch vs Pretenders
LOCATION:Baldwin Court 1
END:VEVENT
BEGIN:VEVENT
DTSTAMP:20260427T000000Z
UID:7923ca48-ea37-4425-b129-b638dabc49f5@ClaytonBocce
DTSTART;TZID=America/Los_Angeles:20260511T183000
DTEND;TZID=America/Los_Angeles:20260511T210000
STATUS:CONFIRMED
SUMMARY:Wild Bunch vs Badda Bocce
URL:/League/Schedule/3266
DESCRIPTION:Regular Season match: Wild Bunch vs Badda Bocce
LOCATION:Baldwin Court 2
END:VEVENT
BEGIN:VEVENT
DTSTAMP:20260427T000000Z
UID:098006b1-cc51-4f58-a703-95f35ab82219@ClaytonBocce
DTSTART;TZID=America/Los_Angeles:20260518T183000
DTEND;TZID=America/Los_Angeles:20260518T210000
STATUS:CONFIRMED
SUMMARY:Wild Bunch vs Kamanawannaleiya
URL:/League/Schedule/3266
DESCRIPTION:Regular Season match: Wild Bunch vs Kamanawannal
 eiya
LOCATION:Baldwin Court 3
END:VEVENT
BEGIN:VEVENT
DTSTAMP:20260427T000000Z
UID:01620d11-cf3c-4a23-8338-2e45d435cfd7@ClaytonBocce
DTSTART;TZID=America/Los_Angeles:20260601T183000
DTEND;TZID=America/Los_Angeles:20260601T210000
STATUS:CONFIRMED
SUMMARY:Wild Bunch vs Bocce Buds & Babes
URL:/League/Schedule/3266
DESCRIPTION:Regular Season match: Wild Bunch vs Bocce Buds &
  Babes
LOCATION:Baldwin Court 3
END:VEVENT
BEGIN:VEVENT
DTSTAMP:20260427T000000Z
UID:6d34f71b-e227-4575-93b9-012dd2a4648b@ClaytonBocce
DTSTART;TZID=America/Los_Angeles:20260608T183000
DTEND;TZID=America/Los_Angeles:20260608T210000
STATUS:CONFIRMED
SUMMARY:Wild Bunch vs Baldwin Rollers
URL:/League/Schedule/3266
DESCRIPTION:Regular Season match: Wild Bunch vs Baldwin Roll
 ers
LOCATION:Baldwin Court 2
END:VEVENT
BEGIN:VEVENT
DTSTAMP:20260427T000000Z
UID:50618261-19e2-4a0b-b80b-72fd1caaffc2@ClaytonBocce
DTSTART;TZID=America/Los_Angeles:20260615T183000
DTEND;TZID=America/Los_Angeles:20260615T210000
STATUS:CONFIRMED
SUMMARY:Wild Bunch vs Lovely Bocce Coconuts
URL:/League/Schedule/3266
DESCRIPTION:Regular Season match: Wild Bunch vs Lovely Bocce
  Coconuts
LOCATION:Baldwin Court 1
END:VEVENT
BEGIN:VEVENT
DTSTAMP:20260427T000000Z
UID:e17e747d-4d89-41a6-a468-7e6fd98f0a83@ClaytonBocce
DTSTART;TZID=America/Los_Angeles:20260622T183000
DTEND;TZID=America/Los_Angeles:20260622T210000
STATUS:CONFIRMED
SUMMARY:Wild Bunch vs One More Frame
URL:/League/Schedule/3266
DESCRIPTION:Regular Season match: Wild Bunch vs One More Fra
 me
LOCATION:Baldwin Court 4
END:VEVENT
BEGIN:VEVENT
DTSTAMP:20260427T000000Z
UID:17f76064-13bb-451b-bd76-e9c03f20e7c1@ClaytonBocce
DTSTART;TZID=America/Los_Angeles:20260629T183000
DTEND;TZID=America/Los_Angeles:20260629T210000
STATUS:CONFIRMED
SUMMARY:Wild Bunch vs Sobocceesy
URL:/League/Schedule/3266
DESCRIPTION:Regular Season match: Wild Bunch vs Sobocceesy
LOCATION:Baldwin Court 2
END:VEVENT
BEGIN:VEVENT
DTSTAMP:20260427T000000Z
UID:b77c66d2-a761-4983-8da1-fe1f4d009629@ClaytonBocce
DTSTART;TZID=America/Los_Angeles:20260713T183000
DTEND;TZID=America/Los_Angeles:20260713T210000
STATUS:CONFIRMED
SUMMARY:Wild Bunch vs Pretenders
URL:/League/Schedule/3266
DESCRIPTION:Regular Season match: Wild Bunch vs Pretenders
LOCATION:Baldwin Court 3
END:VEVENT
BEGIN:VEVENT
DTSTAMP:20260427T000000Z
UID:29750088-badf-4603-b3dc-eade0237b7a3@ClaytonBocce
DTSTART;TZID=America/Los_Angeles:20260720T183000
DTEND;TZID=America/Los_Angeles:20260720T210000
STATUS:CONFIRMED
SUMMARY:Wild Bunch vs Badda Bocce
URL:/League/Schedule/3266
DESCRIPTION:Regular Season match: Wild Bunch vs Badda Bocce
LOCATION:Baldwin Court 4
END:VEVENT
BEGIN:VEVENT
DTSTAMP:20260427T000000Z
UID:50beb565-eb57-40f9-ad82-2a327dcb379c@ClaytonBocce
DTSTART;TZID=America/Los_Angeles:20260727T183000
DTEND;TZID=America/Los_Angeles:20260727T210000
STATUS:CONFIRMED
SUMMARY:Wild Bunch vs Kamanawannaleiya
URL:/League/Schedule/3266
DESCRIPTION:Regular Season match: Wild Bunch vs Kamanawannal
 eiya
LOCATION:Baldwin Court 1
END:VEVENT
BEGIN:VEVENT
DTSTAMP:20260427T000000Z
UID:e19feab1-5f59-4d8d-ae9f-7a6a4917d240@ClaytonBocce
DTSTART;TZID=America/Los_Angeles:20260810T183000
DTEND;TZID=America/Los_Angeles:20260810T210000
STATUS:CONFIRMED
SUMMARY:Wild Bunch vs Bocce Buds & Babes
URL:/League/Schedule/3266
DESCRIPTION:Regular Season match: Wild Bunch vs Bocce Buds &
  Babes
LOCATION:Baldwin Court 1
END:VEVENT
BEGIN:VEVENT
DTSTAMP:20260427T000000Z
UID:cdfc1175-1be7-4266-9ab3-ae8539380f09@ClaytonBocce
DTSTART;TZID=America/Los_Angeles:20260817T183000
DTEND;TZID=America/Los_Angeles:20260817T210000
STATUS:CONFIRMED
SUMMARY:Wild Bunch vs Baldwin Rollers
URL:/League/Schedule/3266
DESCRIPTION:Regular Season match: Wild Bunch vs Baldwin Roll
 ers
LOCATION:Baldwin Court 4
END:VEVENT
BEGIN:VEVENT
DTSTAMP:20260427T000000Z
UID:287d3d28-523b-4ff1-b3d6-9c4775d6fa2a@ClaytonBocce
DTSTART;TZID=America/Los_Angeles:20260824T183000
DTEND;TZID=America/Los_Angeles:20260824T210000
STATUS:CONFIRMED
SUMMARY:Wild Bunch vs Lovely Bocce Coconuts
URL:/League/Schedule/3266
DESCRIPTION:Regular Season match: Wild Bunch vs Lovely Bocce
  Coconuts
LOCATION:Baldwin Court 3
END:VEVENT
BEGIN:VEVENT
DTSTAMP:20260427T000000Z
UID:ec5d30d8-e873-42a6-b629-2c878430412e@ClaytonBocce
DTSTART;TZID=America/Los_Angeles:20260831T183000
DTEND;TZID=America/Los_Angeles:20260831T210000
STATUS:CONFIRMED
SUMMARY:Wild Bunch vs One More Frame
URL:/League/Schedule/3266
DESCRIPTION:Regular Season match: Wild Bunch vs One More Fra
 me
LOCATION:Baldwin Court 2
END:VEVENT
END:VCALENDAR
