BEGIN:VCALENDAR
VERSION:2.0
PRODID:-//Clayton Bocce League
METHOD:PUBLISH
BEGIN:VTIMEZONE
TZID:America/Los_Angeles
X-LIC-LOCATION:America/Los_Angeles
BEGIN:DAYLIGHT
TZOFFSETFROM:-0800
TZOFFSETTO:-0700
TZNAME:PDT
DTSTART:20070311T020000
RRULE:FREQ=YEARLY;BYMONTH=3;BYDAY=2SU
END:DAYLIGHT
BEGIN:STANDARD
TZOFFSETFROM:-0700
TZOFFSETTO:-0800
TZNAME:PST
DTSTART:20071104T020000
RRULE:FREQ=YEARLY;BYMONTH=11;BYDAY=1SU
END:STANDARD
END:VTIMEZONE
BEGIN:VEVENT
DTSTAMP:20260427T000000Z
UID:fc285b98-292b-40e7-bd48-8a30ded16f61@ClaytonBocce
DTSTART;TZID=America/Los_Angeles:20260504T183000
DTEND;TZID=America/Los_Angeles:20260504T210000
STATUS:CONFIRMED
SUMMARY:Badda Bocce vs Kamanawannaleiya
URL:/League/Schedule/3271
DESCRIPTION:Regular Season match: Badda Bocce vs Kamanawanna
 leiya
LOCATION:Baldwin Court 3
END:VEVENT
BEGIN:VEVENT
DTSTAMP:20260427T000000Z
UID:7923ca48-ea37-4425-b129-b638dabc49f5@ClaytonBocce
DTSTART;TZID=America/Los_Angeles:20260511T183000
DTEND;TZID=America/Los_Angeles:20260511T210000
STATUS:CONFIRMED
SUMMARY:Badda Bocce vs Wild Bunch
URL:/League/Schedule/3271
DESCRIPTION:Regular Season match: Badda Bocce vs Wild Bunch
LOCATION:Baldwin Court 2
END:VEVENT
BEGIN:VEVENT
DTSTAMP:20260427T000000Z
UID:4486004f-78f1-406c-81a3-2a4405db58d3@ClaytonBocce
DTSTART;TZID=America/Los_Angeles:20260518T183000
DTEND;TZID=America/Los_Angeles:20260518T210000
STATUS:CONFIRMED
SUMMARY:Badda Bocce vs Bocce Buds & Babes
URL:/League/Schedule/3271
DESCRIPTION:Regular Season match: Badda Bocce vs Bocce Buds 
 & Babes
LOCATION:Baldwin Court 1
END:VEVENT
BEGIN:VEVENT
DTSTAMP:20260427T000000Z
UID:0dd03063-6bf1-43c0-b4ed-e050652dd308@ClaytonBocce
DTSTART;TZID=America/Los_Angeles:20260525T183000
DTEND;TZID=America/Los_Angeles:20260525T210000
STATUS:CONFIRMED
SUMMARY:Badda Bocce vs Baldwin Rollers
URL:/League/Schedule/3271
DESCRIPTION:Regular Season match: Badda Bocce vs Baldwin Rol
 lers
LOCATION:Baldwin Court 4
END:VEVENT
BEGIN:VEVENT
DTSTAMP:20260427T000000Z
UID:3204cc39-c086-4979-af61-2606919420b4@ClaytonBocce
DTSTART;TZID=America/Los_Angeles:20260601T183000
DTEND;TZID=America/Los_Angeles:20260601T210000
STATUS:CONFIRMED
SUMMARY:Badda Bocce vs Lovely Bocce Coconuts
URL:/League/Schedule/3271
DESCRIPTION:Regular Season match: Badda Bocce vs Lovely Bocc
 e Coconuts
LOCATION:Baldwin Court 2
END:VEVENT
BEGIN:VEVENT
DTSTAMP:20260427T000000Z
UID:d4a979ef-e494-4a40-bd65-afc4ad1de34e@ClaytonBocce
DTSTART;TZID=America/Los_Angeles:20260608T183000
DTEND;TZID=America/Los_Angeles:20260608T210000
STATUS:CONFIRMED
SUMMARY:Badda Bocce vs One More Frame
URL:/League/Schedule/3271
DESCRIPTION:Regular Season match: Badda Bocce vs One More Fr
 ame
LOCATION:Baldwin Court 3
END:VEVENT
BEGIN:VEVENT
DTSTAMP:20260427T000000Z
UID:bedef09c-6dce-4c1c-afa5-baf794b2dcc7@ClaytonBocce
DTSTART;TZID=America/Los_Angeles:20260615T183000
DTEND;TZID=America/Los_Angeles:20260615T210000
STATUS:CONFIRMED
SUMMARY:Badda Bocce vs Sobocceesy
URL:/League/Schedule/3271
DESCRIPTION:Regular Season match: Badda Bocce vs Sobocceesy
LOCATION:Baldwin Court 4
END:VEVENT
BEGIN:VEVENT
DTSTAMP:20260427T000000Z
UID:cbee3f5b-4c58-460a-9186-5b7bcfc1fefb@ClaytonBocce
DTSTART;TZID=America/Los_Angeles:20260622T183000
DTEND;TZID=America/Los_Angeles:20260622T210000
STATUS:CONFIRMED
SUMMARY:Badda Bocce vs Pretenders
URL:/League/Schedule/3271
DESCRIPTION:Regular Season match: Badda Bocce vs Pretenders
LOCATION:Baldwin Court 1
END:VEVENT
BEGIN:VEVENT
DTSTAMP:20260427T000000Z
UID:2a182b65-f5ca-4465-a756-216caa1ae539@ClaytonBocce
DTSTART;TZID=America/Los_Angeles:20260713T183000
DTEND;TZID=America/Los_Angeles:20260713T210000
STATUS:CONFIRMED
SUMMARY:Badda Bocce vs Kamanawannaleiya
URL:/League/Schedule/3271
DESCRIPTION:Regular Season match: Badda Bocce vs Kamanawanna
 leiya
LOCATION:Baldwin Court 1
END:VEVENT
BEGIN:VEVENT
DTSTAMP:20260427T000000Z
UID:29750088-badf-4603-b3dc-eade0237b7a3@ClaytonBocce
DTSTART;TZID=America/Los_Angeles:20260720T183000
DTEND;TZID=America/Los_Angeles:20260720T210000
STATUS:CONFIRMED
SUMMARY:Badda Bocce vs Wild Bunch
URL:/League/Schedule/3271
DESCRIPTION:Regular Season match: Badda Bocce vs Wild Bunch
LOCATION:Baldwin Court 4
END:VEVENT
BEGIN:VEVENT
DTSTAMP:20260427T000000Z
UID:ce7305e3-aefb-4093-adb1-a2fe98ccf2b1@ClaytonBocce
DTSTART;TZID=America/Los_Angeles:20260727T183000
DTEND;TZID=America/Los_Angeles:20260727T210000
STATUS:CONFIRMED
SUMMARY:Badda Bocce vs Bocce Buds & Babes
URL:/League/Schedule/3271
DESCRIPTION:Regular Season match: Badda Bocce vs Bocce Buds 
 & Babes
LOCATION:Baldwin Court 3
END:VEVENT
BEGIN:VEVENT
DTSTAMP:20260427T000000Z
UID:48d83a6b-6edc-4084-bd72-621b9da72b11@ClaytonBocce
DTSTART;TZID=America/Los_Angeles:20260803T183000
DTEND;TZID=America/Los_Angeles:20260803T210000
STATUS:CONFIRMED
SUMMARY:Badda Bocce vs Baldwin Rollers
URL:/League/Schedule/3271
DESCRIPTION:Regular Season match: Badda Bocce vs Baldwin Rol
 lers
LOCATION:Baldwin Court 2
END:VEVENT
BEGIN:VEVENT
DTSTAMP:20260427T000000Z
UID:7c902839-e71a-4019-8d7e-6d5debc0cf6d@ClaytonBocce
DTSTART;TZID=America/Los_Angeles:20260810T183000
DTEND;TZID=America/Los_Angeles:20260810T210000
STATUS:CONFIRMED
SUMMARY:Badda Bocce vs Lovely Bocce Coconuts
URL:/League/Schedule/3271
DESCRIPTION:Regular Season match: Badda Bocce vs Lovely Bocc
 e Coconuts
LOCATION:Baldwin Court 4
END:VEVENT
BEGIN:VEVENT
DTSTAMP:20260427T000000Z
UID:f9322c36-fd0a-444b-aba7-7e9b46060205@ClaytonBocce
DTSTART;TZID=America/Los_Angeles:20260817T183000
DTEND;TZID=America/Los_Angeles:20260817T210000
STATUS:CONFIRMED
SUMMARY:Badda Bocce vs One More Frame
URL:/League/Schedule/3271
DESCRIPTION:Regular Season match: Badda Bocce vs One More Fr
 ame
LOCATION:Baldwin Court 1
END:VEVENT
BEGIN:VEVENT
DTSTAMP:20260427T000000Z
UID:53173b50-d5bb-44eb-95ad-25094eca950d@ClaytonBocce
DTSTART;TZID=America/Los_Angeles:20260824T183000
DTEND;TZID=America/Los_Angeles:20260824T210000
STATUS:CONFIRMED
SUMMARY:Badda Bocce vs Sobocceesy
URL:/League/Schedule/3271
DESCRIPTION:Regular Season match: Badda Bocce vs Sobocceesy
LOCATION:Baldwin Court 2
END:VEVENT
BEGIN:VEVENT
DTSTAMP:20260427T000000Z
UID:7eb8b3c1-47d3-4550-8c2e-320d6beb12d4@ClaytonBocce
DTSTART;TZID=America/Los_Angeles:20260831T183000
DTEND;TZID=America/Los_Angeles:20260831T210000
STATUS:CONFIRMED
SUMMARY:Badda Bocce vs Pretenders
URL:/League/Schedule/3271
DESCRIPTION:Regular Season match: Badda Bocce vs Pretenders
LOCATION:Baldwin Court 3
END:VEVENT
END:VCALENDAR
