BEGIN:VCALENDAR
VERSION:2.0
PRODID:-//Clayton Bocce League
METHOD:PUBLISH
BEGIN:VTIMEZONE
TZID:America/Los_Angeles
X-LIC-LOCATION:America/Los_Angeles
BEGIN:DAYLIGHT
TZOFFSETFROM:-0800
TZOFFSETTO:-0700
TZNAME:PDT
DTSTART:20070311T020000
RRULE:FREQ=YEARLY;BYMONTH=3;BYDAY=2SU
END:DAYLIGHT
BEGIN:STANDARD
TZOFFSETFROM:-0700
TZOFFSETTO:-0800
TZNAME:PST
DTSTART:20071104T020000
RRULE:FREQ=YEARLY;BYMONTH=11;BYDAY=1SU
END:STANDARD
END:VTIMEZONE
BEGIN:VEVENT
DTSTAMP:20260427T000000Z
UID:59f19b21-c82b-48bf-821a-01c3d207f7f0@ClaytonBocce
DTSTART;TZID=America/Los_Angeles:20260427T183000
DTEND;TZID=America/Los_Angeles:20260427T210000
STATUS:CONFIRMED
SUMMARY:One More Frame vs Bocce Buds & Babes
URL:/League/Schedule/3270
DESCRIPTION:Regular Season match: One More Frame vs Bocce Bu
 ds & Babes
LOCATION:Baldwin Court 3
END:VEVENT
BEGIN:VEVENT
DTSTAMP:20260427T000000Z
UID:1f255ef0-892d-4e73-8c84-3138761c61ef@ClaytonBocce
DTSTART;TZID=America/Los_Angeles:20260504T183000
DTEND;TZID=America/Los_Angeles:20260504T210000
STATUS:CONFIRMED
SUMMARY:One More Frame vs Baldwin Rollers
URL:/League/Schedule/3270
DESCRIPTION:Regular Season match: One More Frame vs Baldwin 
 Rollers
LOCATION:Baldwin Court 4
END:VEVENT
BEGIN:VEVENT
DTSTAMP:20260427T000000Z
UID:0ed535ef-8149-462b-bf48-67c7dd77d369@ClaytonBocce
DTSTART;TZID=America/Los_Angeles:20260511T183000
DTEND;TZID=America/Los_Angeles:20260511T210000
STATUS:CONFIRMED
SUMMARY:One More Frame vs Lovely Bocce Coconuts
URL:/League/Schedule/3270
DESCRIPTION:Regular Season match: One More Frame vs Lovely B
 occe Coconuts
LOCATION:Baldwin Court 1
END:VEVENT
BEGIN:VEVENT
DTSTAMP:20260427T000000Z
UID:a42a7bb5-5428-4a14-b043-d65b7c81d695@ClaytonBocce
DTSTART;TZID=America/Los_Angeles:20260525T183000
DTEND;TZID=America/Los_Angeles:20260525T210000
STATUS:CONFIRMED
SUMMARY:One More Frame vs Sobocceesy
URL:/League/Schedule/3270
DESCRIPTION:Regular Season match: One More Frame vs Soboccee
 sy
LOCATION:Baldwin Court 1
END:VEVENT
BEGIN:VEVENT
DTSTAMP:20260427T000000Z
UID:b3a0a3fd-23ad-44ab-9403-653c190c25c8@ClaytonBocce
DTSTART;TZID=America/Los_Angeles:20260601T183000
DTEND;TZID=America/Los_Angeles:20260601T210000
STATUS:CONFIRMED
SUMMARY:One More Frame vs Pretenders
URL:/League/Schedule/3270
DESCRIPTION:Regular Season match: One More Frame vs Pretende
 rs
LOCATION:Baldwin Court 4
END:VEVENT
BEGIN:VEVENT
DTSTAMP:20260427T000000Z
UID:d4a979ef-e494-4a40-bd65-afc4ad1de34e@ClaytonBocce
DTSTART;TZID=America/Los_Angeles:20260608T183000
DTEND;TZID=America/Los_Angeles:20260608T210000
STATUS:CONFIRMED
SUMMARY:One More Frame vs Badda Bocce
URL:/League/Schedule/3270
DESCRIPTION:Regular Season match: One More Frame vs Badda Bo
 cce
LOCATION:Baldwin Court 3
END:VEVENT
BEGIN:VEVENT
DTSTAMP:20260427T000000Z
UID:239f2c1e-ab79-40aa-87f5-1a81a744032a@ClaytonBocce
DTSTART;TZID=America/Los_Angeles:20260615T183000
DTEND;TZID=America/Los_Angeles:20260615T210000
STATUS:CONFIRMED
SUMMARY:One More Frame vs Kamanawannaleiya
URL:/League/Schedule/3270
DESCRIPTION:Regular Season match: One More Frame vs Kamanawa
 nnaleiya
LOCATION:Baldwin Court 2
END:VEVENT
BEGIN:VEVENT
DTSTAMP:20260427T000000Z
UID:e17e747d-4d89-41a6-a468-7e6fd98f0a83@ClaytonBocce
DTSTART;TZID=America/Los_Angeles:20260622T183000
DTEND;TZID=America/Los_Angeles:20260622T210000
STATUS:CONFIRMED
SUMMARY:One More Frame vs Wild Bunch
URL:/League/Schedule/3270
DESCRIPTION:Regular Season match: One More Frame vs Wild Bun
 ch
LOCATION:Baldwin Court 4
END:VEVENT
BEGIN:VEVENT
DTSTAMP:20260427T000000Z
UID:3e6359c2-4b28-40cc-bdbc-b4213b2ff632@ClaytonBocce
DTSTART;TZID=America/Los_Angeles:20260629T183000
DTEND;TZID=America/Los_Angeles:20260629T210000
STATUS:CONFIRMED
SUMMARY:One More Frame vs Bocce Buds & Babes
URL:/League/Schedule/3270
DESCRIPTION:Regular Season match: One More Frame vs Bocce Bu
 ds & Babes
LOCATION:Baldwin Court 1
END:VEVENT
BEGIN:VEVENT
DTSTAMP:20260427T000000Z
UID:27d58fd8-d5a2-4cb0-8cd2-a97f504c8f7a@ClaytonBocce
DTSTART;TZID=America/Los_Angeles:20260713T183000
DTEND;TZID=America/Los_Angeles:20260713T210000
STATUS:CONFIRMED
SUMMARY:One More Frame vs Baldwin Rollers
URL:/League/Schedule/3270
DESCRIPTION:Regular Season match: One More Frame vs Baldwin 
 Rollers
LOCATION:Baldwin Court 2
END:VEVENT
BEGIN:VEVENT
DTSTAMP:20260427T000000Z
UID:b3d53a2f-c7f4-4701-a44b-55dc1899bcf8@ClaytonBocce
DTSTART;TZID=America/Los_Angeles:20260720T183000
DTEND;TZID=America/Los_Angeles:20260720T210000
STATUS:CONFIRMED
SUMMARY:One More Frame vs Lovely Bocce Coconuts
URL:/League/Schedule/3270
DESCRIPTION:Regular Season match: One More Frame vs Lovely B
 occe Coconuts
LOCATION:Baldwin Court 3
END:VEVENT
BEGIN:VEVENT
DTSTAMP:20260427T000000Z
UID:b750a89c-1625-43e9-a9df-cb4b060ef59d@ClaytonBocce
DTSTART;TZID=America/Los_Angeles:20260803T183000
DTEND;TZID=America/Los_Angeles:20260803T210000
STATUS:CONFIRMED
SUMMARY:One More Frame vs Sobocceesy
URL:/League/Schedule/3270
DESCRIPTION:Regular Season match: One More Frame vs Soboccee
 sy
LOCATION:Baldwin Court 3
END:VEVENT
BEGIN:VEVENT
DTSTAMP:20260427T000000Z
UID:91008abb-f7e5-4ee0-9ab7-9aa27939e2f1@ClaytonBocce
DTSTART;TZID=America/Los_Angeles:20260810T183000
DTEND;TZID=America/Los_Angeles:20260810T210000
STATUS:CONFIRMED
SUMMARY:One More Frame vs Pretenders
URL:/League/Schedule/3270
DESCRIPTION:Regular Season match: One More Frame vs Pretende
 rs
LOCATION:Baldwin Court 2
END:VEVENT
BEGIN:VEVENT
DTSTAMP:20260427T000000Z
UID:f9322c36-fd0a-444b-aba7-7e9b46060205@ClaytonBocce
DTSTART;TZID=America/Los_Angeles:20260817T183000
DTEND;TZID=America/Los_Angeles:20260817T210000
STATUS:CONFIRMED
SUMMARY:One More Frame vs Badda Bocce
URL:/League/Schedule/3270
DESCRIPTION:Regular Season match: One More Frame vs Badda Bo
 cce
LOCATION:Baldwin Court 1
END:VEVENT
BEGIN:VEVENT
DTSTAMP:20260427T000000Z
UID:1456ca48-44cf-4a8e-90eb-957c480821a7@ClaytonBocce
DTSTART;TZID=America/Los_Angeles:20260824T183000
DTEND;TZID=America/Los_Angeles:20260824T210000
STATUS:CONFIRMED
SUMMARY:One More Frame vs Kamanawannaleiya
URL:/League/Schedule/3270
DESCRIPTION:Regular Season match: One More Frame vs Kamanawa
 nnaleiya
LOCATION:Baldwin Court 4
END:VEVENT
BEGIN:VEVENT
DTSTAMP:20260427T000000Z
UID:ec5d30d8-e873-42a6-b629-2c878430412e@ClaytonBocce
DTSTART;TZID=America/Los_Angeles:20260831T183000
DTEND;TZID=America/Los_Angeles:20260831T210000
STATUS:CONFIRMED
SUMMARY:One More Frame vs Wild Bunch
URL:/League/Schedule/3270
DESCRIPTION:Regular Season match: One More Frame vs Wild Bun
 ch
LOCATION:Baldwin Court 2
END:VEVENT
END:VCALENDAR
