BEGIN:VCALENDAR
VERSION:2.0
PRODID:-//Clayton Bocce League
METHOD:PUBLISH
BEGIN:VTIMEZONE
TZID:America/Los_Angeles
X-LIC-LOCATION:America/Los_Angeles
BEGIN:DAYLIGHT
TZOFFSETFROM:-0800
TZOFFSETTO:-0700
TZNAME:PDT
DTSTART:20070311T020000
RRULE:FREQ=YEARLY;BYMONTH=3;BYDAY=2SU
END:DAYLIGHT
BEGIN:STANDARD
TZOFFSETFROM:-0700
TZOFFSETTO:-0800
TZNAME:PST
DTSTART:20071104T020000
RRULE:FREQ=YEARLY;BYMONTH=11;BYDAY=1SU
END:STANDARD
END:VTIMEZONE
BEGIN:VEVENT
DTSTAMP:20260427T000000Z
UID:59f19b21-c82b-48bf-821a-01c3d207f7f0@ClaytonBocce
DTSTART;TZID=America/Los_Angeles:20260427T183000
DTEND;TZID=America/Los_Angeles:20260427T210000
STATUS:CONFIRMED
SUMMARY:Bocce Buds & Babes vs One More Frame
URL:/League/Schedule/3264
DESCRIPTION:Regular Season match: Bocce Buds & Babes vs One 
 More Frame
LOCATION:Baldwin Court 3
END:VEVENT
BEGIN:VEVENT
DTSTAMP:20260427T000000Z
UID:ff7f8d28-f4df-4331-8f34-74d3cd8e5056@ClaytonBocce
DTSTART;TZID=America/Los_Angeles:20260504T183000
DTEND;TZID=America/Los_Angeles:20260504T210000
STATUS:CONFIRMED
SUMMARY:Bocce Buds & Babes vs Sobocceesy
URL:/League/Schedule/3264
DESCRIPTION:Regular Season match: Bocce Buds & Babes vs Sobo
 cceesy
LOCATION:Baldwin Court 2
END:VEVENT
BEGIN:VEVENT
DTSTAMP:20260427T000000Z
UID:c91b522e-244e-4375-883a-4f09002b09dc@ClaytonBocce
DTSTART;TZID=America/Los_Angeles:20260511T183000
DTEND;TZID=America/Los_Angeles:20260511T210000
STATUS:CONFIRMED
SUMMARY:Bocce Buds & Babes vs Pretenders
URL:/League/Schedule/3264
DESCRIPTION:Regular Season match: Bocce Buds & Babes vs Pret
 enders
LOCATION:Baldwin Court 4
END:VEVENT
BEGIN:VEVENT
DTSTAMP:20260427T000000Z
UID:4486004f-78f1-406c-81a3-2a4405db58d3@ClaytonBocce
DTSTART;TZID=America/Los_Angeles:20260518T183000
DTEND;TZID=America/Los_Angeles:20260518T210000
STATUS:CONFIRMED
SUMMARY:Bocce Buds & Babes vs Badda Bocce
URL:/League/Schedule/3264
DESCRIPTION:Regular Season match: Bocce Buds & Babes vs Badd
 a Bocce
LOCATION:Baldwin Court 1
END:VEVENT
BEGIN:VEVENT
DTSTAMP:20260427T000000Z
UID:e9b5dff7-9479-4da0-aee9-e945c43251ef@ClaytonBocce
DTSTART;TZID=America/Los_Angeles:20260525T183000
DTEND;TZID=America/Los_Angeles:20260525T210000
STATUS:CONFIRMED
SUMMARY:Bocce Buds & Babes vs Kamanawannaleiya
URL:/League/Schedule/3264
DESCRIPTION:Regular Season match: Bocce Buds & Babes vs Kama
 nawannaleiya
LOCATION:Baldwin Court 2
END:VEVENT
BEGIN:VEVENT
DTSTAMP:20260427T000000Z
UID:01620d11-cf3c-4a23-8338-2e45d435cfd7@ClaytonBocce
DTSTART;TZID=America/Los_Angeles:20260601T183000
DTEND;TZID=America/Los_Angeles:20260601T210000
STATUS:CONFIRMED
SUMMARY:Bocce Buds & Babes vs Wild Bunch
URL:/League/Schedule/3264
DESCRIPTION:Regular Season match: Bocce Buds & Babes vs Wild
  Bunch
LOCATION:Baldwin Court 3
END:VEVENT
BEGIN:VEVENT
DTSTAMP:20260427T000000Z
UID:e5545270-fd5d-400c-8a10-a5fe8fd3100e@ClaytonBocce
DTSTART;TZID=America/Los_Angeles:20260615T183000
DTEND;TZID=America/Los_Angeles:20260615T210000
STATUS:CONFIRMED
SUMMARY:Bocce Buds & Babes vs Baldwin Rollers
URL:/League/Schedule/3264
DESCRIPTION:Regular Season match: Bocce Buds & Babes vs Bald
 win Rollers
LOCATION:Baldwin Court 3
END:VEVENT
BEGIN:VEVENT
DTSTAMP:20260427T000000Z
UID:5947c610-e92c-40b5-8a5e-c46cdf451c6e@ClaytonBocce
DTSTART;TZID=America/Los_Angeles:20260622T183000
DTEND;TZID=America/Los_Angeles:20260622T210000
STATUS:CONFIRMED
SUMMARY:Bocce Buds & Babes vs Lovely Bocce Coconuts
URL:/League/Schedule/3264
DESCRIPTION:Regular Season match: Bocce Buds & Babes vs Love
 ly Bocce Coconuts
LOCATION:Baldwin Court 2
END:VEVENT
BEGIN:VEVENT
DTSTAMP:20260427T000000Z
UID:3e6359c2-4b28-40cc-bdbc-b4213b2ff632@ClaytonBocce
DTSTART;TZID=America/Los_Angeles:20260629T183000
DTEND;TZID=America/Los_Angeles:20260629T210000
STATUS:CONFIRMED
SUMMARY:Bocce Buds & Babes vs One More Frame
URL:/League/Schedule/3264
DESCRIPTION:Regular Season match: Bocce Buds & Babes vs One 
 More Frame
LOCATION:Baldwin Court 1
END:VEVENT
BEGIN:VEVENT
DTSTAMP:20260427T000000Z
UID:7f90b4cd-338d-4a0b-9767-099a3a505da7@ClaytonBocce
DTSTART;TZID=America/Los_Angeles:20260713T183000
DTEND;TZID=America/Los_Angeles:20260713T210000
STATUS:CONFIRMED
SUMMARY:Bocce Buds & Babes vs Sobocceesy
URL:/League/Schedule/3264
DESCRIPTION:Regular Season match: Bocce Buds & Babes vs Sobo
 cceesy
LOCATION:Baldwin Court 4
END:VEVENT
BEGIN:VEVENT
DTSTAMP:20260427T000000Z
UID:7a6d07c9-5693-4617-b767-c769c1146b22@ClaytonBocce
DTSTART;TZID=America/Los_Angeles:20260720T183000
DTEND;TZID=America/Los_Angeles:20260720T210000
STATUS:CONFIRMED
SUMMARY:Bocce Buds & Babes vs Pretenders
URL:/League/Schedule/3264
DESCRIPTION:Regular Season match: Bocce Buds & Babes vs Pret
 enders
LOCATION:Baldwin Court 2
END:VEVENT
BEGIN:VEVENT
DTSTAMP:20260427T000000Z
UID:ce7305e3-aefb-4093-adb1-a2fe98ccf2b1@ClaytonBocce
DTSTART;TZID=America/Los_Angeles:20260727T183000
DTEND;TZID=America/Los_Angeles:20260727T210000
STATUS:CONFIRMED
SUMMARY:Bocce Buds & Babes vs Badda Bocce
URL:/League/Schedule/3264
DESCRIPTION:Regular Season match: Bocce Buds & Babes vs Badd
 a Bocce
LOCATION:Baldwin Court 3
END:VEVENT
BEGIN:VEVENT
DTSTAMP:20260427T000000Z
UID:3d9f2fc0-4ac8-4bb0-9139-14a334344aa0@ClaytonBocce
DTSTART;TZID=America/Los_Angeles:20260803T183000
DTEND;TZID=America/Los_Angeles:20260803T210000
STATUS:CONFIRMED
SUMMARY:Bocce Buds & Babes vs Kamanawannaleiya
URL:/League/Schedule/3264
DESCRIPTION:Regular Season match: Bocce Buds & Babes vs Kama
 nawannaleiya
LOCATION:Baldwin Court 4
END:VEVENT
BEGIN:VEVENT
DTSTAMP:20260427T000000Z
UID:e19feab1-5f59-4d8d-ae9f-7a6a4917d240@ClaytonBocce
DTSTART;TZID=America/Los_Angeles:20260810T183000
DTEND;TZID=America/Los_Angeles:20260810T210000
STATUS:CONFIRMED
SUMMARY:Bocce Buds & Babes vs Wild Bunch
URL:/League/Schedule/3264
DESCRIPTION:Regular Season match: Bocce Buds & Babes vs Wild
  Bunch
LOCATION:Baldwin Court 1
END:VEVENT
BEGIN:VEVENT
DTSTAMP:20260427T000000Z
UID:d87f62a8-4970-4fce-9761-d57f3ab5516a@ClaytonBocce
DTSTART;TZID=America/Los_Angeles:20260824T183000
DTEND;TZID=America/Los_Angeles:20260824T210000
STATUS:CONFIRMED
SUMMARY:Bocce Buds & Babes vs Baldwin Rollers
URL:/League/Schedule/3264
DESCRIPTION:Regular Season match: Bocce Buds & Babes vs Bald
 win Rollers
LOCATION:Baldwin Court 1
END:VEVENT
BEGIN:VEVENT
DTSTAMP:20260427T000000Z
UID:39f9c9a4-b824-4c06-b297-3c35908bc877@ClaytonBocce
DTSTART;TZID=America/Los_Angeles:20260831T183000
DTEND;TZID=America/Los_Angeles:20260831T210000
STATUS:CONFIRMED
SUMMARY:Bocce Buds & Babes vs Lovely Bocce Coconuts
URL:/League/Schedule/3264
DESCRIPTION:Regular Season match: Bocce Buds & Babes vs Love
 ly Bocce Coconuts
LOCATION:Baldwin Court 4
END:VEVENT
END:VCALENDAR
