BEGIN:VCALENDAR
VERSION:2.0
PRODID:-//Clayton Bocce League
METHOD:PUBLISH
BEGIN:VTIMEZONE
TZID:America/Los_Angeles
X-LIC-LOCATION:America/Los_Angeles
BEGIN:DAYLIGHT
TZOFFSETFROM:-0800
TZOFFSETTO:-0700
TZNAME:PDT
DTSTART:20070311T020000
RRULE:FREQ=YEARLY;BYMONTH=3;BYDAY=2SU
END:DAYLIGHT
BEGIN:STANDARD
TZOFFSETFROM:-0700
TZOFFSETTO:-0800
TZNAME:PST
DTSTART:20071104T020000
RRULE:FREQ=YEARLY;BYMONTH=11;BYDAY=1SU
END:STANDARD
END:VTIMEZONE
BEGIN:VEVENT
DTSTAMP:20260427T000000Z
UID:923e17b1-ccb0-47e1-9b8f-f15457117f80@ClaytonBocce
DTSTART;TZID=America/Los_Angeles:20260427T183000
DTEND;TZID=America/Los_Angeles:20260427T210000
STATUS:CONFIRMED
SUMMARY:Kamanawannaleiya vs Pretenders
URL:/League/Schedule/3265
DESCRIPTION:Regular Season match: Kamanawannaleiya vs Preten
 ders
LOCATION:Baldwin Court 2
END:VEVENT
BEGIN:VEVENT
DTSTAMP:20260427T000000Z
UID:fc285b98-292b-40e7-bd48-8a30ded16f61@ClaytonBocce
DTSTART;TZID=America/Los_Angeles:20260504T183000
DTEND;TZID=America/Los_Angeles:20260504T210000
STATUS:CONFIRMED
SUMMARY:Kamanawannaleiya vs Badda Bocce
URL:/League/Schedule/3265
DESCRIPTION:Regular Season match: Kamanawannaleiya vs Badda 
 Bocce
LOCATION:Baldwin Court 3
END:VEVENT
BEGIN:VEVENT
DTSTAMP:20260427T000000Z
UID:098006b1-cc51-4f58-a703-95f35ab82219@ClaytonBocce
DTSTART;TZID=America/Los_Angeles:20260518T183000
DTEND;TZID=America/Los_Angeles:20260518T210000
STATUS:CONFIRMED
SUMMARY:Kamanawannaleiya vs Wild Bunch
URL:/League/Schedule/3265
DESCRIPTION:Regular Season match: Kamanawannaleiya vs Wild B
 unch
LOCATION:Baldwin Court 3
END:VEVENT
BEGIN:VEVENT
DTSTAMP:20260427T000000Z
UID:e9b5dff7-9479-4da0-aee9-e945c43251ef@ClaytonBocce
DTSTART;TZID=America/Los_Angeles:20260525T183000
DTEND;TZID=America/Los_Angeles:20260525T210000
STATUS:CONFIRMED
SUMMARY:Kamanawannaleiya vs Bocce Buds & Babes
URL:/League/Schedule/3265
DESCRIPTION:Regular Season match: Kamanawannaleiya vs Bocce 
 Buds & Babes
LOCATION:Baldwin Court 2
END:VEVENT
BEGIN:VEVENT
DTSTAMP:20260427T000000Z
UID:0c468158-3d96-44dc-aef0-c079fe52987e@ClaytonBocce
DTSTART;TZID=America/Los_Angeles:20260601T183000
DTEND;TZID=America/Los_Angeles:20260601T210000
STATUS:CONFIRMED
SUMMARY:Kamanawannaleiya vs Baldwin Rollers
URL:/League/Schedule/3265
DESCRIPTION:Regular Season match: Kamanawannaleiya vs Baldwi
 n Rollers
LOCATION:Baldwin Court 1
END:VEVENT
BEGIN:VEVENT
DTSTAMP:20260427T000000Z
UID:01fcf48b-dd9f-4051-a17f-2f5f44f90a1a@ClaytonBocce
DTSTART;TZID=America/Los_Angeles:20260608T183000
DTEND;TZID=America/Los_Angeles:20260608T210000
STATUS:CONFIRMED
SUMMARY:Kamanawannaleiya vs Lovely Bocce Coconuts
URL:/League/Schedule/3265
DESCRIPTION:Regular Season match: Kamanawannaleiya vs Lovely
  Bocce Coconuts
LOCATION:Baldwin Court 4
END:VEVENT
BEGIN:VEVENT
DTSTAMP:20260427T000000Z
UID:239f2c1e-ab79-40aa-87f5-1a81a744032a@ClaytonBocce
DTSTART;TZID=America/Los_Angeles:20260615T183000
DTEND;TZID=America/Los_Angeles:20260615T210000
STATUS:CONFIRMED
SUMMARY:Kamanawannaleiya vs One More Frame
URL:/League/Schedule/3265
DESCRIPTION:Regular Season match: Kamanawannaleiya vs One Mo
 re Frame
LOCATION:Baldwin Court 2
END:VEVENT
BEGIN:VEVENT
DTSTAMP:20260427T000000Z
UID:3c9cfa3f-47f8-49a0-acbb-d3201043f9bd@ClaytonBocce
DTSTART;TZID=America/Los_Angeles:20260622T183000
DTEND;TZID=America/Los_Angeles:20260622T210000
STATUS:CONFIRMED
SUMMARY:Kamanawannaleiya vs Sobocceesy
URL:/League/Schedule/3265
DESCRIPTION:Regular Season match: Kamanawannaleiya vs Sobocc
 eesy
LOCATION:Baldwin Court 3
END:VEVENT
BEGIN:VEVENT
DTSTAMP:20260427T000000Z
UID:dad6e677-56d8-4d7f-ab2a-789e333f1328@ClaytonBocce
DTSTART;TZID=America/Los_Angeles:20260629T183000
DTEND;TZID=America/Los_Angeles:20260629T210000
STATUS:CONFIRMED
SUMMARY:Kamanawannaleiya vs Pretenders
URL:/League/Schedule/3265
DESCRIPTION:Regular Season match: Kamanawannaleiya vs Preten
 ders
LOCATION:Baldwin Court 4
END:VEVENT
BEGIN:VEVENT
DTSTAMP:20260427T000000Z
UID:2a182b65-f5ca-4465-a756-216caa1ae539@ClaytonBocce
DTSTART;TZID=America/Los_Angeles:20260713T183000
DTEND;TZID=America/Los_Angeles:20260713T210000
STATUS:CONFIRMED
SUMMARY:Kamanawannaleiya vs Badda Bocce
URL:/League/Schedule/3265
DESCRIPTION:Regular Season match: Kamanawannaleiya vs Badda 
 Bocce
LOCATION:Baldwin Court 1
END:VEVENT
BEGIN:VEVENT
DTSTAMP:20260427T000000Z
UID:50beb565-eb57-40f9-ad82-2a327dcb379c@ClaytonBocce
DTSTART;TZID=America/Los_Angeles:20260727T183000
DTEND;TZID=America/Los_Angeles:20260727T210000
STATUS:CONFIRMED
SUMMARY:Kamanawannaleiya vs Wild Bunch
URL:/League/Schedule/3265
DESCRIPTION:Regular Season match: Kamanawannaleiya vs Wild B
 unch
LOCATION:Baldwin Court 1
END:VEVENT
BEGIN:VEVENT
DTSTAMP:20260427T000000Z
UID:3d9f2fc0-4ac8-4bb0-9139-14a334344aa0@ClaytonBocce
DTSTART;TZID=America/Los_Angeles:20260803T183000
DTEND;TZID=America/Los_Angeles:20260803T210000
STATUS:CONFIRMED
SUMMARY:Kamanawannaleiya vs Bocce Buds & Babes
URL:/League/Schedule/3265
DESCRIPTION:Regular Season match: Kamanawannaleiya vs Bocce 
 Buds & Babes
LOCATION:Baldwin Court 4
END:VEVENT
BEGIN:VEVENT
DTSTAMP:20260427T000000Z
UID:04e5368d-c216-4bf8-8f5f-70c7341df0ff@ClaytonBocce
DTSTART;TZID=America/Los_Angeles:20260810T183000
DTEND;TZID=America/Los_Angeles:20260810T210000
STATUS:CONFIRMED
SUMMARY:Kamanawannaleiya vs Baldwin Rollers
URL:/League/Schedule/3265
DESCRIPTION:Regular Season match: Kamanawannaleiya vs Baldwi
 n Rollers
LOCATION:Baldwin Court 3
END:VEVENT
BEGIN:VEVENT
DTSTAMP:20260427T000000Z
UID:e0ce2c8e-0380-4227-b9ae-2634357555c2@ClaytonBocce
DTSTART;TZID=America/Los_Angeles:20260817T183000
DTEND;TZID=America/Los_Angeles:20260817T210000
STATUS:CONFIRMED
SUMMARY:Kamanawannaleiya vs Lovely Bocce Coconuts
URL:/League/Schedule/3265
DESCRIPTION:Regular Season match: Kamanawannaleiya vs Lovely
  Bocce Coconuts
LOCATION:Baldwin Court 2
END:VEVENT
BEGIN:VEVENT
DTSTAMP:20260427T000000Z
UID:1456ca48-44cf-4a8e-90eb-957c480821a7@ClaytonBocce
DTSTART;TZID=America/Los_Angeles:20260824T183000
DTEND;TZID=America/Los_Angeles:20260824T210000
STATUS:CONFIRMED
SUMMARY:Kamanawannaleiya vs One More Frame
URL:/League/Schedule/3265
DESCRIPTION:Regular Season match: Kamanawannaleiya vs One Mo
 re Frame
LOCATION:Baldwin Court 4
END:VEVENT
BEGIN:VEVENT
DTSTAMP:20260427T000000Z
UID:5b12fc27-05ba-4f62-af0f-ede803ed4302@ClaytonBocce
DTSTART;TZID=America/Los_Angeles:20260831T183000
DTEND;TZID=America/Los_Angeles:20260831T210000
STATUS:CONFIRMED
SUMMARY:Kamanawannaleiya vs Sobocceesy
URL:/League/Schedule/3265
DESCRIPTION:Regular Season match: Kamanawannaleiya vs Sobocc
 eesy
LOCATION:Baldwin Court 1
END:VEVENT
END:VCALENDAR
