BEGIN:VCALENDAR
VERSION:2.0
PRODID:-//Clayton Bocce League
METHOD:PUBLISH
BEGIN:VTIMEZONE
TZID:America/Los_Angeles
X-LIC-LOCATION:America/Los_Angeles
BEGIN:DAYLIGHT
TZOFFSETFROM:-0800
TZOFFSETTO:-0700
TZNAME:PDT
DTSTART:20070311T020000
RRULE:FREQ=YEARLY;BYMONTH=3;BYDAY=2SU
END:DAYLIGHT
BEGIN:STANDARD
TZOFFSETFROM:-0700
TZOFFSETTO:-0800
TZNAME:PST
DTSTART:20071104T020000
RRULE:FREQ=YEARLY;BYMONTH=11;BYDAY=1SU
END:STANDARD
END:VTIMEZONE
BEGIN:VEVENT
DTSTAMP:20260427T000000Z
UID:923e17b1-ccb0-47e1-9b8f-f15457117f80@ClaytonBocce
DTSTART;TZID=America/Los_Angeles:20260427T183000
DTEND;TZID=America/Los_Angeles:20260427T210000
STATUS:CONFIRMED
SUMMARY:Pretenders vs Kamanawannaleiya
URL:/League/Schedule/3263
DESCRIPTION:Regular Season match: Pretenders vs Kamanawannal
 eiya
LOCATION:Baldwin Court 2
END:VEVENT
BEGIN:VEVENT
DTSTAMP:20260427T000000Z
UID:711c3b99-f9ee-4f9c-bc3e-02c99245f158@ClaytonBocce
DTSTART;TZID=America/Los_Angeles:20260504T183000
DTEND;TZID=America/Los_Angeles:20260504T210000
STATUS:CONFIRMED
SUMMARY:Pretenders vs Wild Bunch
URL:/League/Schedule/3263
DESCRIPTION:Regular Season match: Pretenders vs Wild Bunch
LOCATION:Baldwin Court 1
END:VEVENT
BEGIN:VEVENT
DTSTAMP:20260427T000000Z
UID:c91b522e-244e-4375-883a-4f09002b09dc@ClaytonBocce
DTSTART;TZID=America/Los_Angeles:20260511T183000
DTEND;TZID=America/Los_Angeles:20260511T210000
STATUS:CONFIRMED
SUMMARY:Pretenders vs Bocce Buds & Babes
URL:/League/Schedule/3263
DESCRIPTION:Regular Season match: Pretenders vs Bocce Buds &
  Babes
LOCATION:Baldwin Court 4
END:VEVENT
BEGIN:VEVENT
DTSTAMP:20260427T000000Z
UID:b5cfeb5f-f9e9-44da-9883-8e69dde75aa6@ClaytonBocce
DTSTART;TZID=America/Los_Angeles:20260518T183000
DTEND;TZID=America/Los_Angeles:20260518T210000
STATUS:CONFIRMED
SUMMARY:Pretenders vs Baldwin Rollers
URL:/League/Schedule/3263
DESCRIPTION:Regular Season match: Pretenders vs Baldwin Roll
 ers
LOCATION:Baldwin Court 2
END:VEVENT
BEGIN:VEVENT
DTSTAMP:20260427T000000Z
UID:a3dbd389-a501-4296-8014-af95ce4826aa@ClaytonBocce
DTSTART;TZID=America/Los_Angeles:20260525T183000
DTEND;TZID=America/Los_Angeles:20260525T210000
STATUS:CONFIRMED
SUMMARY:Pretenders vs Lovely Bocce Coconuts
URL:/League/Schedule/3263
DESCRIPTION:Regular Season match: Pretenders vs Lovely Bocce
  Coconuts
LOCATION:Baldwin Court 3
END:VEVENT
BEGIN:VEVENT
DTSTAMP:20260427T000000Z
UID:b3a0a3fd-23ad-44ab-9403-653c190c25c8@ClaytonBocce
DTSTART;TZID=America/Los_Angeles:20260601T183000
DTEND;TZID=America/Los_Angeles:20260601T210000
STATUS:CONFIRMED
SUMMARY:Pretenders vs One More Frame
URL:/League/Schedule/3263
DESCRIPTION:Regular Season match: Pretenders vs One More Fra
 me
LOCATION:Baldwin Court 4
END:VEVENT
BEGIN:VEVENT
DTSTAMP:20260427T000000Z
UID:48abbab1-f478-4c5b-b19e-649c593a6857@ClaytonBocce
DTSTART;TZID=America/Los_Angeles:20260608T183000
DTEND;TZID=America/Los_Angeles:20260608T210000
STATUS:CONFIRMED
SUMMARY:Pretenders vs Sobocceesy
URL:/League/Schedule/3263
DESCRIPTION:Regular Season match: Pretenders vs Sobocceesy
LOCATION:Baldwin Court 1
END:VEVENT
BEGIN:VEVENT
DTSTAMP:20260427T000000Z
UID:cbee3f5b-4c58-460a-9186-5b7bcfc1fefb@ClaytonBocce
DTSTART;TZID=America/Los_Angeles:20260622T183000
DTEND;TZID=America/Los_Angeles:20260622T210000
STATUS:CONFIRMED
SUMMARY:Pretenders vs Badda Bocce
URL:/League/Schedule/3263
DESCRIPTION:Regular Season match: Pretenders vs Badda Bocce
LOCATION:Baldwin Court 1
END:VEVENT
BEGIN:VEVENT
DTSTAMP:20260427T000000Z
UID:dad6e677-56d8-4d7f-ab2a-789e333f1328@ClaytonBocce
DTSTART;TZID=America/Los_Angeles:20260629T183000
DTEND;TZID=America/Los_Angeles:20260629T210000
STATUS:CONFIRMED
SUMMARY:Pretenders vs Kamanawannaleiya
URL:/League/Schedule/3263
DESCRIPTION:Regular Season match: Pretenders vs Kamanawannal
 eiya
LOCATION:Baldwin Court 4
END:VEVENT
BEGIN:VEVENT
DTSTAMP:20260427T000000Z
UID:b77c66d2-a761-4983-8da1-fe1f4d009629@ClaytonBocce
DTSTART;TZID=America/Los_Angeles:20260713T183000
DTEND;TZID=America/Los_Angeles:20260713T210000
STATUS:CONFIRMED
SUMMARY:Pretenders vs Wild Bunch
URL:/League/Schedule/3263
DESCRIPTION:Regular Season match: Pretenders vs Wild Bunch
LOCATION:Baldwin Court 3
END:VEVENT
BEGIN:VEVENT
DTSTAMP:20260427T000000Z
UID:7a6d07c9-5693-4617-b767-c769c1146b22@ClaytonBocce
DTSTART;TZID=America/Los_Angeles:20260720T183000
DTEND;TZID=America/Los_Angeles:20260720T210000
STATUS:CONFIRMED
SUMMARY:Pretenders vs Bocce Buds & Babes
URL:/League/Schedule/3263
DESCRIPTION:Regular Season match: Pretenders vs Bocce Buds &
  Babes
LOCATION:Baldwin Court 2
END:VEVENT
BEGIN:VEVENT
DTSTAMP:20260427T000000Z
UID:c613f1bd-8035-4a18-8261-3a98c0b00c58@ClaytonBocce
DTSTART;TZID=America/Los_Angeles:20260727T183000
DTEND;TZID=America/Los_Angeles:20260727T210000
STATUS:CONFIRMED
SUMMARY:Pretenders vs Baldwin Rollers
URL:/League/Schedule/3263
DESCRIPTION:Regular Season match: Pretenders vs Baldwin Roll
 ers
LOCATION:Baldwin Court 4
END:VEVENT
BEGIN:VEVENT
DTSTAMP:20260427T000000Z
UID:a365de10-c812-4517-af69-0cadcc643a27@ClaytonBocce
DTSTART;TZID=America/Los_Angeles:20260803T183000
DTEND;TZID=America/Los_Angeles:20260803T210000
STATUS:CONFIRMED
SUMMARY:Pretenders vs Lovely Bocce Coconuts
URL:/League/Schedule/3263
DESCRIPTION:Regular Season match: Pretenders vs Lovely Bocce
  Coconuts
LOCATION:Baldwin Court 1
END:VEVENT
BEGIN:VEVENT
DTSTAMP:20260427T000000Z
UID:91008abb-f7e5-4ee0-9ab7-9aa27939e2f1@ClaytonBocce
DTSTART;TZID=America/Los_Angeles:20260810T183000
DTEND;TZID=America/Los_Angeles:20260810T210000
STATUS:CONFIRMED
SUMMARY:Pretenders vs One More Frame
URL:/League/Schedule/3263
DESCRIPTION:Regular Season match: Pretenders vs One More Fra
 me
LOCATION:Baldwin Court 2
END:VEVENT
BEGIN:VEVENT
DTSTAMP:20260427T000000Z
UID:227c1a0c-1f23-467d-9018-3cd882c03c93@ClaytonBocce
DTSTART;TZID=America/Los_Angeles:20260817T183000
DTEND;TZID=America/Los_Angeles:20260817T210000
STATUS:CONFIRMED
SUMMARY:Pretenders vs Sobocceesy
URL:/League/Schedule/3263
DESCRIPTION:Regular Season match: Pretenders vs Sobocceesy
LOCATION:Baldwin Court 3
END:VEVENT
BEGIN:VEVENT
DTSTAMP:20260427T000000Z
UID:7eb8b3c1-47d3-4550-8c2e-320d6beb12d4@ClaytonBocce
DTSTART;TZID=America/Los_Angeles:20260831T183000
DTEND;TZID=America/Los_Angeles:20260831T210000
STATUS:CONFIRMED
SUMMARY:Pretenders vs Badda Bocce
URL:/League/Schedule/3263
DESCRIPTION:Regular Season match: Pretenders vs Badda Bocce
LOCATION:Baldwin Court 3
END:VEVENT
END:VCALENDAR
