BEGIN:VCALENDAR
VERSION:2.0
PRODID:-//Clayton Bocce League
METHOD:PUBLISH
BEGIN:VTIMEZONE
TZID:America/Los_Angeles
X-LIC-LOCATION:America/Los_Angeles
BEGIN:DAYLIGHT
TZOFFSETFROM:-0800
TZOFFSETTO:-0700
TZNAME:PDT
DTSTART:20070311T020000
RRULE:FREQ=YEARLY;BYMONTH=3;BYDAY=2SU
END:DAYLIGHT
BEGIN:STANDARD
TZOFFSETFROM:-0700
TZOFFSETTO:-0800
TZNAME:PST
DTSTART:20071104T020000
RRULE:FREQ=YEARLY;BYMONTH=11;BYDAY=1SU
END:STANDARD
END:VTIMEZONE
BEGIN:VEVENT
DTSTAMP:20260427T000000Z
UID:775d7c5d-4e1a-436d-8890-a5d935740916@ClaytonBocce
DTSTART;TZID=America/Los_Angeles:20260427T183000
DTEND;TZID=America/Los_Angeles:20260427T210000
STATUS:CONFIRMED
SUMMARY:Lovely Bocce Coconuts vs Baldwin Rollers
URL:/League/Schedule/3269
DESCRIPTION:Regular Season match: Lovely Bocce Coconuts vs B
 aldwin Rollers
LOCATION:Baldwin Court 1
END:VEVENT
BEGIN:VEVENT
DTSTAMP:20260427T000000Z
UID:0ed535ef-8149-462b-bf48-67c7dd77d369@ClaytonBocce
DTSTART;TZID=America/Los_Angeles:20260511T183000
DTEND;TZID=America/Los_Angeles:20260511T210000
STATUS:CONFIRMED
SUMMARY:Lovely Bocce Coconuts vs One More Frame
URL:/League/Schedule/3269
DESCRIPTION:Regular Season match: Lovely Bocce Coconuts vs O
 ne More Frame
LOCATION:Baldwin Court 1
END:VEVENT
BEGIN:VEVENT
DTSTAMP:20260427T000000Z
UID:cd7f3ed3-6e1d-434b-b6a2-87d213b4c52c@ClaytonBocce
DTSTART;TZID=America/Los_Angeles:20260518T183000
DTEND;TZID=America/Los_Angeles:20260518T210000
STATUS:CONFIRMED
SUMMARY:Lovely Bocce Coconuts vs Sobocceesy
URL:/League/Schedule/3269
DESCRIPTION:Regular Season match: Lovely Bocce Coconuts vs S
 obocceesy
LOCATION:Baldwin Court 4
END:VEVENT
BEGIN:VEVENT
DTSTAMP:20260427T000000Z
UID:a3dbd389-a501-4296-8014-af95ce4826aa@ClaytonBocce
DTSTART;TZID=America/Los_Angeles:20260525T183000
DTEND;TZID=America/Los_Angeles:20260525T210000
STATUS:CONFIRMED
SUMMARY:Lovely Bocce Coconuts vs Pretenders
URL:/League/Schedule/3269
DESCRIPTION:Regular Season match: Lovely Bocce Coconuts vs P
 retenders
LOCATION:Baldwin Court 3
END:VEVENT
BEGIN:VEVENT
DTSTAMP:20260427T000000Z
UID:3204cc39-c086-4979-af61-2606919420b4@ClaytonBocce
DTSTART;TZID=America/Los_Angeles:20260601T183000
DTEND;TZID=America/Los_Angeles:20260601T210000
STATUS:CONFIRMED
SUMMARY:Lovely Bocce Coconuts vs Badda Bocce
URL:/League/Schedule/3269
DESCRIPTION:Regular Season match: Lovely Bocce Coconuts vs B
 adda Bocce
LOCATION:Baldwin Court 2
END:VEVENT
BEGIN:VEVENT
DTSTAMP:20260427T000000Z
UID:01fcf48b-dd9f-4051-a17f-2f5f44f90a1a@ClaytonBocce
DTSTART;TZID=America/Los_Angeles:20260608T183000
DTEND;TZID=America/Los_Angeles:20260608T210000
STATUS:CONFIRMED
SUMMARY:Lovely Bocce Coconuts vs Kamanawannaleiya
URL:/League/Schedule/3269
DESCRIPTION:Regular Season match: Lovely Bocce Coconuts vs K
 amanawannaleiya
LOCATION:Baldwin Court 4
END:VEVENT
BEGIN:VEVENT
DTSTAMP:20260427T000000Z
UID:50618261-19e2-4a0b-b80b-72fd1caaffc2@ClaytonBocce
DTSTART;TZID=America/Los_Angeles:20260615T183000
DTEND;TZID=America/Los_Angeles:20260615T210000
STATUS:CONFIRMED
SUMMARY:Lovely Bocce Coconuts vs Wild Bunch
URL:/League/Schedule/3269
DESCRIPTION:Regular Season match: Lovely Bocce Coconuts vs W
 ild Bunch
LOCATION:Baldwin Court 1
END:VEVENT
BEGIN:VEVENT
DTSTAMP:20260427T000000Z
UID:5947c610-e92c-40b5-8a5e-c46cdf451c6e@ClaytonBocce
DTSTART;TZID=America/Los_Angeles:20260622T183000
DTEND;TZID=America/Los_Angeles:20260622T210000
STATUS:CONFIRMED
SUMMARY:Lovely Bocce Coconuts vs Bocce Buds & Babes
URL:/League/Schedule/3269
DESCRIPTION:Regular Season match: Lovely Bocce Coconuts vs B
 occe Buds & Babes
LOCATION:Baldwin Court 2
END:VEVENT
BEGIN:VEVENT
DTSTAMP:20260427T000000Z
UID:be5b9180-0985-4a5e-add2-c6bee28bc301@ClaytonBocce
DTSTART;TZID=America/Los_Angeles:20260629T183000
DTEND;TZID=America/Los_Angeles:20260629T210000
STATUS:CONFIRMED
SUMMARY:Lovely Bocce Coconuts vs Baldwin Rollers
URL:/League/Schedule/3269
DESCRIPTION:Regular Season match: Lovely Bocce Coconuts vs B
 aldwin Rollers
LOCATION:Baldwin Court 3
END:VEVENT
BEGIN:VEVENT
DTSTAMP:20260427T000000Z
UID:b3d53a2f-c7f4-4701-a44b-55dc1899bcf8@ClaytonBocce
DTSTART;TZID=America/Los_Angeles:20260720T183000
DTEND;TZID=America/Los_Angeles:20260720T210000
STATUS:CONFIRMED
SUMMARY:Lovely Bocce Coconuts vs One More Frame
URL:/League/Schedule/3269
DESCRIPTION:Regular Season match: Lovely Bocce Coconuts vs O
 ne More Frame
LOCATION:Baldwin Court 3
END:VEVENT
BEGIN:VEVENT
DTSTAMP:20260427T000000Z
UID:5ed7a872-3fdf-4a15-bccf-812d7f552f06@ClaytonBocce
DTSTART;TZID=America/Los_Angeles:20260727T183000
DTEND;TZID=America/Los_Angeles:20260727T210000
STATUS:CONFIRMED
SUMMARY:Lovely Bocce Coconuts vs Sobocceesy
URL:/League/Schedule/3269
DESCRIPTION:Regular Season match: Lovely Bocce Coconuts vs S
 obocceesy
LOCATION:Baldwin Court 2
END:VEVENT
BEGIN:VEVENT
DTSTAMP:20260427T000000Z
UID:a365de10-c812-4517-af69-0cadcc643a27@ClaytonBocce
DTSTART;TZID=America/Los_Angeles:20260803T183000
DTEND;TZID=America/Los_Angeles:20260803T210000
STATUS:CONFIRMED
SUMMARY:Lovely Bocce Coconuts vs Pretenders
URL:/League/Schedule/3269
DESCRIPTION:Regular Season match: Lovely Bocce Coconuts vs P
 retenders
LOCATION:Baldwin Court 1
END:VEVENT
BEGIN:VEVENT
DTSTAMP:20260427T000000Z
UID:7c902839-e71a-4019-8d7e-6d5debc0cf6d@ClaytonBocce
DTSTART;TZID=America/Los_Angeles:20260810T183000
DTEND;TZID=America/Los_Angeles:20260810T210000
STATUS:CONFIRMED
SUMMARY:Lovely Bocce Coconuts vs Badda Bocce
URL:/League/Schedule/3269
DESCRIPTION:Regular Season match: Lovely Bocce Coconuts vs B
 adda Bocce
LOCATION:Baldwin Court 4
END:VEVENT
BEGIN:VEVENT
DTSTAMP:20260427T000000Z
UID:e0ce2c8e-0380-4227-b9ae-2634357555c2@ClaytonBocce
DTSTART;TZID=America/Los_Angeles:20260817T183000
DTEND;TZID=America/Los_Angeles:20260817T210000
STATUS:CONFIRMED
SUMMARY:Lovely Bocce Coconuts vs Kamanawannaleiya
URL:/League/Schedule/3269
DESCRIPTION:Regular Season match: Lovely Bocce Coconuts vs K
 amanawannaleiya
LOCATION:Baldwin Court 2
END:VEVENT
BEGIN:VEVENT
DTSTAMP:20260427T000000Z
UID:287d3d28-523b-4ff1-b3d6-9c4775d6fa2a@ClaytonBocce
DTSTART;TZID=America/Los_Angeles:20260824T183000
DTEND;TZID=America/Los_Angeles:20260824T210000
STATUS:CONFIRMED
SUMMARY:Lovely Bocce Coconuts vs Wild Bunch
URL:/League/Schedule/3269
DESCRIPTION:Regular Season match: Lovely Bocce Coconuts vs W
 ild Bunch
LOCATION:Baldwin Court 3
END:VEVENT
BEGIN:VEVENT
DTSTAMP:20260427T000000Z
UID:39f9c9a4-b824-4c06-b297-3c35908bc877@ClaytonBocce
DTSTART;TZID=America/Los_Angeles:20260831T183000
DTEND;TZID=America/Los_Angeles:20260831T210000
STATUS:CONFIRMED
SUMMARY:Lovely Bocce Coconuts vs Bocce Buds & Babes
URL:/League/Schedule/3269
DESCRIPTION:Regular Season match: Lovely Bocce Coconuts vs B
 occe Buds & Babes
LOCATION:Baldwin Court 4
END:VEVENT
END:VCALENDAR
