BEGIN:VCALENDAR
VERSION:2.0
PRODID:-//Clayton Bocce League
METHOD:PUBLISH
BEGIN:VTIMEZONE
TZID:America/Los_Angeles
X-LIC-LOCATION:America/Los_Angeles
BEGIN:DAYLIGHT
TZOFFSETFROM:-0800
TZOFFSETTO:-0700
TZNAME:PDT
DTSTART:20070311T020000
RRULE:FREQ=YEARLY;BYMONTH=3;BYDAY=2SU
END:DAYLIGHT
BEGIN:STANDARD
TZOFFSETFROM:-0700
TZOFFSETTO:-0800
TZNAME:PST
DTSTART:20071104T020000
RRULE:FREQ=YEARLY;BYMONTH=11;BYDAY=1SU
END:STANDARD
END:VTIMEZONE
BEGIN:VEVENT
DTSTAMP:20260427T000000Z
UID:775d7c5d-4e1a-436d-8890-a5d935740916@ClaytonBocce
DTSTART;TZID=America/Los_Angeles:20260427T183000
DTEND;TZID=America/Los_Angeles:20260427T210000
STATUS:CONFIRMED
SUMMARY:Baldwin Rollers vs Lovely Bocce Coconuts
URL:/League/Schedule/3267
DESCRIPTION:Regular Season match: Baldwin Rollers vs Lovely 
 Bocce Coconuts
LOCATION:Baldwin Court 1
END:VEVENT
BEGIN:VEVENT
DTSTAMP:20260427T000000Z
UID:1f255ef0-892d-4e73-8c84-3138761c61ef@ClaytonBocce
DTSTART;TZID=America/Los_Angeles:20260504T183000
DTEND;TZID=America/Los_Angeles:20260504T210000
STATUS:CONFIRMED
SUMMARY:Baldwin Rollers vs One More Frame
URL:/League/Schedule/3267
DESCRIPTION:Regular Season match: Baldwin Rollers vs One Mor
 e Frame
LOCATION:Baldwin Court 4
END:VEVENT
BEGIN:VEVENT
DTSTAMP:20260427T000000Z
UID:72c5b973-bb96-4270-a7bb-937c61f2811f@ClaytonBocce
DTSTART;TZID=America/Los_Angeles:20260511T183000
DTEND;TZID=America/Los_Angeles:20260511T210000
STATUS:CONFIRMED
SUMMARY:Baldwin Rollers vs Sobocceesy
URL:/League/Schedule/3267
DESCRIPTION:Regular Season match: Baldwin Rollers vs Sobocce
 esy
LOCATION:Baldwin Court 3
END:VEVENT
BEGIN:VEVENT
DTSTAMP:20260427T000000Z
UID:b5cfeb5f-f9e9-44da-9883-8e69dde75aa6@ClaytonBocce
DTSTART;TZID=America/Los_Angeles:20260518T183000
DTEND;TZID=America/Los_Angeles:20260518T210000
STATUS:CONFIRMED
SUMMARY:Baldwin Rollers vs Pretenders
URL:/League/Schedule/3267
DESCRIPTION:Regular Season match: Baldwin Rollers vs Pretend
 ers
LOCATION:Baldwin Court 2
END:VEVENT
BEGIN:VEVENT
DTSTAMP:20260427T000000Z
UID:0dd03063-6bf1-43c0-b4ed-e050652dd308@ClaytonBocce
DTSTART;TZID=America/Los_Angeles:20260525T183000
DTEND;TZID=America/Los_Angeles:20260525T210000
STATUS:CONFIRMED
SUMMARY:Baldwin Rollers vs Badda Bocce
URL:/League/Schedule/3267
DESCRIPTION:Regular Season match: Baldwin Rollers vs Badda B
 occe
LOCATION:Baldwin Court 4
END:VEVENT
BEGIN:VEVENT
DTSTAMP:20260427T000000Z
UID:0c468158-3d96-44dc-aef0-c079fe52987e@ClaytonBocce
DTSTART;TZID=America/Los_Angeles:20260601T183000
DTEND;TZID=America/Los_Angeles:20260601T210000
STATUS:CONFIRMED
SUMMARY:Baldwin Rollers vs Kamanawannaleiya
URL:/League/Schedule/3267
DESCRIPTION:Regular Season match: Baldwin Rollers vs Kamanaw
 annaleiya
LOCATION:Baldwin Court 1
END:VEVENT
BEGIN:VEVENT
DTSTAMP:20260427T000000Z
UID:6d34f71b-e227-4575-93b9-012dd2a4648b@ClaytonBocce
DTSTART;TZID=America/Los_Angeles:20260608T183000
DTEND;TZID=America/Los_Angeles:20260608T210000
STATUS:CONFIRMED
SUMMARY:Baldwin Rollers vs Wild Bunch
URL:/League/Schedule/3267
DESCRIPTION:Regular Season match: Baldwin Rollers vs Wild Bu
 nch
LOCATION:Baldwin Court 2
END:VEVENT
BEGIN:VEVENT
DTSTAMP:20260427T000000Z
UID:e5545270-fd5d-400c-8a10-a5fe8fd3100e@ClaytonBocce
DTSTART;TZID=America/Los_Angeles:20260615T183000
DTEND;TZID=America/Los_Angeles:20260615T210000
STATUS:CONFIRMED
SUMMARY:Baldwin Rollers vs Bocce Buds & Babes
URL:/League/Schedule/3267
DESCRIPTION:Regular Season match: Baldwin Rollers vs Bocce B
 uds & Babes
LOCATION:Baldwin Court 3
END:VEVENT
BEGIN:VEVENT
DTSTAMP:20260427T000000Z
UID:be5b9180-0985-4a5e-add2-c6bee28bc301@ClaytonBocce
DTSTART;TZID=America/Los_Angeles:20260629T183000
DTEND;TZID=America/Los_Angeles:20260629T210000
STATUS:CONFIRMED
SUMMARY:Baldwin Rollers vs Lovely Bocce Coconuts
URL:/League/Schedule/3267
DESCRIPTION:Regular Season match: Baldwin Rollers vs Lovely 
 Bocce Coconuts
LOCATION:Baldwin Court 3
END:VEVENT
BEGIN:VEVENT
DTSTAMP:20260427T000000Z
UID:27d58fd8-d5a2-4cb0-8cd2-a97f504c8f7a@ClaytonBocce
DTSTART;TZID=America/Los_Angeles:20260713T183000
DTEND;TZID=America/Los_Angeles:20260713T210000
STATUS:CONFIRMED
SUMMARY:Baldwin Rollers vs One More Frame
URL:/League/Schedule/3267
DESCRIPTION:Regular Season match: Baldwin Rollers vs One Mor
 e Frame
LOCATION:Baldwin Court 2
END:VEVENT
BEGIN:VEVENT
DTSTAMP:20260427T000000Z
UID:4a2f82c7-5989-46f3-84e9-f449612883d5@ClaytonBocce
DTSTART;TZID=America/Los_Angeles:20260720T183000
DTEND;TZID=America/Los_Angeles:20260720T210000
STATUS:CONFIRMED
SUMMARY:Baldwin Rollers vs Sobocceesy
URL:/League/Schedule/3267
DESCRIPTION:Regular Season match: Baldwin Rollers vs Sobocce
 esy
LOCATION:Baldwin Court 1
END:VEVENT
BEGIN:VEVENT
DTSTAMP:20260427T000000Z
UID:c613f1bd-8035-4a18-8261-3a98c0b00c58@ClaytonBocce
DTSTART;TZID=America/Los_Angeles:20260727T183000
DTEND;TZID=America/Los_Angeles:20260727T210000
STATUS:CONFIRMED
SUMMARY:Baldwin Rollers vs Pretenders
URL:/League/Schedule/3267
DESCRIPTION:Regular Season match: Baldwin Rollers vs Pretend
 ers
LOCATION:Baldwin Court 4
END:VEVENT
BEGIN:VEVENT
DTSTAMP:20260427T000000Z
UID:48d83a6b-6edc-4084-bd72-621b9da72b11@ClaytonBocce
DTSTART;TZID=America/Los_Angeles:20260803T183000
DTEND;TZID=America/Los_Angeles:20260803T210000
STATUS:CONFIRMED
SUMMARY:Baldwin Rollers vs Badda Bocce
URL:/League/Schedule/3267
DESCRIPTION:Regular Season match: Baldwin Rollers vs Badda B
 occe
LOCATION:Baldwin Court 2
END:VEVENT
BEGIN:VEVENT
DTSTAMP:20260427T000000Z
UID:04e5368d-c216-4bf8-8f5f-70c7341df0ff@ClaytonBocce
DTSTART;TZID=America/Los_Angeles:20260810T183000
DTEND;TZID=America/Los_Angeles:20260810T210000
STATUS:CONFIRMED
SUMMARY:Baldwin Rollers vs Kamanawannaleiya
URL:/League/Schedule/3267
DESCRIPTION:Regular Season match: Baldwin Rollers vs Kamanaw
 annaleiya
LOCATION:Baldwin Court 3
END:VEVENT
BEGIN:VEVENT
DTSTAMP:20260427T000000Z
UID:cdfc1175-1be7-4266-9ab3-ae8539380f09@ClaytonBocce
DTSTART;TZID=America/Los_Angeles:20260817T183000
DTEND;TZID=America/Los_Angeles:20260817T210000
STATUS:CONFIRMED
SUMMARY:Baldwin Rollers vs Wild Bunch
URL:/League/Schedule/3267
DESCRIPTION:Regular Season match: Baldwin Rollers vs Wild Bu
 nch
LOCATION:Baldwin Court 4
END:VEVENT
BEGIN:VEVENT
DTSTAMP:20260427T000000Z
UID:d87f62a8-4970-4fce-9761-d57f3ab5516a@ClaytonBocce
DTSTART;TZID=America/Los_Angeles:20260824T183000
DTEND;TZID=America/Los_Angeles:20260824T210000
STATUS:CONFIRMED
SUMMARY:Baldwin Rollers vs Bocce Buds & Babes
URL:/League/Schedule/3267
DESCRIPTION:Regular Season match: Baldwin Rollers vs Bocce B
 uds & Babes
LOCATION:Baldwin Court 1
END:VEVENT
END:VCALENDAR
