BEGIN:VCALENDAR
VERSION:2.0
PRODID:-//Clayton Bocce League
METHOD:PUBLISH
BEGIN:VTIMEZONE
TZID:America/Los_Angeles
X-LIC-LOCATION:America/Los_Angeles
BEGIN:DAYLIGHT
TZOFFSETFROM:-0800
TZOFFSETTO:-0700
TZNAME:PDT
DTSTART:20070311T020000
RRULE:FREQ=YEARLY;BYMONTH=3;BYDAY=2SU
END:DAYLIGHT
BEGIN:STANDARD
TZOFFSETFROM:-0700
TZOFFSETTO:-0800
TZNAME:PST
DTSTART:20071104T020000
RRULE:FREQ=YEARLY;BYMONTH=11;BYDAY=1SU
END:STANDARD
END:VTIMEZONE
BEGIN:VEVENT
DTSTAMP:20260426T000000Z
UID:3ea66074-ca01-405c-88da-0e028a19ee15@ClaytonBocce
DTSTART;TZID=America/Los_Angeles:20260508T183000
DTEND;TZID=America/Los_Angeles:20260508T210000
STATUS:CONFIRMED
SUMMARY:Whine Time vs Bella Sera
URL:/League/Schedule/3262
DESCRIPTION:Regular Season match: Whine Time vs Bella Sera
LOCATION:Newhall Court 8
END:VEVENT
BEGIN:VEVENT
DTSTAMP:20260426T000000Z
UID:21ec84f6-5b08-4330-b76e-ed519450dd69@ClaytonBocce
DTSTART;TZID=America/Los_Angeles:20260515T183000
DTEND;TZID=America/Los_Angeles:20260515T210000
STATUS:CONFIRMED
SUMMARY:Whine Time vs Stone Rollers
URL:/League/Schedule/3262
DESCRIPTION:Regular Season match: Whine Time vs Stone Roller
 s
LOCATION:Newhall Court 3
END:VEVENT
BEGIN:VEVENT
DTSTAMP:20260426T000000Z
UID:fea957cb-757c-48bd-8e06-1476ea12370b@ClaytonBocce
DTSTART;TZID=America/Los_Angeles:20260522T183000
DTEND;TZID=America/Los_Angeles:20260522T210000
STATUS:CONFIRMED
SUMMARY:Whine Time vs Ballsagna
URL:/League/Schedule/3262
DESCRIPTION:Regular Season match: Whine Time vs Ballsagna
LOCATION:Newhall Court 4
END:VEVENT
BEGIN:VEVENT
DTSTAMP:20260426T000000Z
UID:ebefee05-0577-49e1-a718-68fdd95206c3@ClaytonBocce
DTSTART;TZID=America/Los_Angeles:20260529T183000
DTEND;TZID=America/Los_Angeles:20260529T210000
STATUS:CONFIRMED
SUMMARY:Whine Time vs Team Rehab
URL:/League/Schedule/3262
DESCRIPTION:Regular Season match: Whine Time vs Team Rehab
LOCATION:Newhall Court 2
END:VEVENT
BEGIN:VEVENT
DTSTAMP:20260426T000000Z
UID:42941ffc-f9a5-47fc-9d91-a834ec0005e9@ClaytonBocce
DTSTART;TZID=America/Los_Angeles:20260605T183000
DTEND;TZID=America/Los_Angeles:20260605T210000
STATUS:CONFIRMED
SUMMARY:Whine Time vs Bossy Balls
URL:/League/Schedule/3262
DESCRIPTION:Regular Season match: Whine Time vs Bossy Balls
LOCATION:Newhall Court 6
END:VEVENT
BEGIN:VEVENT
DTSTAMP:20260426T000000Z
UID:44f38441-9b02-435e-b896-e9045d626f56@ClaytonBocce
DTSTART;TZID=America/Los_Angeles:20260612T183000
DTEND;TZID=America/Los_Angeles:20260612T210000
STATUS:CONFIRMED
SUMMARY:Whine Time vs Gli Stranneri
URL:/League/Schedule/3262
DESCRIPTION:Regular Season match: Whine Time vs Gli Stranner
 i
LOCATION:Newhall Court 1
END:VEVENT
BEGIN:VEVENT
DTSTAMP:20260426T000000Z
UID:fd134150-b3c6-44ee-b923-7c8ccf3ccbf6@ClaytonBocce
DTSTART;TZID=America/Los_Angeles:20260619T183000
DTEND;TZID=America/Los_Angeles:20260619T210000
STATUS:CONFIRMED
SUMMARY:Whine Time vs Team Badabing
URL:/League/Schedule/3262
DESCRIPTION:Regular Season match: Whine Time vs Team Badabin
 g
LOCATION:Newhall Court 4
END:VEVENT
BEGIN:VEVENT
DTSTAMP:20260426T000000Z
UID:c03dec65-17e9-4954-af92-b88dc38213c0@ClaytonBocce
DTSTART;TZID=America/Los_Angeles:20260626T183000
DTEND;TZID=America/Los_Angeles:20260626T210000
STATUS:CONFIRMED
SUMMARY:Whine Time vs Vechio Amicos
URL:/League/Schedule/3262
DESCRIPTION:Regular Season match: Whine Time vs Vechio Amico
 s
LOCATION:Newhall Court 7
END:VEVENT
BEGIN:VEVENT
DTSTAMP:20260426T000000Z
UID:eb57e42b-9392-4fd6-b8e7-a1d9dcacbb28@ClaytonBocce
DTSTART;TZID=America/Los_Angeles:20260717T183000
DTEND;TZID=America/Los_Angeles:20260717T210000
STATUS:CONFIRMED
SUMMARY:Whine Time vs Bella Sera
URL:/League/Schedule/3262
DESCRIPTION:Regular Season match: Whine Time vs Bella Sera
LOCATION:Newhall Court 5
END:VEVENT
BEGIN:VEVENT
DTSTAMP:20260426T000000Z
UID:582b3ee7-ba01-46d3-aa6b-d03e6a14dd60@ClaytonBocce
DTSTART;TZID=America/Los_Angeles:20260724T183000
DTEND;TZID=America/Los_Angeles:20260724T210000
STATUS:CONFIRMED
SUMMARY:Whine Time vs Stone Rollers
URL:/League/Schedule/3262
DESCRIPTION:Regular Season match: Whine Time vs Stone Roller
 s
LOCATION:Newhall Court 4
END:VEVENT
BEGIN:VEVENT
DTSTAMP:20260426T000000Z
UID:2649a29a-780c-47de-9256-f5c3955d3a6a@ClaytonBocce
DTSTART;TZID=America/Los_Angeles:20260731T183000
DTEND;TZID=America/Los_Angeles:20260731T210000
STATUS:CONFIRMED
SUMMARY:Whine Time vs Ballsagna
URL:/League/Schedule/3262
DESCRIPTION:Regular Season match: Whine Time vs Ballsagna
LOCATION:Newhall Court 8
END:VEVENT
BEGIN:VEVENT
DTSTAMP:20260426T000000Z
UID:4edb8cad-1bba-479d-850d-33bfe9362524@ClaytonBocce
DTSTART;TZID=America/Los_Angeles:20260807T183000
DTEND;TZID=America/Los_Angeles:20260807T210000
STATUS:CONFIRMED
SUMMARY:Whine Time vs Team Rehab
URL:/League/Schedule/3262
DESCRIPTION:Regular Season match: Whine Time vs Team Rehab
LOCATION:Newhall Court 6
END:VEVENT
BEGIN:VEVENT
DTSTAMP:20260426T000000Z
UID:f747cd21-6925-4cc9-90ac-71fa87040749@ClaytonBocce
DTSTART;TZID=America/Los_Angeles:20260814T183000
DTEND;TZID=America/Los_Angeles:20260814T210000
STATUS:CONFIRMED
SUMMARY:Whine Time vs Bossy Balls
URL:/League/Schedule/3262
DESCRIPTION:Regular Season match: Whine Time vs Bossy Balls
LOCATION:Newhall Court 5
END:VEVENT
BEGIN:VEVENT
DTSTAMP:20260426T000000Z
UID:85e36a5a-62d0-4fb0-af40-9c5f8406164f@ClaytonBocce
DTSTART;TZID=America/Los_Angeles:20260821T183000
DTEND;TZID=America/Los_Angeles:20260821T210000
STATUS:CONFIRMED
SUMMARY:Whine Time vs Gli Stranneri
URL:/League/Schedule/3262
DESCRIPTION:Regular Season match: Whine Time vs Gli Stranner
 i
LOCATION:Newhall Court 2
END:VEVENT
BEGIN:VEVENT
DTSTAMP:20260426T000000Z
UID:fdec0612-adfa-4b1d-837b-dccbd8bf8bc0@ClaytonBocce
DTSTART;TZID=America/Los_Angeles:20260828T183000
DTEND;TZID=America/Los_Angeles:20260828T210000
STATUS:CONFIRMED
SUMMARY:Whine Time vs Team Badabing
URL:/League/Schedule/3262
DESCRIPTION:Regular Season match: Whine Time vs Team Badabin
 g
LOCATION:Newhall Court 3
END:VEVENT
BEGIN:VEVENT
DTSTAMP:20260426T000000Z
UID:0cf8eb47-5100-42c3-b607-b4fa0376e7a6@ClaytonBocce
DTSTART;TZID=America/Los_Angeles:20260904T183000
DTEND;TZID=America/Los_Angeles:20260904T210000
STATUS:CONFIRMED
SUMMARY:Whine Time vs Vechio Amicos
URL:/League/Schedule/3262
DESCRIPTION:Regular Season match: Whine Time vs Vechio Amico
 s
LOCATION:Newhall Court 7
END:VEVENT
END:VCALENDAR
