BEGIN:VCALENDAR
VERSION:2.0
PRODID:-//Clayton Bocce League
METHOD:PUBLISH
BEGIN:VTIMEZONE
TZID:America/Los_Angeles
X-LIC-LOCATION:America/Los_Angeles
BEGIN:DAYLIGHT
TZOFFSETFROM:-0800
TZOFFSETTO:-0700
TZNAME:PDT
DTSTART:20070311T020000
RRULE:FREQ=YEARLY;BYMONTH=3;BYDAY=2SU
END:DAYLIGHT
BEGIN:STANDARD
TZOFFSETFROM:-0700
TZOFFSETTO:-0800
TZNAME:PST
DTSTART:20071104T020000
RRULE:FREQ=YEARLY;BYMONTH=11;BYDAY=1SU
END:STANDARD
END:VTIMEZONE
BEGIN:VEVENT
DTSTAMP:20260426T000000Z
UID:55a6a3fa-c8da-4b89-9774-604ffb69050b@ClaytonBocce
DTSTART;TZID=America/Los_Angeles:20260508T183000
DTEND;TZID=America/Los_Angeles:20260508T210000
STATUS:CONFIRMED
SUMMARY:The Crew vs Deboccery
URL:/League/Schedule/3257
DESCRIPTION:Regular Season match: The Crew vs Deboccery
LOCATION:Newhall Court 6
END:VEVENT
BEGIN:VEVENT
DTSTAMP:20260426T000000Z
UID:723a3e5a-e4e8-458c-b117-983e10d002f2@ClaytonBocce
DTSTART;TZID=America/Los_Angeles:20260515T183000
DTEND;TZID=America/Los_Angeles:20260515T210000
STATUS:CONFIRMED
SUMMARY:The Crew vs Mangia Bene
URL:/League/Schedule/3257
DESCRIPTION:Regular Season match: The Crew vs Mangia Bene
LOCATION:Newhall Court 4
END:VEVENT
BEGIN:VEVENT
DTSTAMP:20260426T000000Z
UID:73ddd83f-2ed0-44d0-93a1-e51cd7e87b52@ClaytonBocce
DTSTART;TZID=America/Los_Angeles:20260522T183000
DTEND;TZID=America/Los_Angeles:20260522T210000
STATUS:CONFIRMED
SUMMARY:The Crew vs Out 4 Fun
URL:/League/Schedule/3257
DESCRIPTION:Regular Season match: The Crew vs Out 4 Fun
LOCATION:Newhall Court 5
END:VEVENT
BEGIN:VEVENT
DTSTAMP:20260426T000000Z
UID:52c6b489-b9b1-4c21-a07e-c107f96c8437@ClaytonBocce
DTSTART;TZID=America/Los_Angeles:20260529T183000
DTEND;TZID=America/Los_Angeles:20260529T210000
STATUS:CONFIRMED
SUMMARY:The Crew vs WHABSAB
URL:/League/Schedule/3257
DESCRIPTION:Regular Season match: The Crew vs WHABSAB
LOCATION:Newhall Court 1
END:VEVENT
BEGIN:VEVENT
DTSTAMP:20260426T000000Z
UID:7988cec8-f0d7-4eb0-a226-a1bb121d9b19@ClaytonBocce
DTSTART;TZID=America/Los_Angeles:20260605T183000
DTEND;TZID=America/Los_Angeles:20260605T210000
STATUS:CONFIRMED
SUMMARY:The Crew vs Bad Bocce
URL:/League/Schedule/3257
DESCRIPTION:Regular Season match: The Crew vs Bad Bocce
LOCATION:Newhall Court 5
END:VEVENT
BEGIN:VEVENT
DTSTAMP:20260426T000000Z
UID:0460bb7c-d3eb-4f90-97bc-105e784f925e@ClaytonBocce
DTSTART;TZID=America/Los_Angeles:20260612T183000
DTEND;TZID=America/Los_Angeles:20260612T210000
STATUS:CONFIRMED
SUMMARY:The Crew vs Slow Your Roll
URL:/League/Schedule/3257
DESCRIPTION:Regular Season match: The Crew vs Slow Your Roll
LOCATION:Newhall Court 7
END:VEVENT
BEGIN:VEVENT
DTSTAMP:20260426T000000Z
UID:fb448cc1-9bb5-4dd6-a20f-84fc5f89b0b3@ClaytonBocce
DTSTART;TZID=America/Los_Angeles:20260619T183000
DTEND;TZID=America/Los_Angeles:20260619T210000
STATUS:CONFIRMED
SUMMARY:The Crew vs No Place Like Roll'em
URL:/League/Schedule/3257
DESCRIPTION:Regular Season match: The Crew vs No Place Like 
 Roll'em
LOCATION:Newhall Court 8
END:VEVENT
BEGIN:VEVENT
DTSTAMP:20260426T000000Z
UID:19a38281-bded-4080-9b86-9e35196cda3b@ClaytonBocce
DTSTART;TZID=America/Los_Angeles:20260626T183000
DTEND;TZID=America/Los_Angeles:20260626T210000
STATUS:CONFIRMED
SUMMARY:The Crew vs Eat Drink Bocce
URL:/League/Schedule/3257
DESCRIPTION:Regular Season match: The Crew vs Eat Drink Bocc
 e
LOCATION:Newhall Court 3
END:VEVENT
BEGIN:VEVENT
DTSTAMP:20260426T000000Z
UID:72cdcc2f-634b-4f40-ab02-c85b09d7d5db@ClaytonBocce
DTSTART;TZID=America/Los_Angeles:20260717T183000
DTEND;TZID=America/Los_Angeles:20260717T210000
STATUS:CONFIRMED
SUMMARY:The Crew vs Deboccery
URL:/League/Schedule/3257
DESCRIPTION:Regular Season match: The Crew vs Deboccery
LOCATION:Newhall Court 7
END:VEVENT
BEGIN:VEVENT
DTSTAMP:20260426T000000Z
UID:46e3390a-c739-4614-af8b-47db52fc5bb1@ClaytonBocce
DTSTART;TZID=America/Los_Angeles:20260724T183000
DTEND;TZID=America/Los_Angeles:20260724T210000
STATUS:CONFIRMED
SUMMARY:The Crew vs Mangia Bene
URL:/League/Schedule/3257
DESCRIPTION:Regular Season match: The Crew vs Mangia Bene
LOCATION:Newhall Court 6
END:VEVENT
BEGIN:VEVENT
DTSTAMP:20260426T000000Z
UID:c222cb6e-f267-4f73-9003-722848722ce9@ClaytonBocce
DTSTART;TZID=America/Los_Angeles:20260731T183000
DTEND;TZID=America/Los_Angeles:20260731T210000
STATUS:CONFIRMED
SUMMARY:The Crew vs Out 4 Fun
URL:/League/Schedule/3257
DESCRIPTION:Regular Season match: The Crew vs Out 4 Fun
LOCATION:Newhall Court 3
END:VEVENT
BEGIN:VEVENT
DTSTAMP:20260426T000000Z
UID:3035d1cf-113c-4c47-a3ba-773da608f91b@ClaytonBocce
DTSTART;TZID=America/Los_Angeles:20260807T183000
DTEND;TZID=America/Los_Angeles:20260807T210000
STATUS:CONFIRMED
SUMMARY:The Crew vs WHABSAB
URL:/League/Schedule/3257
DESCRIPTION:Regular Season match: The Crew vs WHABSAB
LOCATION:Newhall Court 1
END:VEVENT
BEGIN:VEVENT
DTSTAMP:20260426T000000Z
UID:488ac054-81b9-4b17-9508-e775e69770c6@ClaytonBocce
DTSTART;TZID=America/Los_Angeles:20260814T183000
DTEND;TZID=America/Los_Angeles:20260814T210000
STATUS:CONFIRMED
SUMMARY:The Crew vs Bad Bocce
URL:/League/Schedule/3257
DESCRIPTION:Regular Season match: The Crew vs Bad Bocce
LOCATION:Newhall Court 8
END:VEVENT
BEGIN:VEVENT
DTSTAMP:20260426T000000Z
UID:b1f208e8-53ef-4527-b177-668220c5e0ed@ClaytonBocce
DTSTART;TZID=America/Los_Angeles:20260821T183000
DTEND;TZID=America/Los_Angeles:20260821T210000
STATUS:CONFIRMED
SUMMARY:The Crew vs Slow Your Roll
URL:/League/Schedule/3257
DESCRIPTION:Regular Season match: The Crew vs Slow Your Roll
LOCATION:Newhall Court 6
END:VEVENT
BEGIN:VEVENT
DTSTAMP:20260426T000000Z
UID:58301ca7-8d0f-47ab-bd04-6cd452e8567d@ClaytonBocce
DTSTART;TZID=America/Los_Angeles:20260828T183000
DTEND;TZID=America/Los_Angeles:20260828T210000
STATUS:CONFIRMED
SUMMARY:The Crew vs No Place Like Roll'em
URL:/League/Schedule/3257
DESCRIPTION:Regular Season match: The Crew vs No Place Like 
 Roll'em
LOCATION:Newhall Court 1
END:VEVENT
BEGIN:VEVENT
DTSTAMP:20260426T000000Z
UID:c2e35778-b21f-4560-a3ce-264332ec12cf@ClaytonBocce
DTSTART;TZID=America/Los_Angeles:20260904T183000
DTEND;TZID=America/Los_Angeles:20260904T210000
STATUS:CONFIRMED
SUMMARY:The Crew vs Eat Drink Bocce
URL:/League/Schedule/3257
DESCRIPTION:Regular Season match: The Crew vs Eat Drink Bocc
 e
LOCATION:Newhall Court 2
END:VEVENT
END:VCALENDAR
